BEGIN:VCALENDAR
VERSION:2.0
PRODID:-//Urban Milwaukee - ECPv4.6.9//NONSGML v1.0//EN
CALSCALE:GREGORIAN
METHOD:PUBLISH
X-WR-CALNAME:Urban Milwaukee
X-ORIGINAL-URL:https://urbanmilwaukee.com
X-WR-CALDESC:Events for Urban Milwaukee
BEGIN:VEVENT
DTSTART;TZID=America/Chicago:20240301T163000
DTEND;TZID=America/Chicago:20240301T190000
DTSTAMP:20260425T185139
CREATED:20240224T065743Z
LAST-MODIFIED:20240224T065743Z
UID:763738-1709310600-1709319600@urbanmilwaukee.com
SUMMARY:St. Bernadette Parish Fish Fry
DESCRIPTION:Join us for a delicious fish fry dinner at St. Bernadette Parish! \nA $16 dinner includes: \n\n3 pieces of fish (cod)\nColeslaw\nFries\nRye roll\nTartar sauce\nLemon wedge\nCoffee\n\nAlso available for purchase: \n\nSoda\nBeer\nDesserts ($1 each)\nSmall portion dinner ($13-includes 2 pieces of fish and the sides)\nFamily bucket ($40-includes 1.5 pounds of fish and the sides)\nWe offer carryout and sit-down dining.\n\n​We can accommodate large groups. Just give the parish office a call (414-358-4600) or send an e-mail (stbernadette@nwmcp.org) ahead of time and we will reserve enough tables for your group members to sit together. \nOur facilities are handicapped accessible. \n
URL:https://urbanmilwaukee.com/event/st-bernadette-parish-fish-fry-2/
CATEGORIES:Food & Drink,Fundraiser
ATTACH;FMTTYPE=image/jpeg:https://urbanmilwaukee.com/wp-content/uploads/2024/01/FishFry_2_T_19_4c-scaled.jpeg
END:VEVENT
BEGIN:VEVENT
DTSTART;TZID=America/Chicago:20240301T193000
DTEND;TZID=America/Chicago:20240301T213000
DTSTAMP:20260425T185139
CREATED:20240224T070042Z
LAST-MODIFIED:20240224T070042Z
UID:768706-1709321400-1709328600@urbanmilwaukee.com
SUMMARY:World Percussion Night
DESCRIPTION:The UWM Percussion Area hosts World Percussion Night in the beautiful Jan Serr Studio\, featuring special guest Ko-Thi Dance Company alongside the UWM Steel PANthers Steel Band and other student ensembles. Audiences will love the upbeat\, exciting energy of African drumming and Brazilian Samba in addition to traditional and arranged music for ensembles consisting of Guatemalan marimba doble and Trinidadian steel pans performed by UWM students and faculty and vibrant community ensembles. \n
URL:https://urbanmilwaukee.com/event/world-percussion-night/
CATEGORIES:Arts & Entertainment
ATTACH;FMTTYPE=image/jpeg:https://urbanmilwaukee.com/wp-content/uploads/2020/03/UWM-logo.jpg
END:VEVENT
BEGIN:VEVENT
DTSTART;TZID=America/Chicago:20240301T200000
DTEND;TZID=America/Chicago:20240301T200000
DTSTAMP:20260425T185139
CREATED:20240225T063416Z
LAST-MODIFIED:20240225T063416Z
UID:763811-1709323200-1709323200@urbanmilwaukee.com
SUMMARY:Bandits on the Run\, John Gallagher Jr. @ Anodyne Coffee Roasting Co.
DESCRIPTION:Join Anodyne Coffee Roasting Co. for an evening of live music featuring Bandits on the Run and John Gallgher Jr.! \nBandits on the Run is the musical trio of Adrian Enscoe\, Sydney Shepherd\, and Regina Strayhorn. Formed upon a chance encounter while busking in the subways of New York City\, the Brooklyn based outfit has gone on to receive accolades from NPR Music’s All Songs Considered\, American Songwriter\, NPR Weekend Edition\, and the Johnny Mercer Songwriters Project. 2020 found them busy writing and recording their EP “Now Is The Time” with producer Ryan Hadlock (Brandi Carlile\, The Lumineers) and producing a short musical film “Band At The End Of The World” commissioned by NYC based Prospect Theater Company. \n
URL:https://urbanmilwaukee.com/event/bandits-on-the-run-john-gallagher-jr-anodyne-coffee-roasting-co/
LOCATION:224 W. Bruce St\, Milwaukee\, WI\, 53204\, United States
CATEGORIES:Arts & Entertainment
ATTACH;FMTTYPE=image/jpeg:https://urbanmilwaukee.com/wp-content/uploads/2021/11/dsc01852.jpg
END:VEVENT
BEGIN:VEVENT
DTSTART;TZID=America/Chicago:20240301T200000
DTEND;TZID=America/Chicago:20240301T220000
DTSTAMP:20260425T185139
CREATED:20240225T063529Z
LAST-MODIFIED:20240225T063529Z
UID:759744-1709323200-1709330400@urbanmilwaukee.com
SUMMARY:Guys On Ice
DESCRIPTION:One of the Stackner Cabaret’s most popular musical comedies makes its encore as we celebrate our 70th Anniversary Season and the 25th Anniversary of when this show premiered at Milwaukee Rep! Life on the lake is easy\, especially when the fish are biting\, the jokes are funny\, there’s a ‘couple two three’ beers in the bucket and the Green Bay Packers are on the field. From the warmth of their shanty ‘up north\,’ old pals Marvin and Lloyd spin wit\, wisdom and hilarious songs about life\, love and the one that got away. Don’t miss this Wisconsin musical tradition\, featuring songs like “Ode to a Snowmobile Suit” and “The Wishing Hole.” \nBooks & Lyrics by Fred Alley\nMusic by James Kaplan\nDirected & Choreographed by Jeffrey Herbst \n
URL:https://urbanmilwaukee.com/event/guys-on-ice-52/
LOCATION:108 E. Wells St.\, Milwaukee\, WI\, 53202\, United States
CATEGORIES:Arts & Entertainment
ATTACH;FMTTYPE=image/jpeg:https://urbanmilwaukee.com/wp-content/uploads/2024/01/Guys-on-Ice-1080x1080-9.jpg
END:VEVENT
BEGIN:VEVENT
DTSTART;TZID=America/Chicago:20240301T200000
DTEND;TZID=America/Chicago:20240301T220000
DTSTAMP:20260425T185139
CREATED:20240225T063647Z
LAST-MODIFIED:20240225T063647Z
UID:760955-1709323200-1709330400@urbanmilwaukee.com
SUMMARY:What the Constitution Means to Me
DESCRIPTION:Since its premiere in 2019\, this Pulitzer Prize finalist has taken the theatrical world by storm\, breathing new life into our Constitution by imagining how it will shape the next generation of Americans. As a teenager\, Heidi earned her college tuition by winning Constitutional debate competitions across the country. In this hilarious\, witty and refreshingly honest new play\, she revisits her fifteen-year-old self to trace the profound relationship between four generations of women and the lasting impact of the document that shaped their journey. \nPulitzer Prize Finalist\nBy Heidi Schreck\nDirected by Laura Braza \n
URL:https://urbanmilwaukee.com/event/what-the-constitution-means-to-me-22/
LOCATION:108 E. Wells St.\, Milwaukee\, WI\, 53202\, United States
CATEGORIES:Arts & Entertainment
ATTACH;FMTTYPE=image/jpeg:https://urbanmilwaukee.com/wp-content/uploads/2024/01/What-the-Constitution-Means-to-Me-1920x1080-26.jpg
END:VEVENT
END:VCALENDAR