BEGIN:VCALENDAR
VERSION:2.0
PRODID:-//Urban Milwaukee - ECPv4.6.9//NONSGML v1.0//EN
CALSCALE:GREGORIAN
METHOD:PUBLISH
X-WR-CALNAME:Urban Milwaukee
X-ORIGINAL-URL:https://urbanmilwaukee.com
X-WR-CALDESC:Events for Urban Milwaukee
BEGIN:VEVENT
DTSTART;TZID=America/Chicago:20240228T171500
DTEND;TZID=America/Chicago:20240228T181500
DTSTAMP:20260425T152746
CREATED:20240224T063906Z
LAST-MODIFIED:20240224T063906Z
UID:759538-1709140500-1709144100@urbanmilwaukee.com
SUMMARY:StoryStarter Workshop: Lost
DESCRIPTION:New to storytelling? Or in need of a refresh on the basics? Want to practice a story to tell at our StorySlam? This workshop is for you! \nThis workshop takes place directly before the StorySlam and is meant to be a place to workshop a story you might want to tell on-stage later that night. If you aren’t ready to throw your name in the hat\, no worries! This space is open to anyone who is interested in becoming a better storyteller\, and is a perfect way for you to connect with other storytellers before our StorySlam! \nIn this workshop experienced storytelling coaches will guide you through an interactive training covering the need-to-know details of the craft. Discover\, shape and share your stories with confidence. Space is limited\, reserve a spot today! \nThis workshop gives you: \n\nA step-by-step guide to crafting a story\nThe confidence to someday tell your story on our stage\nSimple storytelling framework you can use everyday\nThe tools to become a superb storyteller or public speaker\n\n*This ticket does not provide entry into the following StorySlam. To attend the StorySlam\, you must purchase a separate ticket. \nDiscounts for members – see coupons at checkout! \n
URL:https://urbanmilwaukee.com/event/storystarter-workshop-lost/
LOCATION:6751 W. National Ave.\, West Allis\, WI\, 53214\, United States
CATEGORIES:Arts & Entertainment,Class,Food & Drink
ATTACH;FMTTYPE=image/png:https://urbanmilwaukee.com/wp-content/uploads/2023/12/Lost-Workshop.png
END:VEVENT
BEGIN:VEVENT
DTSTART;TZID=America/Chicago:20240228T190000
DTEND;TZID=America/Chicago:20240228T203000
DTSTAMP:20260425T152746
CREATED:20240224T064025Z
LAST-MODIFIED:20240224T064025Z
UID:759543-1709146800-1709152200@urbanmilwaukee.com
SUMMARY:Ex Fabula StorySlam: Lost
DESCRIPTION:Cost: $12 advance\nOnline ticket sales will end at 2pm Feb. 28th. Tickets may be available at the door for $15.\nLimited Pay-it-forward tickets available! \nEx Fabula StorySlams are live events where community members connect and share true\, personal stories related to the night’s theme\, told without props or notes. Come just to listen – or throw your name in the hat for a chance to share a true story related to the theme ‘Lost’ At the end of the night\, the audience votes by secret ballot to crown an *Audience Favorite. \nThe audience can also be a part of the storytelling by submitting UltraShorts! These are “ultra-short” stories on the night’s theme that will be read onstage by the emcee. \nWant to practice your story before the slam? Join us for the StoryStarter workshop from 5:15-6:15pm right before the event! Get tickets to the workshop here. \n*Audience Favorite: the storyteller voted audience favorite will be invited to tell another story at ALL STARS for the chance to be crowned Season Favorite. \n
URL:https://urbanmilwaukee.com/event/ex-fabula-storyslam-lost/
LOCATION:6751 W. National Ave.\, West Allis\, WI\, 53214\, United States
CATEGORIES:Arts & Entertainment,Comedy,Food & Drink
ATTACH;FMTTYPE=image/png:https://urbanmilwaukee.com/wp-content/uploads/2023/12/Lost-Banner.png
END:VEVENT
BEGIN:VEVENT
DTSTART;TZID=America/Chicago:20240228T193000
DTEND;TZID=America/Chicago:20240228T210000
DTSTAMP:20260425T152746
CREATED:20240224T064132Z
LAST-MODIFIED:20240227T080158Z
UID:769203-1709148600-1709154000@urbanmilwaukee.com
SUMMARY:Artists Now! Guest Lecture Series: Victoria Roth
DESCRIPTION:NOTE: This is a virtual event.  \nA contemporary New York-based artist\, Roth has exhibited paintings and drawings at key galleries and museums\, such as Kate Werble Gallery. Her work has been featured in articles for HYPEBEAST and WHITEWALL\, as well as the Selected Gallery Guide NYC published by Two Coats of Paint. \nThe Peck School of the Arts Department of Art & Design proudly presents the 2023-24 Artists Now! Lecture Series featuring diverse creators working across traditional\, hybrid and emergent disciplines. Nationally and internationally recognized practitioners explore and expand the boundaries of contemporary creative visual practice through May 2024. \nZoom Link: https://wisconsin-edu.zoom.us/j/5173175108?pwd=SldvTmNpZmIvVVF1azNib0JjUlNtZz09#success \nZoom Meeting ID: 517 317 5108 \nZoom Passcode: 974465 \n
URL:https://urbanmilwaukee.com/event/__trashed-57/
LOCATION:WI
CATEGORIES:Arts & Entertainment
ATTACH;FMTTYPE=image/jpeg:https://urbanmilwaukee.com/wp-content/uploads/2024/02/web-Victoria-Roth-Ypsilon-Variations-2021-oil-on-panel-14-x-11-inches-copy.jpg
END:VEVENT
BEGIN:VEVENT
DTSTART;TZID=America/Chicago:20240228T193000
DTEND;TZID=America/Chicago:20240228T213000
DTSTAMP:20260425T152746
CREATED:20240224T064247Z
LAST-MODIFIED:20240224T064247Z
UID:759739-1709148600-1709155800@urbanmilwaukee.com
SUMMARY:Guys On Ice
DESCRIPTION:One of the Stackner Cabaret’s most popular musical comedies makes its encore as we celebrate our 70th Anniversary Season and the 25th Anniversary of when this show premiered at Milwaukee Rep! Life on the lake is easy\, especially when the fish are biting\, the jokes are funny\, there’s a ‘couple two three’ beers in the bucket and the Green Bay Packers are on the field. From the warmth of their shanty ‘up north\,’ old pals Marvin and Lloyd spin wit\, wisdom and hilarious songs about life\, love and the one that got away. Don’t miss this Wisconsin musical tradition\, featuring songs like “Ode to a Snowmobile Suit” and “The Wishing Hole.” \nBooks & Lyrics by Fred Alley\nMusic by James Kaplan\nDirected & Choreographed by Jeffrey Herbst \n
URL:https://urbanmilwaukee.com/event/guys-on-ice-50/
LOCATION:108 E. Wells St.\, Milwaukee\, WI\, 53202\, United States
CATEGORIES:Arts & Entertainment
ATTACH;FMTTYPE=image/jpeg:https://urbanmilwaukee.com/wp-content/uploads/2024/01/Guys-on-Ice-1080x1080-7.jpg
END:VEVENT
END:VCALENDAR