BEGIN:VCALENDAR
VERSION:2.0
PRODID:-//Urban Milwaukee - ECPv4.6.9//NONSGML v1.0//EN
CALSCALE:GREGORIAN
METHOD:PUBLISH
X-WR-CALNAME:Urban Milwaukee
X-ORIGINAL-URL:https://urbanmilwaukee.com
X-WR-CALDESC:Events for Urban Milwaukee
BEGIN:VEVENT
DTSTART;TZID=America/Chicago:20240218T100000
DTEND;TZID=America/Chicago:20240218T170000
DTSTAMP:20260424T221440
CREATED:20240216T074811Z
LAST-MODIFIED:20240216T074811Z
UID:764874-1708250400-1708275600@urbanmilwaukee.com
SUMMARY:Free Day + Celebration: Vel Phillips’s 100th Birthday
DESCRIPTION:Join the Milwaukee Art Museum for the first event in the Museum’s new Free Day + Celebration series featuring free admission and campus-wide themed activities! At this kick-off event\, honor hometown hero Vel Phillips on her 100th birthday. Make art\, tour the galleries\, enjoy live music\, and more—all while celebrating Vel Phillips’s legacy of social justice. \nIn partnership with the Vel Phillips Legacy Initiative\, the Museum is excited to kick off the Year of Vel Phillips with this Free Day + Celebration in her honor. \n
URL:https://urbanmilwaukee.com/event/free-day-celebration-vel-phillipss-100th-birthday/
LOCATION:700 N Art Museum Dr\, Milwaukee\, WI\, 53202\, United States
CATEGORIES:Arts & Entertainment
ATTACH;FMTTYPE=image/jpeg:https://urbanmilwaukee.com/wp-content/uploads/2024/01/RS17681_202205_SPE_DABlockParty_MattHaas23-hrj-scaled.jpg
ORGANIZER;CN="Milwaukee%20Art%20Museum":MAILTO:mam@mam.org
END:VEVENT
BEGIN:VEVENT
DTSTART;TZID=America/Chicago:20240218T140000
DTEND;TZID=America/Chicago:20240218T160000
DTSTAMP:20260424T221440
CREATED:20240216T074936Z
LAST-MODIFIED:20240216T074936Z
UID:756083-1708264800-1708272000@urbanmilwaukee.com
SUMMARY:Guys On Ice
DESCRIPTION:One of the Stackner Cabaret’s most popular musical comedies makes its encore as we celebrate our 70th Anniversary Season and the 25th Anniversary of when this show premiered at Milwaukee Rep! Life on the lake is easy\, especially when the fish are biting\, the jokes are funny\, there’s a ‘couple two three’ beers in the bucket and the Green Bay Packers are on the field. From the warmth of their shanty ‘up north\,’ old pals Marvin and Lloyd spin wit\, wisdom and hilarious songs about life\, love and the one that got away. Don’t miss this Wisconsin musical tradition\, featuring songs like “Ode to a Snowmobile Suit” and “The Wishing Hole.” \nBooks & Lyrics by Fred Alley\nMusic by James Kaplan\nDirected & Choreographed by Jeffrey Herbst \n
URL:https://urbanmilwaukee.com/event/guys-on-ice-39/
LOCATION:108 E. Wells St.\, Milwaukee\, WI\, 53202\, United States
CATEGORIES:Arts & Entertainment
ATTACH;FMTTYPE=image/jpeg:https://urbanmilwaukee.com/wp-content/uploads/2023/12/Guys-on-Ice-1920x1080-41.jpg
END:VEVENT
BEGIN:VEVENT
DTSTART;TZID=America/Chicago:20240218T140000
DTEND;TZID=America/Chicago:20240218T160000
DTSTAMP:20260424T221440
CREATED:20240216T075058Z
LAST-MODIFIED:20240216T075058Z
UID:760841-1708264800-1708272000@urbanmilwaukee.com
SUMMARY:Little Women
DESCRIPTION:This endearing tale of family\, friendship\, love and adventure never fails to tug on the heartstrings\, and with a new adaptation by prolific playwright Kate Hamill\, it’s never been more resonant. During the years of the Civil War\, ambitious 15-year-old Jo March and her sisters must navigate hardships\, heartbreak and humility as they come of age in a world bound by class and tragedy. Tender and playful\, this incredible production will help you fall in love all over again with these four young dreamers as they discover themselves in a country divided. Little Women is the third production in our Classics Initiative. \nBy Kate Hamill\nDirected by Marti Lyons\nAdapted from the novel by Louisa May Alcott \n
URL:https://urbanmilwaukee.com/event/little-women-24/
LOCATION:108 E. Wells St.\, Milwaukee\, WI\, 53202\, United States
CATEGORIES:Arts & Entertainment
ATTACH;FMTTYPE=image/png:https://urbanmilwaukee.com/wp-content/uploads/2024/01/Little-Women1200x900-37.png
END:VEVENT
BEGIN:VEVENT
DTSTART;TZID=America/Chicago:20240218T140000
DTEND;TZID=America/Chicago:20240218T160000
DTSTAMP:20260424T221440
CREATED:20240216T075201Z
LAST-MODIFIED:20240216T075201Z
UID:760921-1708264800-1708272000@urbanmilwaukee.com
SUMMARY:What the Constitution Means to Me
DESCRIPTION:Since its premiere in 2019\, this Pulitzer Prize finalist has taken the theatrical world by storm\, breathing new life into our Constitution by imagining how it will shape the next generation of Americans. As a teenager\, Heidi earned her college tuition by winning Constitutional debate competitions across the country. In this hilarious\, witty and refreshingly honest new play\, she revisits her fifteen-year-old self to trace the profound relationship between four generations of women and the lasting impact of the document that shaped their journey. \nPulitzer Prize Finalist\nBy Heidi Schreck\nDirected by Laura Braza \n
URL:https://urbanmilwaukee.com/event/what-the-constitution-means-to-me-11/
LOCATION:108 E. Wells St.\, Milwaukee\, WI\, 53202\, United States
CATEGORIES:Arts & Entertainment
ATTACH;FMTTYPE=image/jpeg:https://urbanmilwaukee.com/wp-content/uploads/2024/01/What-the-Constitution-Means-to-Me-1920x1080-14.jpg
END:VEVENT
BEGIN:VEVENT
DTSTART;TZID=America/Chicago:20240218T190000
DTEND;TZID=America/Chicago:20240218T210000
DTSTAMP:20260424T221440
CREATED:20240216T075352Z
LAST-MODIFIED:20240216T075352Z
UID:756085-1708282800-1708290000@urbanmilwaukee.com
SUMMARY:Guys On Ice
DESCRIPTION:One of the Stackner Cabaret’s most popular musical comedies makes its encore as we celebrate our 70th Anniversary Season and the 25th Anniversary of when this show premiered at Milwaukee Rep! Life on the lake is easy\, especially when the fish are biting\, the jokes are funny\, there’s a ‘couple two three’ beers in the bucket and the Green Bay Packers are on the field. From the warmth of their shanty ‘up north\,’ old pals Marvin and Lloyd spin wit\, wisdom and hilarious songs about life\, love and the one that got away. Don’t miss this Wisconsin musical tradition\, featuring songs like “Ode to a Snowmobile Suit” and “The Wishing Hole.” \nBooks & Lyrics by Fred Alley\nMusic by James Kaplan\nDirected & Choreographed by Jeffrey Herbst \n
URL:https://urbanmilwaukee.com/event/guys-on-ice-40/
LOCATION:108 E. Wells St.\, Milwaukee\, WI\, 53202\, United States
CATEGORIES:Arts & Entertainment
ATTACH;FMTTYPE=image/jpeg:https://urbanmilwaukee.com/wp-content/uploads/2023/12/Guys-on-Ice-1920x1080-42.jpg
END:VEVENT
BEGIN:VEVENT
DTSTART;TZID=America/Chicago:20240218T190000
DTEND;TZID=America/Chicago:20240218T210000
DTSTAMP:20260424T221440
CREATED:20240216T075444Z
LAST-MODIFIED:20240216T075444Z
UID:760925-1708282800-1708290000@urbanmilwaukee.com
SUMMARY:What the Constitution Means to Me
DESCRIPTION:Since its premiere in 2019\, this Pulitzer Prize finalist has taken the theatrical world by storm\, breathing new life into our Constitution by imagining how it will shape the next generation of Americans. As a teenager\, Heidi earned her college tuition by winning Constitutional debate competitions across the country. In this hilarious\, witty and refreshingly honest new play\, she revisits her fifteen-year-old self to trace the profound relationship between four generations of women and the lasting impact of the document that shaped their journey. \nPulitzer Prize Finalist\nBy Heidi Schreck\nDirected by Laura Braza \n
URL:https://urbanmilwaukee.com/event/what-the-constitution-means-to-me-12/
LOCATION:108 E. Wells St.\, Milwaukee\, WI\, 53202\, United States
CATEGORIES:Arts & Entertainment
ATTACH;FMTTYPE=image/jpeg:https://urbanmilwaukee.com/wp-content/uploads/2024/01/What-the-Constitution-Means-to-Me-1920x1080-15.jpg
END:VEVENT
END:VCALENDAR