BEGIN:VCALENDAR
VERSION:2.0
PRODID:-//Urban Milwaukee - ECPv4.6.9//NONSGML v1.0//EN
CALSCALE:GREGORIAN
METHOD:PUBLISH
X-WR-CALNAME:Urban Milwaukee
X-ORIGINAL-URL:https://urbanmilwaukee.com
X-WR-CALDESC:Events for Urban Milwaukee
BEGIN:VEVENT
DTSTART;TZID=America/Chicago:20240216T110000
DTEND;TZID=America/Chicago:20240216T160000
DTSTAMP:20260424T191122
CREATED:20240215T065410Z
LAST-MODIFIED:20240215T065410Z
UID:765083-1708081200-1708099200@urbanmilwaukee.com
SUMMARY:Versiti Blood Drive
DESCRIPTION:Help us save lives by donating blood at Versiti’s Blood Drive on Friday\, February 16th at Bayshore! Your support saves lives\, including those with sickle cell disease. The approximately 100\,000 Americans with this inherited blood disorder can experience severe pain and often require blood transfusions as a form of treatment. Every day\, Versiti Blood Center of Wisconsin needs more than 640 blood products to meet hospital demand. All donations go back to help people in our communities! Secure your appointment today and thank you for helping save lives! \n
URL:https://urbanmilwaukee.com/event/versiti-blood-drive-4/
CATEGORIES:Fundraiser,Health
ATTACH;FMTTYPE=image/png:https://urbanmilwaukee.com/wp-content/uploads/2024/01/5.11-everyday-1080x1080-1.png
END:VEVENT
BEGIN:VEVENT
DTSTART;TZID=America/Chicago:20240216T163000
DTEND;TZID=America/Chicago:20240216T190000
DTSTAMP:20260424T191122
CREATED:20240215T065606Z
LAST-MODIFIED:20240215T065606Z
UID:763734-1708101000-1708110000@urbanmilwaukee.com
SUMMARY:St. Bernadette Parish Fish Fry
DESCRIPTION:Join us for a delicious fish fry dinner. A $16 dinner includes:\n3 pieces of fish (cod)\ncoleslaw\nfries\nrye roll\ntartar sauce\nlemon wedge\ncoffee \nAlso available for purchase:\nsoda\nbeer\ndesserts ($1 each)\nsmall portion dinner ($13-includes 2 pieces of fish and the sides)\nfamily bucket ($40-includes 1.5 pounds of fish and the sides) \nWe offer carryout and sit-down dining. \n​We can accommodate large groups. Just give the parish office a call (414-358-4600) or send an e-mail (stbernadette@nwmcp.org) ahead of time and we will reserve enough tables for your group members to sit together. \nOur facilities are handicapped accessible. \n
URL:https://urbanmilwaukee.com/event/st-bernadette-parish-fish-fry/
CATEGORIES:Food & Drink,Fundraiser
ATTACH;FMTTYPE=image/jpeg:https://urbanmilwaukee.com/wp-content/uploads/2024/01/0_FishFriy_18_4c.jpg
END:VEVENT
BEGIN:VEVENT
DTSTART;TZID=America/Chicago:20240216T190000
DTEND;TZID=America/Chicago:20240216T220000
DTSTAMP:20260424T191122
CREATED:20240215T065752Z
LAST-MODIFIED:20240215T065752Z
UID:761244-1708110000-1708120800@urbanmilwaukee.com
SUMMARY:Eric Diamond Live! Neil Diamond Tribute
DESCRIPTION:Come out to SIP MKE and enjoy live music courtesy of Eric Diamond. Eric Diamond Productions features the Midwest’s Best Neil Diamond Tribute Artist and the best nostalgic “songs-you-thought-you-forgot” from the ’60s thru the ’90s. No cover charge. First come\, first served seating. \n
URL:https://urbanmilwaukee.com/event/eric-diamond-live-neil-diamond-tribute-3/
LOCATION:1515 W Mequon Road\, Mequon\, Wisconsin\, 53092\, Tanzania\, United Republic of
CATEGORIES:Arts & Entertainment,Food & Drink
ATTACH;FMTTYPE=image/jpeg:https://urbanmilwaukee.com/wp-content/uploads/2024/01/0216-Eric-Diamond-LIVE-Neil-Diamond-Tribute.jpg
ORGANIZER;CN="SIP%20MKE":MAILTO:jackie@sipmke.com
END:VEVENT
BEGIN:VEVENT
DTSTART;TZID=America/Chicago:20240216T193000
DTEND;TZID=America/Chicago:20240216T213000
DTSTAMP:20260424T191122
CREATED:20240215T065859Z
LAST-MODIFIED:20240215T065859Z
UID:767836-1708111800-1708119000@urbanmilwaukee.com
SUMMARY:UWM Wind Ensemble & Symphony Band
DESCRIPTION:The UWM Wind Ensemble & Symphony Band will perform on respective halves of this concert. \nThe Wind Ensemble is the premier concert band in the Peck School of the Arts and has been recognized nationally and internationally through numerous invitations to perform at major music conferences. Emphasizing the single performer concept\, the Wind Ensemble uses only players needed for a given piece\, thus providing the greatest exposure for the exceptional musician. \nThe Symphony Band ranks as one of the finest of its kind\, having collaborated with several distinguished composers and performers. Comprised primarily of music majors\, the ensemble provides a wide range of repertoire and performs approximately six concerts each year. \n
URL:https://urbanmilwaukee.com/event/uwm-wind-ensemble-symphony-band/
LOCATION:2419 E Kenwood Blvd\, Milwaukee\, WI\, 53211
CATEGORIES:Arts & Entertainment
ATTACH;FMTTYPE=image/jpeg:https://urbanmilwaukee.com/wp-content/uploads/2024/02/UWM-Wind-Ensemble-Symphony-Band.jpg
END:VEVENT
BEGIN:VEVENT
DTSTART;TZID=America/Chicago:20240216T200000
DTEND;TZID=America/Chicago:20240216T213000
DTSTAMP:20260424T191122
CREATED:20240215T070155Z
LAST-MODIFIED:20240215T070155Z
UID:765318-1708113600-1708119000@urbanmilwaukee.com
SUMMARY:Valentine’s Comedy & Magic @ The Romantic Brumder Mansion with Two Brothers One Mind
DESCRIPTION:Come Celebrate Valentine’s Weekend at The Romantic Brumder Mansion with Comedians & Magicians Two Brothers One Mind! \nWelcome to a world where the impossible is possible. For nearly two decades\, Chad & Jeff Orr\, have been continually leaving audiences stunned and with smiles on their faces. Witness as the real life siblings incredibly transmit YOUR randomly suggested thoughts from one Brother to the other. \nBorn and raised in Milwaukee\, Wisconsin the Brothers eventually made their way to the West Coast and began performing for large crowds on the Venice Beach Boardwalk. Word spread quickly about them\, and shortly after\, they were performing on stage with world famous comedians at some of the largest comedy clubs in Hollywood such as The Comedy Store\, Icehouse\, The Improv\, and The Jon Lovitz Comedy Club in the Universal Studios Citywalk. \nSince then\, they have performed on television and radio along with every type of venue you can imagine from large festivals\, to VIP Suites at National Conventions\, and also the headlining entertainment for The Milwaukee Bucks 50th Anniversary celebration. Now it’s your chance to come witness The Brothers and see why the celebrity judges on America’s Got Talent gave them a YES!! \nDoors will open 30 minutes before the show. During this time\, enjoy a tour of the historical mansion\, hear about the ghosts that continue to haunt the rooms today\, and learn about the underground tunnels that were once used by Al Capone’s gangsters. \nFREE PARKING \nTo Reserve a Room at the Brumder Mansion: \nCall (414) 342-9767 or\nText (702) 808-2242\nrooms@BrumderMansion.com \n
URL:https://urbanmilwaukee.com/event/valentines-comedy-magic-the-romantic-brumder-mansion-with-two-brothers-one-mind/
LOCATION:3046 W Wisconsin Ave\, Milwaukee\, WI\, 53208\, United States
CATEGORIES:Arts & Entertainment,Comedy
ATTACH;FMTTYPE=image/jpeg:https://urbanmilwaukee.com/wp-content/uploads/2024/01/IMG_1736.jpeg
END:VEVENT
BEGIN:VEVENT
DTSTART;TZID=America/Chicago:20240216T200000
DTEND;TZID=America/Chicago:20240216T220000
DTSTAMP:20260424T191122
CREATED:20240215T070354Z
LAST-MODIFIED:20240215T070354Z
UID:756077-1708113600-1708120800@urbanmilwaukee.com
SUMMARY:Guys On Ice
DESCRIPTION:One of the Stackner Cabaret’s most popular musical comedies makes its encore as we celebrate our 70th Anniversary Season and the 25th Anniversary of when this show premiered at Milwaukee Rep! Life on the lake is easy\, especially when the fish are biting\, the jokes are funny\, there’s a ‘couple two three’ beers in the bucket and the Green Bay Packers are on the field. From the warmth of their shanty ‘up north\,’ old pals Marvin and Lloyd spin wit\, wisdom and hilarious songs about life\, love and the one that got away. Don’t miss this Wisconsin musical tradition\, featuring songs like “Ode to a Snowmobile Suit” and “The Wishing Hole.” \nBooks & Lyrics by Fred Alley\nMusic by James Kaplan\nDirected & Choreographed by Jeffrey Herbst \n
URL:https://urbanmilwaukee.com/event/guys-on-ice-36/
LOCATION:108 E. Wells St.\, Milwaukee\, WI\, 53202\, United States
CATEGORIES:Arts & Entertainment
ATTACH;FMTTYPE=image/jpeg:https://urbanmilwaukee.com/wp-content/uploads/2023/12/Guys-on-Ice-1920x1080-38.jpg
END:VEVENT
BEGIN:VEVENT
DTSTART;TZID=America/Chicago:20240216T200000
DTEND;TZID=America/Chicago:20240216T220000
DTSTAMP:20260424T191122
CREATED:20240215T070518Z
LAST-MODIFIED:20240215T070518Z
UID:760835-1708113600-1708120800@urbanmilwaukee.com
SUMMARY:Little Women
DESCRIPTION:This endearing tale of family\, friendship\, love and adventure never fails to tug on the heartstrings\, and with a new adaptation by prolific playwright Kate Hamill\, it’s never been more resonant. During the years of the Civil War\, ambitious 15-year-old Jo March and her sisters must navigate hardships\, heartbreak and humility as they come of age in a world bound by class and tragedy. Tender and playful\, this incredible production will help you fall in love all over again with these four young dreamers as they discover themselves in a country divided. Little Women is the third production in our Classics Initiative. \nBy Kate Hamill\nDirected by Marti Lyons\nAdapted from the novel by Louisa May Alcott \n
URL:https://urbanmilwaukee.com/event/little-women-21/
LOCATION:108 E. Wells St.\, Milwaukee\, WI\, 53202\, United States
CATEGORIES:Arts & Entertainment
ATTACH;FMTTYPE=image/png:https://urbanmilwaukee.com/wp-content/uploads/2024/01/Little-Women1200x900-34.png
END:VEVENT
BEGIN:VEVENT
DTSTART;TZID=America/Chicago:20240216T200000
DTEND;TZID=America/Chicago:20240216T220000
DTSTAMP:20260424T191122
CREATED:20240215T070635Z
LAST-MODIFIED:20240215T070635Z
UID:760912-1708113600-1708120800@urbanmilwaukee.com
SUMMARY:What the Constitution Means to Me
DESCRIPTION:Since its premiere in 2019\, this Pulitzer Prize finalist has taken the theatrical world by storm\, breathing new life into our Constitution by imagining how it will shape the next generation of Americans. As a teenager\, Heidi earned her college tuition by winning Constitutional debate competitions across the country. In this hilarious\, witty and refreshingly honest new play\, she revisits her fifteen-year-old self to trace the profound relationship between four generations of women and the lasting impact of the document that shaped their journey. \nPulitzer Prize Finalist\nBy Heidi Schreck\nDirected by Laura Braza \n
URL:https://urbanmilwaukee.com/event/what-the-constitution-means-to-me-8/
LOCATION:108 E. Wells St.\, Milwaukee\, WI\, 53202\, United States
CATEGORIES:Arts & Entertainment
ATTACH;FMTTYPE=image/jpeg:https://urbanmilwaukee.com/wp-content/uploads/2024/01/What-the-Constitution-Means-to-Me-1920x1080-11.jpg
END:VEVENT
END:VCALENDAR