BEGIN:VCALENDAR
VERSION:2.0
PRODID:-//Urban Milwaukee - ECPv4.6.9//NONSGML v1.0//EN
CALSCALE:GREGORIAN
METHOD:PUBLISH
X-WR-CALNAME:Urban Milwaukee
X-ORIGINAL-URL:https://urbanmilwaukee.com
X-WR-CALDESC:Events for Urban Milwaukee
BEGIN:VEVENT
DTSTART;TZID=America/Chicago:20240210T110000
DTEND;TZID=America/Chicago:20240210T140000
DTSTAMP:20260424T095342
CREATED:20240201T055155Z
LAST-MODIFIED:20240201T055155Z
UID:765109-1707562800-1707573600@urbanmilwaukee.com
SUMMARY:Third Annual Downtown Ice CAPE-ade
DESCRIPTION:Share the ice with the heroes you know and love! The superhero-themed event provides families with free skate rentals\, and an opportunity to meet Milwaukee’s mightiest heroes. Guests can skate alongside costumed superheroes for an epic afternoon of fun\, plus meet everyday heroes from the Milwaukee Fire Department and Milwaukee Police Department. Sporting their alter egos\, the DASH Speedskating Team will be on the ice dressed in disguise. Attendees are encouraged to dress up as their favorite hero or grab one of the capes available for giveaway\, while supplies last. \n
URL:https://urbanmilwaukee.com/event/third-annual-downtown-ice-cape-ade/
LOCATION:920 N Water St\, Milwaukee\, WI\, 53202\, United States
CATEGORIES:Active,Kids
ATTACH;FMTTYPE=image/jpeg:https://urbanmilwaukee.com/wp-content/uploads/2024/01/Untitled.jpg
END:VEVENT
BEGIN:VEVENT
DTSTART;TZID=America/Chicago:20240210T150000
DTEND;TZID=America/Chicago:20240210T170000
DTSTAMP:20260424T095342
CREATED:20240201T055333Z
LAST-MODIFIED:20240201T055333Z
UID:756061-1707577200-1707584400@urbanmilwaukee.com
SUMMARY:Guys On Ice
DESCRIPTION:One of the Stackner Cabaret’s most popular musical comedies makes its encore as we celebrate our 70th Anniversary Season and the 25th Anniversary of when this show premiered at Milwaukee Rep! Life on the lake is easy\, especially when the fish are biting\, the jokes are funny\, there’s a ‘couple two three’ beers in the bucket and the Green Bay Packers are on the field. From the warmth of their shanty ‘up north\,’ old pals Marvin and Lloyd spin wit\, wisdom and hilarious songs about life\, love and the one that got away. Don’t miss this Wisconsin musical tradition\, featuring songs like “Ode to a Snowmobile Suit” and “The Wishing Hole.” \nBooks & Lyrics by Fred Alley\nMusic by James Kaplan\nDirected & Choreographed by Jeffrey Herbst \n
URL:https://urbanmilwaukee.com/event/guys-on-ice-31/
LOCATION:108 E. Wells St.\, Milwaukee\, WI\, 53202\, United States
CATEGORIES:Arts & Entertainment
ATTACH;FMTTYPE=image/jpeg:https://urbanmilwaukee.com/wp-content/uploads/2023/12/Guys-on-Ice-1920x1080-31.jpg
END:VEVENT
BEGIN:VEVENT
DTSTART;TZID=America/Chicago:20240210T150000
DTEND;TZID=America/Chicago:20240210T170000
DTSTAMP:20260424T095342
CREATED:20240201T055700Z
LAST-MODIFIED:20240201T055700Z
UID:760821-1707577200-1707584400@urbanmilwaukee.com
SUMMARY:Little Women
DESCRIPTION:This endearing tale of family\, friendship\, love and adventure never fails to tug on the heartstrings\, and with a new adaptation by prolific playwright Kate Hamill\, it’s never been more resonant. During the years of the Civil War\, ambitious 15-year-old Jo March and her sisters must navigate hardships\, heartbreak and humility as they come of age in a world bound by class and tragedy. Tender and playful\, this incredible production will help you fall in love all over again with these four young dreamers as they discover themselves in a country divided. Little Women is the third production in our Classics Initiative. \nBy Kate Hamill\nDirected by Marti Lyons\nAdapted from the novel by Louisa May Alcott \n
URL:https://urbanmilwaukee.com/event/little-women-17/
LOCATION:108 E. Wells St.\, Milwaukee\, WI\, 53202\, United States
CATEGORIES:Arts & Entertainment
ATTACH;FMTTYPE=image/png:https://urbanmilwaukee.com/wp-content/uploads/2024/01/Little-Women1200x900-27.png
END:VEVENT
BEGIN:VEVENT
DTSTART;TZID=America/Chicago:20240210T150000
DTEND;TZID=America/Chicago:20240210T170000
DTSTAMP:20260424T095342
CREATED:20240201T055806Z
LAST-MODIFIED:20240201T055806Z
UID:760892-1707577200-1707584400@urbanmilwaukee.com
SUMMARY:What the Constitution Means to Me
DESCRIPTION:Since its premiere in 2019\, this Pulitzer Prize finalist has taken the theatrical world by storm\, breathing new life into our Constitution by imagining how it will shape the next generation of Americans. As a teenager\, Heidi earned her college tuition by winning Constitutional debate competitions across the country. In this hilarious\, witty and refreshingly honest new play\, she revisits her fifteen-year-old self to trace the profound relationship between four generations of women and the lasting impact of the document that shaped their journey. \nPulitzer Prize Finalist\nBy Heidi Schreck\nDirected by Laura Braza \n
URL:https://urbanmilwaukee.com/event/what-the-constitution-means-to-me-4/
LOCATION:108 E. Wells St.\, Milwaukee\, WI\, 53202\, United States
CATEGORIES:Arts & Entertainment
ATTACH;FMTTYPE=image/jpeg:https://urbanmilwaukee.com/wp-content/uploads/2024/01/What-the-Constitution-Means-to-Me-1920x1080-4.jpg
END:VEVENT
BEGIN:VEVENT
DTSTART;TZID=America/Chicago:20240210T193000
DTEND;TZID=America/Chicago:20240210T220000
DTSTAMP:20260424T095342
CREATED:20240201T055912Z
LAST-MODIFIED:20240201T055912Z
UID:737122-1707593400-1707602400@urbanmilwaukee.com
SUMMARY:Milwaukee Ballet Presents: GENESIS
DESCRIPTION:Milwaukee’s favorite choreographic competition returns! Three talented choreographers\, hand-selected by Michael Pink\, will be challenged to develop a dynamic\, boundary-stretching piece in only three weeks. Votes are cast each night of the performance and the overall winner receives the opportunity to return to create another work for Milwaukee Ballet. Be part of shaping the future of contemporary ballet when you attend Genesis International Choreographic Competition. \n
URL:https://urbanmilwaukee.com/event/milwaukee-ballet-presents-genesis-3/
LOCATION:144 E. Wells St.\, Milwaukee\, WI\, 53202
CATEGORIES:Arts & Entertainment
ATTACH;FMTTYPE=image/jpeg:https://urbanmilwaukee.com/wp-content/uploads/2023/08/Genesis-2.jpg
END:VEVENT
BEGIN:VEVENT
DTSTART;TZID=America/Chicago:20240210T193000
DTEND;TZID=America/Chicago:20240210T223000
DTSTAMP:20260424T095342
CREATED:20240201T060228Z
LAST-MODIFIED:20240201T060228Z
UID:760068-1707593400-1707604200@urbanmilwaukee.com
SUMMARY:Var Gallery Presents: Ain't No Guestlist w/ Emmitt James
DESCRIPTION:Emmitt James makes his return back to the Var Gallery for Ain’t No Guestlist Saturday February 10th. James will be celebrating his 31st birthday with a live performance featuring the Stankface Quartet. \nOn theme of turning 31\, tickets are $31 and ONLY 31 people can be there in attendance. There will also be a walking taco bar with drinks available for purchase curtesy of the Var Gallery. \nThis is an intimate show and it will sell out. My advice is not to wait until the last minute. \n$31 – Gen Admin – includes entry and first walking taco on me \n$50 – BYOB (Bring Yo Own Bae) – includes entry for 2 first walking taco on me \n$10 – This tix is because you cannot make it physically but you still wanted to bless your boy with some birthday change. Ppreciate you! \n
URL:https://urbanmilwaukee.com/event/var-gallery-presents-aint-no-guestlist-w-emmitt-james/
LOCATION:643 S. 2nd St. \, Milwaukee\, WI\, 53204\, United States
CATEGORIES:Arts & Entertainment
ATTACH;FMTTYPE=image/png:https://urbanmilwaukee.com/wp-content/uploads/2024/01/var-gallery-fb-event.png
END:VEVENT
BEGIN:VEVENT
DTSTART;TZID=America/Chicago:20240210T200000
DTEND;TZID=America/Chicago:20240210T220000
DTSTAMP:20260424T095342
CREATED:20240201T060423Z
LAST-MODIFIED:20240201T060423Z
UID:756064-1707595200-1707602400@urbanmilwaukee.com
SUMMARY:Guys On Ice
DESCRIPTION:One of the Stackner Cabaret’s most popular musical comedies makes its encore as we celebrate our 70th Anniversary Season and the 25th Anniversary of when this show premiered at Milwaukee Rep! Life on the lake is easy\, especially when the fish are biting\, the jokes are funny\, there’s a ‘couple two three’ beers in the bucket and the Green Bay Packers are on the field. From the warmth of their shanty ‘up north\,’ old pals Marvin and Lloyd spin wit\, wisdom and hilarious songs about life\, love and the one that got away. Don’t miss this Wisconsin musical tradition\, featuring songs like “Ode to a Snowmobile Suit” and “The Wishing Hole.” \nBooks & Lyrics by Fred Alley\nMusic by James Kaplan\nDirected & Choreographed by Jeffrey Herbst \n
URL:https://urbanmilwaukee.com/event/guys-on-ice-32/
LOCATION:108 E. Wells St.\, Milwaukee\, WI\, 53202\, United States
CATEGORIES:Arts & Entertainment
ATTACH;FMTTYPE=image/jpeg:https://urbanmilwaukee.com/wp-content/uploads/2023/12/Guys-on-Ice-1920x1080-32.jpg
END:VEVENT
BEGIN:VEVENT
DTSTART;TZID=America/Chicago:20240210T200000
DTEND;TZID=America/Chicago:20240210T220000
DTSTAMP:20260424T095342
CREATED:20240201T060535Z
LAST-MODIFIED:20240201T060535Z
UID:760823-1707595200-1707602400@urbanmilwaukee.com
SUMMARY:Little Women
DESCRIPTION:This endearing tale of family\, friendship\, love and adventure never fails to tug on the heartstrings\, and with a new adaptation by prolific playwright Kate Hamill\, it’s never been more resonant. During the years of the Civil War\, ambitious 15-year-old Jo March and her sisters must navigate hardships\, heartbreak and humility as they come of age in a world bound by class and tragedy. Tender and playful\, this incredible production will help you fall in love all over again with these four young dreamers as they discover themselves in a country divided. Little Women is the third production in our Classics Initiative. \nBy Kate Hamill\nDirected by Marti Lyons\nAdapted from the novel by Louisa May Alcott \n
URL:https://urbanmilwaukee.com/event/little-women-18/
LOCATION:108 E. Wells St.\, Milwaukee\, WI\, 53202\, United States
CATEGORIES:Arts & Entertainment
ATTACH;FMTTYPE=image/png:https://urbanmilwaukee.com/wp-content/uploads/2024/01/Little-Women1200x900-28.png
END:VEVENT
BEGIN:VEVENT
DTSTART;TZID=America/Chicago:20240210T200000
DTEND;TZID=America/Chicago:20240210T220000
DTSTAMP:20260424T095342
CREATED:20240201T060658Z
LAST-MODIFIED:20240201T060658Z
UID:760895-1707595200-1707602400@urbanmilwaukee.com
SUMMARY:What the Constitution Means to Me
DESCRIPTION:Since its premiere in 2019\, this Pulitzer Prize finalist has taken the theatrical world by storm\, breathing new life into our Constitution by imagining how it will shape the next generation of Americans. As a teenager\, Heidi earned her college tuition by winning Constitutional debate competitions across the country. In this hilarious\, witty and refreshingly honest new play\, she revisits her fifteen-year-old self to trace the profound relationship between four generations of women and the lasting impact of the document that shaped their journey. \nPulitzer Prize Finalist\nBy Heidi Schreck\nDirected by Laura Braza \n
URL:https://urbanmilwaukee.com/event/what-the-constitution-means-to-me-5/
LOCATION:108 E. Wells St.\, Milwaukee\, WI\, 53202\, United States
CATEGORIES:Arts & Entertainment
ATTACH;FMTTYPE=image/jpeg:https://urbanmilwaukee.com/wp-content/uploads/2024/01/What-the-Constitution-Means-to-Me-1920x1080-5.jpg
END:VEVENT
BEGIN:VEVENT
DTSTART;TZID=America/Chicago:20240210T200000
DTEND;TZID=America/Chicago:20240210T220000
DTSTAMP:20260424T095342
CREATED:20240201T060801Z
LAST-MODIFIED:20240201T060801Z
UID:762450-1707595200-1707602400@urbanmilwaukee.com
SUMMARY:Laughing Liberally Milwaukee
DESCRIPTION:With right wing attacks on LGBTQ rights\, abortion rights\, voting rights and more\, we need progressive laughs now more than ever. That’s why we’re excited to present Laughing Liberally Milwaukee\, a monthly progressive political comedy show featuring Milwaukee’s top liberal and progressive comedians. \nLaughing Liberally Milwaukee is the local chapter of Laughing Liberally\, a national organization of progressive comedians who use humor and laughter to spread understanding of liberal ideas and advance progressive values. For more information on Laughing Liberally visit https://laughingliberallymke.com/ \nLaughing Liberally Milwaukee is hosted by comedian\, cartoonist and satirist Matthew Filipowicz. Matthew’s work has been featured by CNN\, NPR\, PBS\, HBO\, BBC\, the New York Times\, the Wall Street Journal\, the Atlantic\, the Nation\, the London Times\, Ain’t It Cool News\, and the Huffington Post. Matthew also hosts the creatively titled Laughing Liberally Milwaukee Podcast for the Shepherd Express. \nComedians on the February 10th bill include Kristin Lytie\, Maros Lara\, Sasha Rosser\, Josh Fred and sketch comedy troupe The Accountants Of Homeland Security. \nIn addition to some of the finest progressive comedians Milwaukee has to offer\, each Laughing Liberally Milwaukee features a special interview with a local activist\, journalist\, or political figure. This month’s guest is Tomika Vukovic from Wisconsin Voices. \n
URL:https://urbanmilwaukee.com/event/laughing-liberally-milwaukee-12/
LOCATION:420 S. 1st St.\, Milwaukee\, WI\, 53202\, United States
CATEGORIES:Arts & Entertainment,Comedy,Politics
ATTACH;FMTTYPE=image/jpeg:https://urbanmilwaukee.com/wp-content/uploads/2024/01/Laughing-Liberally-MKE-Skyline-02-10-23.jpg
ORGANIZER;CN="Matthew%20Filipowicz":MAILTO:matthewfilipowicz@gmail.com
END:VEVENT
END:VCALENDAR