BEGIN:VCALENDAR
VERSION:2.0
PRODID:-//Urban Milwaukee - ECPv4.6.9//NONSGML v1.0//EN
CALSCALE:GREGORIAN
METHOD:PUBLISH
X-WR-CALNAME:Urban Milwaukee
X-ORIGINAL-URL:https://urbanmilwaukee.com
X-WR-CALDESC:Events for Urban Milwaukee
BEGIN:VEVENT
DTSTART;TZID=America/Chicago:20240209T190000
DTEND;TZID=America/Chicago:20240209T213000
DTSTAMP:20260424T081710
CREATED:20240130T191647Z
LAST-MODIFIED:20240130T191647Z
UID:761246-1707505200-1707514200@urbanmilwaukee.com
SUMMARY:The Robert Austin Project
DESCRIPTION:Join SIP MKE for an evening of live music featuring the Robert Austin Project. \nThe Robert Austin Project is an acoustic band project playing a mixture favorite Americana and progressive country songs\, with a touch of tequila thrown in. Artist covers include Eagles\, America\, Kenny Chesney\, Darius Rucker\, Jimmy Buffet\, Marshall Tucker Band\, and more. All seating is first come first served. \n
URL:https://urbanmilwaukee.com/event/the-robert-austin-project-3/
LOCATION:1515 West Mequon Road\, Mequon\, WI\, 53092\, United States
CATEGORIES:Food & Drink
ATTACH;FMTTYPE=image/jpeg:https://urbanmilwaukee.com/wp-content/uploads/2024/01/0209-The-Robert-Austin-Project.jpg
ORGANIZER;CN="SIP%20MKE":MAILTO:jackie@sipmke.com
END:VEVENT
BEGIN:VEVENT
DTSTART;TZID=America/Chicago:20240209T190000
DTEND;TZID=America/Chicago:20240209T230000
DTSTAMP:20260424T081710
CREATED:20240130T191907Z
LAST-MODIFIED:20250113T185107Z
UID:753933-1707505200-1707519600@urbanmilwaukee.com
SUMMARY:Cheers for Wishes: Mardi Gras
DESCRIPTION:Wishmakers of Wisconsin is hosting it’s Annual Cheers for Wishes fundraising event! \nJoin us on Friday\, February 9th\, 2024 from 7 p.m. to 11 p.m. at the Marcus Performing Arts Center and enjoy an evening of live Dixieland music from Extra Crispy Brass Band\, silent auction\, live artists\, New Orleans appetizer stations\, King Cake\, casino tables\, beads and masquerade masks\, interactive entertainment and more! \nTicket Pricing:\nEarly Bird now through January 15th: $75; January 16th through February 9th: $100 \nTicket price includes:\nEvent admission (21+)\, two (2) drink tickets\, Mardi Gras themed appetizer stations\, Mardi Gras beads\, Casino Games & more! \nWhat do I wear?\nCocktail attire! Show off your best sparkly outfits\, or feature rich tones of purple\, green and gold. Have a masquerade mask? Don’t leave home without it. \n
URL:https://urbanmilwaukee.com/event/cheers-for-wishes-mardi-gras/
LOCATION:929 N. Water St.\, Milwaukee\, WI\, 53202\, United States
CATEGORIES:Arts & Entertainment
ATTACH;FMTTYPE=image/jpeg:https://urbanmilwaukee.com/wp-content/uploads/2023/11/Cheers-for-Wishes-2024.jpg
END:VEVENT
BEGIN:VEVENT
DTSTART;TZID=America/Chicago:20240209T190000
DTEND;TZID=America/Chicago:20240209T233000
DTSTAMP:20260424T081710
CREATED:20240130T192214Z
LAST-MODIFIED:20240130T192214Z
UID:764563-1707505200-1707521400@urbanmilwaukee.com
SUMMARY:SaxKixAve\, David Lopez\, Lady Sabo & Heyzeus at Anodyne Coffee
DESCRIPTION:Join Anodyne Coffee Roasting Co. for an evening of live music featuring SaxKixAve\, David Lopez and Lady Sabo & Heyzeus! \nSince touring the world together and bonding over a shared love of hip-hop\, humor\, and performance\, New Orleans rapper Alfred Banks and Grammy-nominated saxophonist/producer Albert Allenback (of Tank and The Bangas ) have teamed up to become SaxKixAve. Albert’s left-of-center\, jazz and R&B-inflected production provides the perfect base for Banks’ brashly witty\, emotionally reflective\, finely-tuned lyricism.   SaxKixAve’s debut EP\, “I Don’t Wear Suits”\, fully displays Alfred and Albert’s over-the-top sense of humor and high-level\, authentic musicianship. With features from Tank and the Bangas frontwoman Tarriona “Tank” Ball & former XXL Magazine freshman Mickey Factz\, “I Don’t Wear Suits” brings a refreshing new energy\, musicality\, and awareness to today’s sonic landscape. \n
URL:https://urbanmilwaukee.com/event/saxkixave-david-lopez-lady-sabo-heyzeus-at-anodyne-coffee/
LOCATION:Select a Country:
CATEGORIES:Arts & Entertainment
ATTACH;FMTTYPE=image/jpeg:https://urbanmilwaukee.com/wp-content/uploads/2024/01/58536.jpg
END:VEVENT
BEGIN:VEVENT
DTSTART;TZID=America/Chicago:20240209T193000
DTEND;TZID=America/Chicago:20240209T220000
DTSTAMP:20260424T081710
CREATED:20240130T192310Z
LAST-MODIFIED:20240130T192310Z
UID:737120-1707507000-1707516000@urbanmilwaukee.com
SUMMARY:Milwaukee Ballet Presents: GENESIS
DESCRIPTION:Milwaukee’s favorite choreographic competition returns! Three talented choreographers\, hand-selected by Michael Pink\, will be challenged to develop a dynamic\, boundary-stretching piece in only three weeks. Votes are cast each night of the performance and the overall winner receives the opportunity to return to create another work for Milwaukee Ballet. Be part of shaping the future of contemporary ballet when you attend Genesis International Choreographic Competition. \n
URL:https://urbanmilwaukee.com/event/milwaukee-ballet-presents-genesis-2/
LOCATION:144 E. Wells St.\, Milwaukee\, WI\, 53202
CATEGORIES:Arts & Entertainment
ATTACH;FMTTYPE=image/jpeg:https://urbanmilwaukee.com/wp-content/uploads/2023/08/Genesis-1.jpg
END:VEVENT
BEGIN:VEVENT
DTSTART;TZID=America/Chicago:20240209T200000
DTEND;TZID=America/Chicago:20240209T220000
DTSTAMP:20260424T081710
CREATED:20240130T192523Z
LAST-MODIFIED:20240130T192523Z
UID:756048-1707508800-1707516000@urbanmilwaukee.com
SUMMARY:Guys On Ice
DESCRIPTION:One of the Stackner Cabaret’s most popular musical comedies makes its encore as we celebrate our 70th Anniversary Season and the 25th Anniversary of when this show premiered at Milwaukee Rep! Life on the lake is easy\, especially when the fish are biting\, the jokes are funny\, there’s a ‘couple two three’ beers in the bucket and the Green Bay Packers are on the field. From the warmth of their shanty ‘up north\,’ old pals Marvin and Lloyd spin wit\, wisdom and hilarious songs about life\, love and the one that got away. Don’t miss this Wisconsin musical tradition\, featuring songs like “Ode to a Snowmobile Suit” and “The Wishing Hole.” \nBooks & Lyrics by Fred Alley\nMusic by James Kaplan\nDirected & Choreographed by Jeffrey Herbst \n
URL:https://urbanmilwaukee.com/event/guys-on-ice-30/
LOCATION:108 E. Wells St.\, Milwaukee\, WI\, 53202\, United States
CATEGORIES:Arts & Entertainment
ATTACH;FMTTYPE=image/jpeg:https://urbanmilwaukee.com/wp-content/uploads/2023/12/Guys-on-Ice-1920x1080-30.jpg
END:VEVENT
BEGIN:VEVENT
DTSTART;TZID=America/Chicago:20240209T200000
DTEND;TZID=America/Chicago:20240209T220000
DTSTAMP:20260424T081710
CREATED:20240201T054807Z
LAST-MODIFIED:20240201T054807Z
UID:760818-1707508800-1707516000@urbanmilwaukee.com
SUMMARY:Little Women
DESCRIPTION:This endearing tale of family\, friendship\, love and adventure never fails to tug on the heartstrings\, and with a new adaptation by prolific playwright Kate Hamill\, it’s never been more resonant. During the years of the Civil War\, ambitious 15-year-old Jo March and her sisters must navigate hardships\, heartbreak and humility as they come of age in a world bound by class and tragedy. Tender and playful\, this incredible production will help you fall in love all over again with these four young dreamers as they discover themselves in a country divided. Little Women is the third production in our Classics Initiative. \nBy Kate Hamill\nDirected by Marti Lyons\nAdapted from the novel by Louisa May Alcott \n
URL:https://urbanmilwaukee.com/event/little-women-16/
LOCATION:108 E. Wells St.\, Milwaukee\, WI\, 53202\, United States
CATEGORIES:Arts & Entertainment
ATTACH;FMTTYPE=image/png:https://urbanmilwaukee.com/wp-content/uploads/2024/01/Little-Women1200x900-26.png
END:VEVENT
END:VCALENDAR