BEGIN:VCALENDAR
VERSION:2.0
PRODID:-//Urban Milwaukee - ECPv4.6.9//NONSGML v1.0//EN
CALSCALE:GREGORIAN
METHOD:PUBLISH
X-WR-CALNAME:Urban Milwaukee
X-ORIGINAL-URL:https://urbanmilwaukee.com
X-WR-CALDESC:Events for Urban Milwaukee
BEGIN:VEVENT
DTSTART;TZID=America/Chicago:20240208T180000
DTEND;TZID=America/Chicago:20240208T203000
DTSTAMP:20260424T064423
CREATED:20240130T190637Z
LAST-MODIFIED:20240130T190637Z
UID:759176-1707415200-1707424200@urbanmilwaukee.com
SUMMARY:Science On Tap
DESCRIPTION:We’re exploring the space where science and culture intersect\, and we’re doing it over drinks.\nGrab a brew (or root-brew!) and meet us online OR onsite. This Carpenter lecture series features some of the best minds in science. From the sensation of being hugged by an octopus to quantum mechanics\, Science on Tap looks to answer questions you never knew you had! \nMost lakes are less than 15\,000 years old and short-lived\, but a much smaller number of ancient lakes\, often millions of years old\, are scattered across every continent but Antarctica. Comparable to coral reefs or tropical rainforests\, these lakes are often filled with a diversity of creatures found nowhere else in the world. \nTaking a refreshingly personal and accessible approach\, Jeffrey McKinnon of East Carolina University will introduce the remarkable living diversity of these aquatic bodies and explain the surprising\, often controversial\, findings that the study of their faunas is yielding about the formation and persistence of species. Hear about the lakes’ geological origins\, evolutionary processes\, interspecies mating\, and the future of these lakes. \n6-7 p.m. Onsite Social Hour\n7-8:30 p.m. Lecture \nTickets on sale January 2\, 2024 at 10 a.m. \nOnsite:\nNon-Member: $10\nMember: $5\nSustainer+ Member*: Free \nVirtual:\nNon-Member: $5\nMember: Free\nSustainer+ Member*: Free \n*Sustainer+ members must reserve their free onsite tickets by calling reservations at 414-278-2728.\nGroups of 10+ must reserve their virtual tickets by calling reservations at 414-278-2728. \n
URL:https://urbanmilwaukee.com/event/science-on-tap-2/
LOCATION:800 W Wells St\, Milwaukee\, 53233\, United States
CATEGORIES:Environment,Food & Drink,History,Virtual
ATTACH;FMTTYPE=image/jpeg:https://urbanmilwaukee.com/wp-content/uploads/2023/12/SOT_FBevent_2_2024.jpg
END:VEVENT
BEGIN:VEVENT
DTSTART;TZID=America/Chicago:20240208T193000
DTEND;TZID=America/Chicago:20240208T213000
DTSTAMP:20260424T064423
CREATED:20240130T190935Z
LAST-MODIFIED:20240130T190935Z
UID:756046-1707420600-1707427800@urbanmilwaukee.com
SUMMARY:Guys On Ice
DESCRIPTION:One of the Stackner Cabaret’s most popular musical comedies makes its encore as we celebrate our 70th Anniversary Season and the 25th Anniversary of when this show premiered at Milwaukee Rep! Life on the lake is easy\, especially when the fish are biting\, the jokes are funny\, there’s a ‘couple two three’ beers in the bucket and the Green Bay Packers are on the field. From the warmth of their shanty ‘up north\,’ old pals Marvin and Lloyd spin wit\, wisdom and hilarious songs about life\, love and the one that got away. Don’t miss this Wisconsin musical tradition\, featuring songs like “Ode to a Snowmobile Suit” and “The Wishing Hole.” \nBooks & Lyrics by Fred Alley\nMusic by James Kaplan\nDirected & Choreographed by Jeffrey Herbst \n
URL:https://urbanmilwaukee.com/event/guys-on-ice-29/
LOCATION:108 E. Wells St.\, Milwaukee\, WI\, 53202\, United States
CATEGORIES:Arts & Entertainment
ATTACH;FMTTYPE=image/jpeg:https://urbanmilwaukee.com/wp-content/uploads/2023/12/Guys-on-Ice-1920x1080-29.jpg
END:VEVENT
BEGIN:VEVENT
DTSTART;TZID=America/Chicago:20240208T193000
DTEND;TZID=America/Chicago:20240208T213000
DTSTAMP:20260424T064423
CREATED:20240130T191305Z
LAST-MODIFIED:20240130T191305Z
UID:760816-1707420600-1707427800@urbanmilwaukee.com
SUMMARY:Little Women
DESCRIPTION:This endearing tale of family\, friendship\, love and adventure never fails to tug on the heartstrings\, and with a new adaptation by prolific playwright Kate Hamill\, it’s never been more resonant. During the years of the Civil War\, ambitious 15-year-old Jo March and her sisters must navigate hardships\, heartbreak and humility as they come of age in a world bound by class and tragedy. Tender and playful\, this incredible production will help you fall in love all over again with these four young dreamers as they discover themselves in a country divided. Little Women is the third production in our Classics Initiative. \nBy Kate Hamill\nDirected by Marti Lyons\nAdapted from the novel by Louisa May Alcott \n
URL:https://urbanmilwaukee.com/event/little-women-15/
LOCATION:108 E. Wells St.\, Milwaukee\, WI\, 53202\, United States
CATEGORIES:Arts & Entertainment
ATTACH;FMTTYPE=image/png:https://urbanmilwaukee.com/wp-content/uploads/2024/01/Little-Women1200x900-25.png
END:VEVENT
BEGIN:VEVENT
DTSTART;TZID=America/Chicago:20240208T193000
DTEND;TZID=America/Chicago:20240208T213000
DTSTAMP:20260424T064423
CREATED:20240130T191423Z
LAST-MODIFIED:20240130T191423Z
UID:760890-1707420600-1707427800@urbanmilwaukee.com
SUMMARY:What the Constitution Means to Me
DESCRIPTION:Since its premiere in 2019\, this Pulitzer Prize finalist has taken the theatrical world by storm\, breathing new life into our Constitution by imagining how it will shape the next generation of Americans. As a teenager\, Heidi earned her college tuition by winning Constitutional debate competitions across the country. In this hilarious\, witty and refreshingly honest new play\, she revisits her fifteen-year-old self to trace the profound relationship between four generations of women and the lasting impact of the document that shaped their journey. \nPulitzer Prize Finalist\nBy Heidi Schreck\nDirected by Laura Braza \n
URL:https://urbanmilwaukee.com/event/what-the-constitution-means-to-me-3/
LOCATION:108 E. Wells St.\, Milwaukee\, WI\, 53202\, United States
CATEGORIES:Arts & Entertainment
ATTACH;FMTTYPE=image/jpeg:https://urbanmilwaukee.com/wp-content/uploads/2024/01/What-the-Constitution-Means-to-Me-1920x1080-3.jpg
END:VEVENT
BEGIN:VEVENT
DTSTART;TZID=America/Chicago:20240208T193000
DTEND;TZID=America/Chicago:20240208T220000
DTSTAMP:20260424T064423
CREATED:20240130T191526Z
LAST-MODIFIED:20240130T191526Z
UID:737117-1707420600-1707429600@urbanmilwaukee.com
SUMMARY:Milwaukee Ballet Presents: GENESIS
DESCRIPTION:Milwaukee’s favorite choreographic competition returns! Three talented choreographers\, hand-selected by Michael Pink\, will be challenged to develop a dynamic\, boundary-stretching piece in only three weeks. Votes are cast each night of the performance and the overall winner receives the opportunity to return to create another work for Milwaukee Ballet. Be part of shaping the future of contemporary ballet when you attend Genesis International Choreographic Competition. \n
URL:https://urbanmilwaukee.com/event/milwaukee-ballet-presents-genesis/
LOCATION:144 E. Wells St.\, Milwaukee\, WI\, 53202
CATEGORIES:Arts & Entertainment
ATTACH;FMTTYPE=image/jpeg:https://urbanmilwaukee.com/wp-content/uploads/2023/08/Genesis.jpg
ORGANIZER;CN="Milwaukee%20Ballet":MAILTO:tickets@milwaukeeballet.org
END:VEVENT
END:VCALENDAR