BEGIN:VCALENDAR
VERSION:2.0
PRODID:-//Urban Milwaukee - ECPv4.6.9//NONSGML v1.0//EN
CALSCALE:GREGORIAN
METHOD:PUBLISH
X-WR-CALNAME:Urban Milwaukee
X-ORIGINAL-URL:https://urbanmilwaukee.com
X-WR-CALDESC:Events for Urban Milwaukee
BEGIN:VEVENT
DTSTART;TZID=America/Chicago:20240206T183000
DTEND;TZID=America/Chicago:20240206T203000
DTSTAMP:20260424T040733
CREATED:20240125T071206Z
LAST-MODIFIED:20240125T071206Z
UID:760810-1707244200-1707251400@urbanmilwaukee.com
SUMMARY:Little Women: Sensory-Friendly Performance
DESCRIPTION:Note: This performance of Little Women is a sensory-friendly performance. \n\nSensory-Friendly performance is geared toward those 14 and older. Seating is General Admission. Expect altered light and sound levels throughout the theater and audience as well as designated quiet/calm spaces and sensory support available.  Please indicate any needs in the notes section at check out. \n\nThis endearing tale of family\, friendship\, love and adventure never fails to tug on the heartstrings\, and with a new adaptation by prolific playwright Kate Hamill\, it’s never been more resonant. During the years of the Civil War\, ambitious 15-year-old Jo March and her sisters must navigate hardships\, heartbreak and humility as they come of age in a world bound by class and tragedy. Tender and playful\, this incredible production will help you fall in love all over again with these four young dreamers as they discover themselves in a country divided. Little Women is the third production in our Classics Initiative. \nBy Kate Hamill\nDirected by Marti Lyons\nAdapted from the novel by Louisa May Alcott \n
URL:https://urbanmilwaukee.com/event/little-women-sensory-friendly-performance/
LOCATION:108 E. Wells St.\, Milwaukee\, WI\, 53202\, United States
CATEGORIES:Arts & Entertainment
ATTACH;FMTTYPE=image/png:https://urbanmilwaukee.com/wp-content/uploads/2024/01/Little-Women1200x900-23.png
END:VEVENT
BEGIN:VEVENT
DTSTART;TZID=America/Chicago:20240206T193000
DTEND;TZID=America/Chicago:20240206T213000
DTSTAMP:20260424T040733
CREATED:20240125T071334Z
LAST-MODIFIED:20240125T071334Z
UID:756041-1707247800-1707255000@urbanmilwaukee.com
SUMMARY:Guys On Ice
DESCRIPTION:One of the Stackner Cabaret’s most popular musical comedies makes its encore as we celebrate our 70th Anniversary Season and the 25th Anniversary of when this show premiered at Milwaukee Rep! Life on the lake is easy\, especially when the fish are biting\, the jokes are funny\, there’s a ‘couple two three’ beers in the bucket and the Green Bay Packers are on the field. From the warmth of their shanty ‘up north\,’ old pals Marvin and Lloyd spin wit\, wisdom and hilarious songs about life\, love and the one that got away. Don’t miss this Wisconsin musical tradition\, featuring songs like “Ode to a Snowmobile Suit” and “The Wishing Hole.” \nBooks & Lyrics by Fred Alley\nMusic by James Kaplan\nDirected & Choreographed by Jeffrey Herbst \n
URL:https://urbanmilwaukee.com/event/guys-on-ice-27/
LOCATION:108 E. Wells St.\, Milwaukee\, WI\, 53202\, United States
CATEGORIES:Arts & Entertainment
ATTACH;FMTTYPE=image/jpeg:https://urbanmilwaukee.com/wp-content/uploads/2023/12/Guys-on-Ice-1920x1080-27.jpg
END:VEVENT
BEGIN:VEVENT
DTSTART;TZID=America/Chicago:20240206T193000
DTEND;TZID=America/Chicago:20240206T213000
DTSTAMP:20260424T040733
CREATED:20240125T072104Z
LAST-MODIFIED:20240125T072104Z
UID:760885-1707247800-1707255000@urbanmilwaukee.com
SUMMARY:What the Constitution Means to Me
DESCRIPTION:Since its premiere in 2019\, this Pulitzer Prize finalist has taken the theatrical world by storm\, breathing new life into our Constitution by imagining how it will shape the next generation of Americans. As a teenager\, Heidi earned her college tuition by winning Constitutional debate competitions across the country. In this hilarious\, witty and refreshingly honest new play\, she revisits her fifteen-year-old self to trace the profound relationship between four generations of women and the lasting impact of the document that shaped their journey. \nPulitzer Prize Finalist\nBy Heidi Schreck\nDirected by Laura Braza \n
URL:https://urbanmilwaukee.com/event/what-the-constitution-means-to-me/
LOCATION:108 E. Wells St.\, Milwaukee\, WI\, 53202\, United States
CATEGORIES:Arts & Entertainment
ATTACH;FMTTYPE=image/jpeg:https://urbanmilwaukee.com/wp-content/uploads/2024/01/What-the-Constitution-Means-to-Me-1920x1080-1.jpg
END:VEVENT
END:VCALENDAR