BEGIN:VCALENDAR
VERSION:2.0
PRODID:-//Urban Milwaukee - ECPv4.6.9//NONSGML v1.0//EN
CALSCALE:GREGORIAN
METHOD:PUBLISH
X-WR-CALNAME:Urban Milwaukee
X-ORIGINAL-URL:https://urbanmilwaukee.com
X-WR-CALDESC:Events for Urban Milwaukee
BEGIN:VEVENT
DTSTART;VALUE=DATE:20240204
DTEND;VALUE=DATE:20240205
DTSTAMP:20260424T010847
CREATED:20240108T053703Z
LAST-MODIFIED:20240108T053703Z
UID:760669-1707004800-1707091199@urbanmilwaukee.com
SUMMARY:Canstruction Milwaukee
DESCRIPTION:View 12 colorful and creative sculptures—each made of at least 1\,000 canned and non-perishable food items—designed and built by Milwaukee leaders in architecture\, engineering\, and construction. On display in the Steigleder Special Exhibits Gallery on the Second Floor. Included with general admission; special rates noted below: \nJanuary 27-28: Reduced admission of $15 for Museum Days\nFebruary 1: FREE admission for Kohl’s Thank You Thursday \n
URL:https://urbanmilwaukee.com/event/canstruction-milwaukee-9/
LOCATION:800 Wells Street\, Milwaukee\, WI\, 53233\, United States
CATEGORIES:Arts & Entertainment
ATTACH;FMTTYPE=image/png:https://urbanmilwaukee.com/wp-content/uploads/2023/12/Canstruction.png
ORGANIZER;CN="Milwaukee%20Public%20Museum":MAILTO:andersonm@mpm.edu
END:VEVENT
BEGIN:VEVENT
DTSTART;TZID=America/Chicago:20240204T100000
DTEND;TZID=America/Chicago:20240204T130000
DTSTAMP:20260424T010847
CREATED:20240125T065924Z
LAST-MODIFIED:20240125T065924Z
UID:763305-1707040800-1707051600@urbanmilwaukee.com
SUMMARY:Milwaukee Aquarium Society Swap
DESCRIPTION:Calling all aquarium hobbyists! Join us for a swap meet featuring local and regional vendors selling tropical fish\, plants\, invertebrates\, aquarium hard goods\, fish food and more! Shop 50+ tables with over 40 vendors \nA great opportunity to talk with breeders and learn about the aquarium hobby. \nMost items are very reasonably priced and there are plenty of bargains to be found. \n***NEW*** VIP EARLY ACCESS 10 a.m. to 10:30 a.m. – $5 Entrance Fee\nGeneral Admission 10:30 a.m. and later $2 (youth free with paid adult) \nVisit the Milwaukee Aquarium Society Swap Facebook Event Page for more details including the vendor directory. \n
URL:https://urbanmilwaukee.com/event/milwaukee-aquarium-society-swap/
LOCATION:16000 W. Cleveland Ave\, New Berlin\, WI\, 53151\, United States
CATEGORIES:Pets
ATTACH;FMTTYPE=image/jpeg:https://urbanmilwaukee.com/wp-content/uploads/2024/01/image2.jpeg
ORGANIZER;CN="Milwaukee%20Aquarium%20Society":MAILTO:milwaukeeaquariumsociety@gmail.com
END:VEVENT
BEGIN:VEVENT
DTSTART;TZID=America/Chicago:20240204T120000
DTEND;TZID=America/Chicago:20240204T170000
DTSTAMP:20260424T010847
CREATED:20240125T070219Z
LAST-MODIFIED:20240125T070219Z
UID:762998-1707048000-1707066000@urbanmilwaukee.com
SUMMARY:Walkers Point Makers Market & Bar Hop
DESCRIPTION:Join us in the Walkers Point neighborhood of Milwaukee to shop 80 makers with a drink in hand\, while exploring one of Milwaukees most diverse neighborhoods! \nFind vendors at all of the following locations: \n\nIndeed Brewing Co\nBroken Bat Brewing Co\nAnodyne Coffee Roasting Co\nThe Laughing Tap\nMobCraft Beer\nGreat Lakes Distillery\n\nProducts will be a wide variety of handmade goods such as jewelry\, knit goods\, home decor\, metal working\, prints\, soap\, paintings\, candles\, etc. \nNo MLM or direct sales will be present. \nThis event is FREE to attend! You only pay for the items you wish to purchase and the drinks you want to consume.\n​This is a family friendly event\, however please note alcohol will be present due to the nature of the venues. \nIf you are 21 or older and choose to drink\, please drink responsibly. \nThis event is brought to you by I Heart Indie Markets & Madison Makers Market! \n
URL:https://urbanmilwaukee.com/event/walkers-point-makers-market-bar-hop-3/
LOCATION:505 S. 5th St.\, Milwaukee\, WI\, 53204\, United States
CATEGORIES:Arts & Entertainment,Food & Drink
ATTACH;FMTTYPE=image/png:https://urbanmilwaukee.com/wp-content/uploads/2024/01/Milwaukee-02.png
END:VEVENT
BEGIN:VEVENT
DTSTART;TZID=America/Chicago:20240204T140000
DTEND;TZID=America/Chicago:20240204T160000
DTSTAMP:20260424T010847
CREATED:20240108T055837Z
LAST-MODIFIED:20240108T055837Z
UID:756037-1707055200-1707062400@urbanmilwaukee.com
SUMMARY:Guys On Ice
DESCRIPTION:Life on the lake is easy\, especially when the fish are biting\, the jokes are funny\, there’s a ‘couple two three’ beers in the bucket and the Green Bay Packers are on the field. From the warmth of their shanty ‘up north\,’ old pals Marvin and Lloyd spin wit\, wisdom and hilarious songs about life\, love and the one that got away. \nBooks & Lyrics by Fred Alley\nMusic by James Kaplan\nDirected & Choreographed by Jeffrey Herbst \n
URL:https://urbanmilwaukee.com/event/guys-on-ice-25/
LOCATION:108 E. Wells St.\, Milwaukee\, WI\, 53202\, United States
CATEGORIES:Arts & Entertainment
ATTACH;FMTTYPE=image/jpeg:https://urbanmilwaukee.com/wp-content/uploads/2023/12/Guys-on-Ice-1920x1080-25.jpg
END:VEVENT
BEGIN:VEVENT
DTSTART;TZID=America/Chicago:20240204T140000
DTEND;TZID=America/Chicago:20240204T160000
DTSTAMP:20260424T010847
CREATED:20240125T070327Z
LAST-MODIFIED:20240125T070327Z
UID:760806-1707055200-1707062400@urbanmilwaukee.com
SUMMARY:Little Women
DESCRIPTION:This endearing tale of family\, friendship\, love and adventure never fails to tug on the heartstrings\, and with a new adaptation by prolific playwright Kate Hamill\, it’s never been more resonant. During the years of the Civil War\, ambitious 15-year-old Jo March and her sisters must navigate hardships\, heartbreak and humility as they come of age in a world bound by class and tragedy. Tender and playful\, this incredible production will help you fall in love all over again with these four young dreamers as they discover themselves in a country divided. Little Women is the third production in our Classics Initiative. \nBy Kate Hamill\nDirected by Marti Lyons\nAdapted from the novel by Louisa May Alcott \n
URL:https://urbanmilwaukee.com/event/little-women-11/
LOCATION:108 E. Wells St.\, Milwaukee\, WI\, 53202\, United States
CATEGORIES:Arts & Entertainment
ATTACH;FMTTYPE=image/png:https://urbanmilwaukee.com/wp-content/uploads/2024/01/Little-Women1200x900-21.png
END:VEVENT
BEGIN:VEVENT
DTSTART;TZID=America/Chicago:20240204T190000
DTEND;TZID=America/Chicago:20240204T210000
DTSTAMP:20260424T010847
CREATED:20240125T070529Z
LAST-MODIFIED:20240125T070529Z
UID:756039-1707073200-1707080400@urbanmilwaukee.com
SUMMARY:Guys On Ice
DESCRIPTION:One of the Stackner Cabaret’s most popular musical comedies makes its encore as we celebrate our 70th Anniversary Season and the 25th Anniversary of when this show premiered at Milwaukee Rep! Life on the lake is easy\, especially when the fish are biting\, the jokes are funny\, there’s a ‘couple two three’ beers in the bucket and the Green Bay Packers are on the field. From the warmth of their shanty ‘up north\,’ old pals Marvin and Lloyd spin wit\, wisdom and hilarious songs about life\, love and the one that got away. Don’t miss this Wisconsin musical tradition\, featuring songs like “Ode to a Snowmobile Suit” and “The Wishing Hole.” \nBooks & Lyrics by Fred Alley\nMusic by James Kaplan\nDirected & Choreographed by Jeffrey Herbst \n
URL:https://urbanmilwaukee.com/event/guys-on-ice-26/
LOCATION:108 E. Wells St.\, Milwaukee\, WI\, 53202\, United States
CATEGORIES:Arts & Entertainment
ATTACH;FMTTYPE=image/jpeg:https://urbanmilwaukee.com/wp-content/uploads/2023/12/Guys-on-Ice-1920x1080-26.jpg
END:VEVENT
BEGIN:VEVENT
DTSTART;TZID=America/Chicago:20240204T190000
DTEND;TZID=America/Chicago:20240204T210000
DTSTAMP:20260424T010847
CREATED:20240125T070657Z
LAST-MODIFIED:20240125T070657Z
UID:760808-1707073200-1707080400@urbanmilwaukee.com
SUMMARY:Little Women
DESCRIPTION:This endearing tale of family\, friendship\, love and adventure never fails to tug on the heartstrings\, and with a new adaptation by prolific playwright Kate Hamill\, it’s never been more resonant. During the years of the Civil War\, ambitious 15-year-old Jo March and her sisters must navigate hardships\, heartbreak and humility as they come of age in a world bound by class and tragedy. Tender and playful\, this incredible production will help you fall in love all over again with these four young dreamers as they discover themselves in a country divided. Little Women is the third production in our Classics Initiative. \nBy Kate Hamill\nDirected by Marti Lyons\nAdapted from the novel by Louisa May Alcott \n
URL:https://urbanmilwaukee.com/event/little-women-12/
LOCATION:108 E. Wells St.\, Milwaukee\, WI\, 53202\, United States
CATEGORIES:Arts & Entertainment
ATTACH;FMTTYPE=image/png:https://urbanmilwaukee.com/wp-content/uploads/2024/01/Little-Women1200x900-22.png
END:VEVENT
END:VCALENDAR