BEGIN:VCALENDAR
VERSION:2.0
PRODID:-//Urban Milwaukee - ECPv4.6.9//NONSGML v1.0//EN
CALSCALE:GREGORIAN
METHOD:PUBLISH
X-WR-CALNAME:Urban Milwaukee
X-ORIGINAL-URL:https://urbanmilwaukee.com
X-WR-CALDESC:Events for Urban Milwaukee
BEGIN:VEVENT
DTSTART;VALUE=DATE:20240130
DTEND;VALUE=DATE:20240131
DTSTAMP:20260423T180222
CREATED:20240108T053535Z
LAST-MODIFIED:20240108T053535Z
UID:760659-1706572800-1706659199@urbanmilwaukee.com
SUMMARY:Canstruction Milwaukee
DESCRIPTION:View 12 colorful and creative sculptures—each made of at least 1\,000 canned and non-perishable food items—designed and built by Milwaukee leaders in architecture\, engineering\, and construction. On display in the Steigleder Special Exhibits Gallery on the Second Floor. Included with general admission; special rates noted below: \nJanuary 27-28: Reduced admission of $15 for Museum Days\nFebruary 1: FREE admission for Kohl’s Thank You Thursday \n
URL:https://urbanmilwaukee.com/event/canstruction-milwaukee-4/
LOCATION:800 Wells Street\, Milwaukee\, WI\, 53233\, United States
CATEGORIES:Arts & Entertainment
ATTACH;FMTTYPE=image/png:https://urbanmilwaukee.com/wp-content/uploads/2023/12/Canstruction.png
ORGANIZER;CN="Milwaukee%20Public%20Museum":MAILTO:andersonm@mpm.edu
END:VEVENT
BEGIN:VEVENT
DTSTART;TZID=America/Chicago:20240130T183000
DTEND;TZID=America/Chicago:20240130T203000
DTSTAMP:20260423T180222
CREATED:20240108T055116Z
LAST-MODIFIED:20240108T055116Z
UID:756022-1706639400-1706646600@urbanmilwaukee.com
SUMMARY:Guys On Ice
DESCRIPTION:Life on the lake is easy\, especially when the fish are biting\, the jokes are funny\, there’s a ‘couple two three’ beers in the bucket and the Green Bay Packers are on the field. From the warmth of their shanty ‘up north\,’ old pals Marvin and Lloyd spin wit\, wisdom and hilarious songs about life\, love and the one that got away. \nBooks & Lyrics by Fred Alley\nMusic by James Kaplan\nDirected & Choreographed by Jeffrey Herbst \n
URL:https://urbanmilwaukee.com/event/guys-on-ice-19/
LOCATION:108 E. Wells St.\, Milwaukee\, WI\, 53202\, United States
CATEGORIES:Arts & Entertainment
ATTACH;FMTTYPE=image/jpeg:https://urbanmilwaukee.com/wp-content/uploads/2023/12/Guys-on-Ice-1920x1080-19.jpg
END:VEVENT
END:VCALENDAR