BEGIN:VCALENDAR
VERSION:2.0
PRODID:-//Urban Milwaukee - ECPv4.6.9//NONSGML v1.0//EN
CALSCALE:GREGORIAN
METHOD:PUBLISH
X-WR-CALNAME:Urban Milwaukee
X-ORIGINAL-URL:https://urbanmilwaukee.com
X-WR-CALDESC:Events for Urban Milwaukee
BEGIN:VEVENT
DTSTART;VALUE=DATE:20240128
DTEND;VALUE=DATE:20240129
DTSTAMP:20260423T145303
CREATED:20240108T053512Z
LAST-MODIFIED:20240108T053512Z
UID:760655-1706400000-1706486399@urbanmilwaukee.com
SUMMARY:Canstruction Milwaukee
DESCRIPTION:View 12 colorful and creative sculptures—each made of at least 1\,000 canned and non-perishable food items—designed and built by Milwaukee leaders in architecture\, engineering\, and construction. On display in the Steigleder Special Exhibits Gallery on the Second Floor. Included with general admission; special rates noted below: \nJanuary 27-28: Reduced admission of $15 for Museum Days\nFebruary 1: FREE admission for Kohl’s Thank You Thursday \n
URL:https://urbanmilwaukee.com/event/canstruction-milwaukee-2/
LOCATION:800 Wells Street\, Milwaukee\, WI\, 53233\, United States
CATEGORIES:Arts & Entertainment
ATTACH;FMTTYPE=image/png:https://urbanmilwaukee.com/wp-content/uploads/2023/12/Canstruction.png
ORGANIZER;CN="Milwaukee%20Public%20Museum":MAILTO:andersonm@mpm.edu
END:VEVENT
BEGIN:VEVENT
DTSTART;TZID=America/Chicago:20240128T090000
DTEND;TZID=America/Chicago:20240128T160000
DTSTAMP:20260423T145303
CREATED:20240108T054008Z
LAST-MODIFIED:20250110T170310Z
UID:760673-1706432400-1706457600@urbanmilwaukee.com
SUMMARY:Winter Market 2024 by re:Craft and Relic
DESCRIPTION:Join us January 27th & 28th for a two-day\, indoor shopping event unlike any other!\nEnjoy 150+ artists\, makers\, creators\, designers\, vintage curators and pop up boutiques\, PLUS food trucks and LIVE music! \nVIP hour: 9 a.m.-10 a.m. Saturday\nEarly Bird Hour: 10 a.m.-11 a.m. both days\nGeneral Admission: 11 a.m.-4 p.m. both days\n*Happy Hour 3 p.m.-4 p.m. = admission is just $1!\nKids 12 & under are FREE \nLive music:\nSaturday 11 a.m.-1 p.m.: Kevin Wypiszynski\nSaturday 1:30 p.m.-3:30 p.m.: Ali J\nSunday 11 a.m.-1 p.m.: Jake Williams\nSunday 1:30 p.m.-3:30 p.m.: Andy Braun \n
URL:https://urbanmilwaukee.com/event/winter-market-2024-by-recraft-and-relic-2/
LOCATION:6000 W. Ryan Rd\, Franklin\, WI\, 53132\, United States
CATEGORIES:Arts & Entertainment,Food & Drink
ATTACH;FMTTYPE=image/png:https://urbanmilwaukee.com/wp-content/uploads/2023/12/1.png
END:VEVENT
BEGIN:VEVENT
DTSTART;TZID=America/Chicago:20240128T140000
DTEND;TZID=America/Chicago:20240128T160000
DTSTAMP:20260423T145303
CREATED:20240108T054847Z
LAST-MODIFIED:20240108T054847Z
UID:756015-1706450400-1706457600@urbanmilwaukee.com
SUMMARY:Guys On Ice
DESCRIPTION:Life on the lake is easy\, especially when the fish are biting\, the jokes are funny\, there’s a ‘couple two three’ beers in the bucket and the Green Bay Packers are on the field. From the warmth of their shanty ‘up north\,’ old pals Marvin and Lloyd spin wit\, wisdom and hilarious songs about life\, love and the one that got away. \nBooks & Lyrics by Fred Alley\nMusic by James Kaplan\nDirected & Choreographed by Jeffrey Herbst \n
URL:https://urbanmilwaukee.com/event/guys-on-ice-17/
LOCATION:108 E. Wells St.\, Milwaukee\, WI\, 53202\, United States
CATEGORIES:Arts & Entertainment
ATTACH;FMTTYPE=image/jpeg:https://urbanmilwaukee.com/wp-content/uploads/2023/12/Guys-on-Ice-1920x1080-17.jpg
END:VEVENT
BEGIN:VEVENT
DTSTART;TZID=America/Chicago:20240128T140000
DTEND;TZID=America/Chicago:20240128T160000
DTSTAMP:20260423T145303
CREATED:20240125T063148Z
LAST-MODIFIED:20240125T063148Z
UID:760790-1706450400-1706457600@urbanmilwaukee.com
SUMMARY:Little Women
DESCRIPTION:This endearing tale of family\, friendship\, love and adventure never fails to tug on the heartstrings\, and with a new adaptation by prolific playwright Kate Hamill\, it’s never been more resonant. During the years of the Civil War\, ambitious 15-year-old Jo March and her sisters must navigate hardships\, heartbreak and humility as they come of age in a world bound by class and tragedy. Tender and playful\, this incredible production will help you fall in love all over again with these four young dreamers as they discover themselves in a country divided. Little Women is the third production in our Classics Initiative. \nBy Kate Hamill\nDirected by Marti Lyons\nAdapted from the novel by Louisa May Alcott \n
URL:https://urbanmilwaukee.com/event/little-women-4/
LOCATION:108 E. Wells St.\, Milwaukee\, WI\, 53202\, United States
CATEGORIES:Arts & Entertainment
ATTACH;FMTTYPE=image/png:https://urbanmilwaukee.com/wp-content/uploads/2024/01/Little-Women1200x900-13.png
END:VEVENT
BEGIN:VEVENT
DTSTART;TZID=America/Chicago:20240128T190000
DTEND;TZID=America/Chicago:20240128T210000
DTSTAMP:20260423T145303
CREATED:20240108T055007Z
LAST-MODIFIED:20240108T055007Z
UID:756019-1706468400-1706475600@urbanmilwaukee.com
SUMMARY:Guys On Ice
DESCRIPTION:Life on the lake is easy\, especially when the fish are biting\, the jokes are funny\, there’s a ‘couple two three’ beers in the bucket and the Green Bay Packers are on the field. From the warmth of their shanty ‘up north\,’ old pals Marvin and Lloyd spin wit\, wisdom and hilarious songs about life\, love and the one that got away. \nBooks & Lyrics by Fred Alley\nMusic by James Kaplan\nDirected & Choreographed by Jeffrey Herbst \n
URL:https://urbanmilwaukee.com/event/guys-on-ice-18/
LOCATION:108 E. Wells St.\, Milwaukee\, WI\, 53202\, United States
CATEGORIES:Arts & Entertainment
ATTACH;FMTTYPE=image/jpeg:https://urbanmilwaukee.com/wp-content/uploads/2023/12/Guys-on-Ice-1920x1080-18.jpg
END:VEVENT
BEGIN:VEVENT
DTSTART;TZID=America/Chicago:20240128T190000
DTEND;TZID=America/Chicago:20240128T210000
DTSTAMP:20260423T145303
CREATED:20240125T063533Z
LAST-MODIFIED:20240125T063533Z
UID:760792-1706468400-1706475600@urbanmilwaukee.com
SUMMARY:Little Women
DESCRIPTION:This endearing tale of family\, friendship\, love and adventure never fails to tug on the heartstrings\, and with a new adaptation by prolific playwright Kate Hamill\, it’s never been more resonant. During the years of the Civil War\, ambitious 15-year-old Jo March and her sisters must navigate hardships\, heartbreak and humility as they come of age in a world bound by class and tragedy. Tender and playful\, this incredible production will help you fall in love all over again with these four young dreamers as they discover themselves in a country divided. Little Women is the third production in our Classics Initiative. \nBy Kate Hamill\nDirected by Marti Lyons\nAdapted from the novel by Louisa May Alcott \n
URL:https://urbanmilwaukee.com/event/little-women-5/
LOCATION:108 E. Wells St.\, Milwaukee\, WI\, 53202\, United States
CATEGORIES:Arts & Entertainment
ATTACH;FMTTYPE=image/png:https://urbanmilwaukee.com/wp-content/uploads/2024/01/Little-Women1200x900-14.png
END:VEVENT
END:VCALENDAR