BEGIN:VCALENDAR
VERSION:2.0
PRODID:-//Urban Milwaukee - ECPv4.6.9//NONSGML v1.0//EN
CALSCALE:GREGORIAN
METHOD:PUBLISH
X-WR-CALNAME:Urban Milwaukee
X-ORIGINAL-URL:https://urbanmilwaukee.com
X-WR-CALDESC:Events for Urban Milwaukee
BEGIN:VEVENT
DTSTART;VALUE=DATE:20240127
DTEND;VALUE=DATE:20240128
DTSTAMP:20260423T131837
CREATED:20240108T053457Z
LAST-MODIFIED:20240108T053457Z
UID:759164-1706313600-1706399999@urbanmilwaukee.com
SUMMARY:Canstruction Milwaukee
DESCRIPTION:View 12 colorful and creative sculptures—each made of at least 1\,000 canned and non-perishable food items—designed and built by Milwaukee leaders in architecture\, engineering\, and construction. On display in the Steigleder Special Exhibits Gallery on the Second Floor. Included with general admission; special rates noted below: \nJanuary 27-28: Reduced admission of $15 for Museum Days\nFebruary 1: FREE admission for Kohl’s Thank You Thursday \n
URL:https://urbanmilwaukee.com/event/canstruction-milwaukee/
LOCATION:800 Wells Street\, Milwaukee\, WI\, 53233\, United States
CATEGORIES:Arts & Entertainment
ATTACH;FMTTYPE=image/png:https://urbanmilwaukee.com/wp-content/uploads/2023/12/Canstruction.png
ORGANIZER;CN="Milwaukee%20Public%20Museum":MAILTO:andersonm@mpm.edu
END:VEVENT
BEGIN:VEVENT
DTSTART;TZID=America/Chicago:20240127T090000
DTEND;TZID=America/Chicago:20240127T160000
DTSTAMP:20260423T131837
CREATED:20240108T053950Z
LAST-MODIFIED:20250110T170328Z
UID:758788-1706346000-1706371200@urbanmilwaukee.com
SUMMARY:Winter Market 2024 by re:Craft and Relic
DESCRIPTION:Join us January 27th & 28th for a two-day\, indoor shopping event unlike any other!\nEnjoy 150+ artists\, makers\, creators\, designers\, vintage curators and pop up boutiques\, PLUS food trucks and LIVE music! \nVIP hour: 9 a.m.-10 a.m. Saturday\nEarly Bird Hour: 10 a.m.-11 a.m. both days\nGeneral Admission: 11 a.m.-4 p.m. both days\n*Happy Hour 3 p.m.-4 p.m. = admission is just $1!\nKids 12 & under are FREE \nLive music:\nSaturday 11 a.m.-1 p.m.: Kevin Wypiszynski\nSaturday 1:30 p.m.-3:30 p.m.: Ali J\nSunday 11 a.m.-1 p.m.: Jake Williams\nSunday 1:30 p.m.-3:30 p.m.: Andy Braun \n
URL:https://urbanmilwaukee.com/event/winter-market-2024-by-recraft-and-relic/
LOCATION:6000 W. Ryan Rd\, Franklin\, WI\, 53132\, United States
CATEGORIES:Arts & Entertainment,Food & Drink
ATTACH;FMTTYPE=image/png:https://urbanmilwaukee.com/wp-content/uploads/2023/12/1.png
END:VEVENT
BEGIN:VEVENT
DTSTART;TZID=America/Chicago:20240127T110000
DTEND;TZID=America/Chicago:20240127T114500
DTSTAMP:20260423T131837
CREATED:20240108T054245Z
LAST-MODIFIED:20240108T054245Z
UID:759908-1706353200-1706355900@urbanmilwaukee.com
SUMMARY:Yoga on Tap at Lion's Tail
DESCRIPTION:On Saturday\, January 27\, yoga is on tap at Lion’s Tail Brewing Co. in Wauwatosa. \nJoin RYT-200 Caitlin Moyer beginning at 11am for a 45-minute yoga flow inside the brewery’s super-cool digs. \nFollowing the class\, stick around for a beverage or two and maybe even lunch! \nYour $20 fee includes the class + one beverage of your choice. Additional beverages will of course be available for purchase and food trucks are often on-site serving up something delicious. \nAttendees must bring their own yoga mat and will be required to sign a waiver. \nSpace is limited to the first 20 attendees\, so be sure to sign up early! Advance payment is required to reserve your space. To register\, please visit CaitlinMoyer.com/yogaontap. \n
URL:https://urbanmilwaukee.com/event/yoga-on-tap-at-lions-tail-6/
LOCATION:8520 W. North Ave.\, Wauwatosa\, WI\, 53226\, United States
CATEGORIES:Active,Food & Drink,Health
ATTACH;FMTTYPE=image/png:https://urbanmilwaukee.com/wp-content/uploads/2024/01/Yoga-on-Tap-January-27-2024-HORIZONTAL.png
END:VEVENT
BEGIN:VEVENT
DTSTART;TZID=America/Chicago:20240127T110000
DTEND;TZID=America/Chicago:20240127T180000
DTSTAMP:20260423T131837
CREATED:20240108T054400Z
LAST-MODIFIED:20240108T054400Z
UID:760017-1706353200-1706378400@urbanmilwaukee.com
SUMMARY:Undisputed Vintage Pop-Up at All Goods
DESCRIPTION:Undisputed Vintage Pop-up at All Goods BAYSHORE on January 27th\, from 11:00 a.m. – 6:00 p.m.! Explore a curated selection of their best vintage items\, including tees\, outerwear\, bottoms\, and sunglasses. \n
URL:https://urbanmilwaukee.com/event/undisputed-vintage-pop-up-at-all-goods/
LOCATION:5800 N. Bayshore Dr.\, Glendale\, WI\, 53217\, United States
CATEGORIES:Arts & Entertainment
ATTACH;FMTTYPE=image/png:https://urbanmilwaukee.com/wp-content/uploads/2024/01/Undisputed-Vintage-1-27-24.png
END:VEVENT
BEGIN:VEVENT
DTSTART;TZID=America/Chicago:20240127T110000
DTEND;TZID=America/Chicago:20240127T120000
DTSTAMP:20260423T131837
CREATED:20240125T062718Z
LAST-MODIFIED:20240125T062718Z
UID:763853-1706353200-1706356800@urbanmilwaukee.com
SUMMARY:MSOE Honors Program Presents: Sound Bath Healing Session with Camille Mays
DESCRIPTION:Embark on a rejuvenating Sound Bath Healing journey led by Camille Mays\, the visionary Founder & Co-Director of Peace Garden Project MKE! \nImmerse yourself in an experience where the power of sound becomes a pathway to healing\, expertly guided by a compassionate leader with a profound understanding of both communal and personal well-being. \nPlease join us for this transformative session of restoration! \nYou can learn more about Mays’ work here: https://www.tmj4.com/news/local-news/we-need-a-lot-of-healing-the-zen-den-provides-alternative-healing-methods-for-milwaukeeans \nPresented by: MSOE Honors Program\, Peace Garden Project MKE\, and Victory Garden Initiative \n
URL:https://urbanmilwaukee.com/event/msoe-honors-program-presents-sound-bath-healing-session-with-camille-mays/
LOCATION:249 E Concordia Ave\, Milwaukee\, WI\, 53212\, United States
CATEGORIES:Arts & Entertainment
ATTACH;FMTTYPE=image/jpeg:https://urbanmilwaukee.com/wp-content/uploads/2024/01/Camille-Mays-Sound-Bath-Healing-Series-1.27.24_2-4.jpg
END:VEVENT
BEGIN:VEVENT
DTSTART;TZID=America/Chicago:20240127T150000
DTEND;TZID=America/Chicago:20240127T170000
DTSTAMP:20260423T131837
CREATED:20240108T054515Z
LAST-MODIFIED:20240108T054515Z
UID:756007-1706367600-1706374800@urbanmilwaukee.com
SUMMARY:Guys On Ice
DESCRIPTION:Life on the lake is easy\, especially when the fish are biting\, the jokes are funny\, there’s a ‘couple two three’ beers in the bucket and the Green Bay Packers are on the field. From the warmth of their shanty ‘up north\,’ old pals Marvin and Lloyd spin wit\, wisdom and hilarious songs about life\, love and the one that got away. \nBooks & Lyrics by Fred Alley\nMusic by James Kaplan\nDirected & Choreographed by Jeffrey Herbst \n
URL:https://urbanmilwaukee.com/event/guys-on-ice-15/
LOCATION:108 E. Wells St.\, Milwaukee\, WI\, 53202\, United States
CATEGORIES:Arts & Entertainment
ATTACH;FMTTYPE=image/jpeg:https://urbanmilwaukee.com/wp-content/uploads/2023/12/Guys-on-Ice-1920x1080-15.jpg
END:VEVENT
BEGIN:VEVENT
DTSTART;TZID=America/Chicago:20240127T150000
DTEND;TZID=America/Chicago:20240127T170000
DTSTAMP:20260423T131837
CREATED:20240125T062839Z
LAST-MODIFIED:20240125T062839Z
UID:760786-1706367600-1706374800@urbanmilwaukee.com
SUMMARY:Little Women
DESCRIPTION:This endearing tale of family\, friendship\, love and adventure never fails to tug on the heartstrings\, and with a new adaptation by prolific playwright Kate Hamill\, it’s never been more resonant. During the years of the Civil War\, ambitious 15-year-old Jo March and her sisters must navigate hardships\, heartbreak and humility as they come of age in a world bound by class and tragedy. Tender and playful\, this incredible production will help you fall in love all over again with these four young dreamers as they discover themselves in a country divided. Little Women is the third production in our Classics Initiative. \nBy Kate Hamill\nDirected by Marti Lyons\nAdapted from the novel by Louisa May Alcott \n
URL:https://urbanmilwaukee.com/event/little-women-2/
LOCATION:108 E. Wells St.\, Milwaukee\, WI\, 53202\, United States
CATEGORIES:Arts & Entertainment
ATTACH;FMTTYPE=image/png:https://urbanmilwaukee.com/wp-content/uploads/2024/01/Little-Women1200x900-11.png
END:VEVENT
BEGIN:VEVENT
DTSTART;TZID=America/Chicago:20240127T190000
DTEND;TZID=America/Chicago:20240127T220000
DTSTAMP:20260423T131837
CREATED:20240105T064949Z
LAST-MODIFIED:20240105T064949Z
UID:758122-1706382000-1706392800@urbanmilwaukee.com
SUMMARY:3rd Annual Bluegrass Winter Heater feat. The MilBillies + Special Guests
DESCRIPTION:Join Anodyne Coffee Roasting Co. for the 3rd Annual Bluegrass Winter Heater featuring Valley Fox\, Dig Deep\, The Spooklights and The Milbillies! \nValley Fox \nA new Americana project out of Milwaukee\, Wisconsin from Joe Wais and Laura Bomber. \nDig Deep \nHard-driving string band music from the heart of Wisconsin. \nThe Spooklights \nThe Spooklights (formerly MK Ultra) is a unique collaboration of Ben Miller (Ben Miller Band) and Pat Kay (The Kay Brothers) born out of the great pandemic. You see…here’s what happens when two fellas like this spend too much time in their shops and start playing “I’ll show you mine if you show me yours.” Miller & Kay\, both renowned torchbearers for Ozark mountain music tradition heretofore\, have basically built themselves some kind of jangle-stomp-time machine. \nThe MilBillies \nWAMI nominated New Artist of the Year (2020)\, IBMA Showcase Artist (2021)\, and John Hartford Memorial Festival Band Contest Winners (2022)\, The MilBillies are a 5-piece string band slinging high-energy bluegrass. \n
URL:https://urbanmilwaukee.com/event/3rd-annual-bluegrass-winter-heater-feat-the-milbillies-special-guests/
LOCATION:Select a Country:
CATEGORIES:Arts & Entertainment
ATTACH;FMTTYPE=image/jpeg:https://urbanmilwaukee.com/wp-content/uploads/2021/11/dsc01852.jpg
END:VEVENT
BEGIN:VEVENT
DTSTART;TZID=America/Chicago:20240127T200000
DTEND;TZID=America/Chicago:20240127T220000
DTSTAMP:20260423T131837
CREATED:20240108T054632Z
LAST-MODIFIED:20240108T054632Z
UID:756009-1706385600-1706392800@urbanmilwaukee.com
SUMMARY:Guys On Ice
DESCRIPTION:Life on the lake is easy\, especially when the fish are biting\, the jokes are funny\, there’s a ‘couple two three’ beers in the bucket and the Green Bay Packers are on the field. From the warmth of their shanty ‘up north\,’ old pals Marvin and Lloyd spin wit\, wisdom and hilarious songs about life\, love and the one that got away. \nBooks & Lyrics by Fred Alley\nMusic by James Kaplan\nDirected & Choreographed by Jeffrey Herbst \n
URL:https://urbanmilwaukee.com/event/guys-on-ice-16/
LOCATION:108 E. Wells St.\, Milwaukee\, WI\, 53202\, United States
CATEGORIES:Arts & Entertainment
ATTACH;FMTTYPE=image/jpeg:https://urbanmilwaukee.com/wp-content/uploads/2023/12/Guys-on-Ice-1920x1080-16.jpg
END:VEVENT
BEGIN:VEVENT
DTSTART;TZID=America/Chicago:20240127T200000
DTEND;TZID=America/Chicago:20240127T220000
DTSTAMP:20260423T131837
CREATED:20240125T063024Z
LAST-MODIFIED:20240125T063024Z
UID:760788-1706385600-1706392800@urbanmilwaukee.com
SUMMARY:Little Women
DESCRIPTION:This endearing tale of family\, friendship\, love and adventure never fails to tug on the heartstrings\, and with a new adaptation by prolific playwright Kate Hamill\, it’s never been more resonant. During the years of the Civil War\, ambitious 15-year-old Jo March and her sisters must navigate hardships\, heartbreak and humility as they come of age in a world bound by class and tragedy. Tender and playful\, this incredible production will help you fall in love all over again with these four young dreamers as they discover themselves in a country divided. Little Women is the third production in our Classics Initiative. \nBy Kate Hamill\nDirected by Marti Lyons\nAdapted from the novel by Louisa May Alcott \n
URL:https://urbanmilwaukee.com/event/little-women-3/
LOCATION:108 E. Wells St.\, Milwaukee\, WI\, 53202\, United States
CATEGORIES:Arts & Entertainment
ATTACH;FMTTYPE=image/png:https://urbanmilwaukee.com/wp-content/uploads/2024/01/Little-Women1200x900-12.png
END:VEVENT
END:VCALENDAR