BEGIN:VCALENDAR
VERSION:2.0
PRODID:-//Urban Milwaukee - ECPv4.6.9//NONSGML v1.0//EN
CALSCALE:GREGORIAN
METHOD:PUBLISH
X-WR-CALNAME:Urban Milwaukee
X-ORIGINAL-URL:https://urbanmilwaukee.com
X-WR-CALDESC:Events for Urban Milwaukee
BEGIN:VEVENT
DTSTART;TZID=America/Chicago:20240120T150000
DTEND;TZID=America/Chicago:20240120T170000
DTSTAMP:20260423T030733
CREATED:20240106T065106Z
LAST-MODIFIED:20240106T065106Z
UID:755988-1705762800-1705770000@urbanmilwaukee.com
SUMMARY:Guys On Ice
DESCRIPTION:Life on the lake is easy\, especially when the fish are biting\, the jokes are funny\, there’s a ‘couple two three’ beers in the bucket and the Green Bay Packers are on the field. From the warmth of their shanty ‘up north\,’ old pals Marvin and Lloyd spin wit\, wisdom and hilarious songs about life\, love and the one that got away. \nBooks & Lyrics by Fred Alley\nMusic by James Kaplan\nDirected & Choreographed by Jeffrey Herbst \n
URL:https://urbanmilwaukee.com/event/guys-on-ice-7/
LOCATION:108 E. Wells St.\, Milwaukee\, WI\, 53202\, United States
CATEGORIES:Arts & Entertainment
ATTACH;FMTTYPE=image/jpeg:https://urbanmilwaukee.com/wp-content/uploads/2024/01/Guys-on-Ice-1080x1080-28.jpg
END:VEVENT
BEGIN:VEVENT
DTSTART;TZID=America/Chicago:20240120T150000
DTEND;TZID=America/Chicago:20240120T173000
DTSTAMP:20260423T030733
CREATED:20240106T065411Z
LAST-MODIFIED:20240106T065411Z
UID:760077-1705762800-1705771800@urbanmilwaukee.com
SUMMARY:Sip & Knit: Chunky Blankets
DESCRIPTION:Join SIP MKE to make a throw sized blanket all with your hands! No needles\, no “arms of yarn”. Plenty of time for sipping — and Knitting! All supplies are included in cost! Please note that yarn is not always available in unlimited quantities. Please identify your first and second choice of colors and we will do our best! Due to die lots\, etc\, the colors may vary slightly from the photos. If we do able to get your blanket color\, \, you can choose from available colors when you arrive. Drinks are available for purchase. \n
URL:https://urbanmilwaukee.com/event/sip-knit-chunky-blankets-7/
LOCATION:1515 W Mequon Road\, Mequon\, Wisconsin\, 53092\, Tanzania\, United Republic of
CATEGORIES:Arts & Entertainment,Class,Food & Drink
ATTACH;FMTTYPE=image/jpeg:https://urbanmilwaukee.com/wp-content/uploads/2024/01/56659.jpg
ORGANIZER;CN="SIP%20MKE":MAILTO:jackie@sipmke.com
END:VEVENT
BEGIN:VEVENT
DTSTART;TZID=America/Chicago:20240120T160000
DTEND;TZID=America/Chicago:20240120T235900
DTSTAMP:20260423T030733
CREATED:20240106T065845Z
LAST-MODIFIED:20240106T065845Z
UID:756781-1705766400-1705795140@urbanmilwaukee.com
SUMMARY:The Official Onesie Bar Crawl
DESCRIPTION:🐼🐹🦁 The 2024 Milwaukee Onesie Bar Crawl!!! 🐼🐹🦁 \n🐱 WHAT YOU GET 🐱 \n🐼 Join The comfiest party of the year! \n🍹 2-3 Drinks/Shots Included With Ticket Purchase! \n🥤 Crawl With US Stadium Party Cup! (First 200 Check Ins) \n📿Crawl With US Keychain Lanyard With Bottle Opener! (First 200 Check Ins) \n🍻 Exclusive Drink Specials! \n🍔 Food Specials At Partner Venues! \n🔥 TOTALLY AWESOME AFTER PARTY \n📛 Custom Onesie Bar Crawl Badge With Vouchers \n🦄 Finally Have A Reason To Wear Your Onesie In Public \n_______________________________________ \n🐶 CHECK IN TIME 4 p.m. to 6 p.m. 🐶 \n🐼 CRAWL TIME 4 p.m. to 10 p.m. 🐼 \n🐒 AFTER PARTY TIME 10 p.m. to 12 a.m. 🐒 \n_______________________________________ \n100% CANCELLATION REFUND GUARANTEE \n👌If the event is cancelled for any reason\, all tickets will be refunded in full! No vouchers\, no credits\, just your money back in your bank! Guaranteed! \n_______________________________________ \nFREQUENTLY ASKED QUESTIONS \nhttps://www.crawlwith.us/faq \n_______________________________________ \n🚫 DON’T DRINK AND DRIVE 🚫 \nWe Highly Suggest Using Uber or Lyft To And From The Bar Crawl! \n
URL:https://urbanmilwaukee.com/event/the-official-onesie-bar-crawl/
LOCATION:WI
CATEGORIES:Food & Drink
ATTACH;FMTTYPE=image/jpeg:https://urbanmilwaukee.com/wp-content/uploads/2023/12/55482.jpg
ORGANIZER;CN="Crawl%20With%20US":MAILTO:Support@CrawlWith.US
END:VEVENT
BEGIN:VEVENT
DTSTART;TZID=America/Chicago:20240120T200000
DTEND;TZID=America/Chicago:20240120T220000
DTSTAMP:20260423T030733
CREATED:20231228T073002Z
LAST-MODIFIED:20240104T161832Z
UID:758121-1705780800-1705788000@urbanmilwaukee.com
SUMMARY:Chris Haise Band + Sam Ness & The Other Natural Flavors + Ben Mulwana
DESCRIPTION:Join Anodyne Coffee Roasting Co. for an evening of live music featuring Chris Haise Band\, Sam Ness\, The Other Natural Flavors and Ben Mulwana! \nThe Milwaukee-based Chris Haise Band’s (pronounced Hi-zee) music is a blend of hook-filled ballads and toe tappers. Mixing Folk and Rock\, Haise’s vocals have been described as Dylan meets Springsteen meets Petty\, while his lyrics have been described as “smart new songwriting” and “Intense\, Thoughtful Songcraft”. \nFrom theater performer\, to full-time busker and wanderer\, festivals and cafes\, Sam Ness has shared the stage with America\, Styx\, Night Ranger\, Chris Barron (Spin Doctors)\, and many others. Mixing Traditional Folk/Americana roots with a new-age Alternative Singer/Songwriter feel\, Sam Ness finds inspiration in the ancient cobblestone streets across the globe. \nBen Mulwana is a Ugandan-born and raised artist residing in Kenosha\, Wisconsin. With thought-provoking lyrics and a diverse range of musical inspiration\, Mulwana’s music has been described as afro-soul rock that takes on a unique storytelling quality. The single features a full band composition\, bringing a dynamic and high-energy quality that builds on the soulful presence of his solo performances. \n
URL:https://urbanmilwaukee.com/event/chris-haise-band-sam-ness-the-other-natural-flavors-ben-mulwana/
LOCATION:224 W. Bruce St\, Milwaukee\, WI\, Milwaukee\, United States
CATEGORIES:Arts & Entertainment
ATTACH;FMTTYPE=image/jpeg:https://urbanmilwaukee.com/wp-content/uploads/2021/11/dsc01852.jpg
ORGANIZER;CN="Anodyne%20Coffee%20Roasting%20Co.":MAILTO:erica@anodynecoffee.com
END:VEVENT
BEGIN:VEVENT
DTSTART;TZID=America/Chicago:20240120T200000
DTEND;TZID=America/Chicago:20240120T220000
DTSTAMP:20260423T030733
CREATED:20240106T065234Z
LAST-MODIFIED:20240106T065234Z
UID:755989-1705780800-1705788000@urbanmilwaukee.com
SUMMARY:Guys On Ice
DESCRIPTION:Life on the lake is easy\, especially when the fish are biting\, the jokes are funny\, there’s a ‘couple two three’ beers in the bucket and the Green Bay Packers are on the field. From the warmth of their shanty ‘up north\,’ old pals Marvin and Lloyd spin wit\, wisdom and hilarious songs about life\, love and the one that got away. \nBooks & Lyrics by Fred Alley\nMusic by James Kaplan\nDirected & Choreographed by Jeffrey Herbst \n
URL:https://urbanmilwaukee.com/event/guys-on-ice-8/
LOCATION:108 E. Wells St.\, Milwaukee\, WI\, 53202\, United States
CATEGORIES:Arts & Entertainment
ATTACH;FMTTYPE=image/jpeg:https://urbanmilwaukee.com/wp-content/uploads/2023/12/Guys-on-Ice-1920x1080-7.jpg
END:VEVENT
END:VCALENDAR