BEGIN:VCALENDAR
VERSION:2.0
PRODID:-//Urban Milwaukee - ECPv4.6.9//NONSGML v1.0//EN
CALSCALE:GREGORIAN
METHOD:PUBLISH
X-WR-CALNAME:Urban Milwaukee
X-ORIGINAL-URL:https://urbanmilwaukee.com
X-WR-CALDESC:Events for Urban Milwaukee
BEGIN:VEVENT
DTSTART;TZID=America/Chicago:20240119T200000
DTEND;TZID=America/Chicago:20240119T220000
DTSTAMP:20260423T014551
CREATED:20231228T072659Z
LAST-MODIFIED:20240104T161740Z
UID:758118-1705694400-1705701600@urbanmilwaukee.com
SUMMARY:Luma Knotty + Recalcitrant
DESCRIPTION:Join Anodyne Coffee Roasting Co. for an evening of live music featuring Luma Knotty and Recalcitrant! \nLuma Knotty is a WAMI (Wisconsin Area Music Industry) Award-winning Green Bay band known for their original blend of guitar-driven funk\, rock\, and reggae. Founded in 2017 by guitarist Ryan Patrick with the idea to fuse his musical roots in blues and funk rock with his training from McNally Smith College of Music and his years of experience in roots reggae. While writing original music/lyrics\, Ryan wanted to create a more modern approach to reggae\, setting the vibe using vibrant stage designs. \nDefinition of RECALCITRANT:\n1: obstinately defiant of authority or restraint\n2a : difficult to manage or operate\nb : not responsive to treatment\nc : resistant\n— recalcitrant noun\nWith focus on original music that has been described as “progressive reggae”\, live performance is always a fun filled energetic event. 2011 found the band sharing the stage with national acts such as\,The Big Wu\, Orgone\, The Heavy Pets\, Roster McCabe and Cosmic Railroad\, and solidifying festival appearances throughout the Midwest. Great things are on the horizon\, and we invite you to join the fun! \n
URL:https://urbanmilwaukee.com/event/luma-knotty-recalcitrant/
LOCATION:224 W. Bruce St\, Milwaukee\, WI\, Milwaukee\, United States
CATEGORIES:Arts & Entertainment
ATTACH;FMTTYPE=image/jpeg:https://urbanmilwaukee.com/wp-content/uploads/2021/11/dsc01852.jpg
ORGANIZER;CN="Anodyne%20Coffee%20Roasting%20Co.":MAILTO:erica@anodynecoffee.com
END:VEVENT
BEGIN:VEVENT
DTSTART;TZID=America/Chicago:20240119T200000
DTEND;TZID=America/Chicago:20240119T220000
DTSTAMP:20260423T014551
CREATED:20240106T064906Z
LAST-MODIFIED:20240106T064906Z
UID:755986-1705694400-1705701600@urbanmilwaukee.com
SUMMARY:Guys On Ice
DESCRIPTION:Life on the lake is easy\, especially when the fish are biting\, the jokes are funny\, there’s a ‘couple two three’ beers in the bucket and the Green Bay Packers are on the field. From the warmth of their shanty ‘up north\,’ old pals Marvin and Lloyd spin wit\, wisdom and hilarious songs about life\, love and the one that got away. \nBooks & Lyrics by Fred Alley\nMusic by James Kaplan\nDirected & Choreographed by Jeffrey Herbst \n
URL:https://urbanmilwaukee.com/event/guys-on-ice-6/
LOCATION:108 E. Wells St.\, Milwaukee\, WI\, 53202\, United States
CATEGORIES:Arts & Entertainment
ATTACH;FMTTYPE=image/jpeg:https://urbanmilwaukee.com/wp-content/uploads/2023/12/Guys-on-Ice-1920x1080-6.jpg
END:VEVENT
END:VCALENDAR