BEGIN:VCALENDAR
VERSION:2.0
PRODID:-//Urban Milwaukee - ECPv4.6.9//NONSGML v1.0//EN
CALSCALE:GREGORIAN
METHOD:PUBLISH
X-WR-CALNAME:Urban Milwaukee
X-ORIGINAL-URL:https://urbanmilwaukee.com
X-WR-CALDESC:Events for Urban Milwaukee
BEGIN:VEVENT
DTSTART;TZID=America/Chicago:20240117T171500
DTEND;TZID=America/Chicago:20240117T181500
DTSTAMP:20260422T230450
CREATED:20240105T071311Z
LAST-MODIFIED:20240105T071311Z
UID:753232-1705511700-1705515300@urbanmilwaukee.com
SUMMARY:Ex Fabula StoryStarter Workshop: Seeking Joy
DESCRIPTION:New to storytelling? Or in need of a refresh on the basics? Want to practice a story to tell at our StorySlam? This workshop is for you! \nThis workshop takes place directly before the StorySlam and is meant to be a place to workshop a story you might want to tell on-stage later that night. If you aren’t ready to throw your name in the hat\, no worries! This space is open to anyone who is interested in becoming a better storyteller\, and is a perfect way for you to connect with other storytellers before our StorySlam!\nIn this workshop experienced storytelling coaches will guide you through an interactive training covering the need-to-know details of the craft. Discover\, shape and share your stories with confidence. Space is limited\, reserve a spot today! \nThis workshop gives you…\nA step-by-step guide to crafting a story\nThe confidence to someday tell your story on our stage\nSimple storytelling framework you can use everyday\nThe tools to become a superb storyteller or public speaker\n*This ticket does not provide entry into the following StorySlam. To attend the StorySlam\, you must purchase a separate ticket \n
URL:https://urbanmilwaukee.com/event/ex-fabula-storystarter-workshop-seeking-joy/
LOCATION:1128 N 9th St\, Milwaukee\, WI\, 53233\, United States
CATEGORIES:Arts & Entertainment,Comedy,Food & Drink
ATTACH;FMTTYPE=image/png:https://urbanmilwaukee.com/wp-content/uploads/2023/11/Screenshot-2023-11-18-at-11.40.48-AM.png
ORGANIZER;CN="Ex%20Fabula":MAILTO:info@exfabula.org
END:VEVENT
BEGIN:VEVENT
DTSTART;TZID=America/Chicago:20240117T190000
DTEND;TZID=America/Chicago:20240117T203000
DTSTAMP:20260422T230450
CREATED:20240105T071632Z
LAST-MODIFIED:20240105T071632Z
UID:753236-1705518000-1705523400@urbanmilwaukee.com
SUMMARY:Ex Fabula StorySlam: Seeking Joy
DESCRIPTION:Seeking Joy: Stories of overcoming\, protecting your peace\, celebrating the small things \nEx Fabula StorySlams are live events where community members connect and share true\, personal stories related to the night’s theme\, told without props or notes. Come just to listen – or throw your name in the hat for a chance to share a true story related to the theme ‘Seeking Joy’ At the end of the night\, the audience votes by secret ballot to crown an *Audience Favorite. \nThe audience can also be a part of the storytelling by submitting UltraShorts! These are “ultra-short” stories on the night’s theme that will be read onstage by the emcee. \nWant to practice your story before the slam? Join us for the StoryStarter workshop from 5:15-6:15pm right before the event! Get tickets to the workshop \n
URL:https://urbanmilwaukee.com/event/ex-fabula-storyslam-seeking-joy/
LOCATION:1128 N 9th St\, Milwaukee\, WI\, 53233\, United States
CATEGORIES:Arts & Entertainment,Comedy
ATTACH;FMTTYPE=image/png:https://urbanmilwaukee.com/wp-content/uploads/2023/11/Screenshot-2023-11-18-at-12.07.00-PM.png
ORGANIZER;CN="Ex%20Fabula":MAILTO:info@exfabula.org
END:VEVENT
BEGIN:VEVENT
DTSTART;TZID=America/Chicago:20240117T190000
DTEND;TZID=America/Chicago:20240117T203000
DTSTAMP:20260422T230450
CREATED:20240106T064239Z
LAST-MODIFIED:20240106T064239Z
UID:760082-1705518000-1705523400@urbanmilwaukee.com
SUMMARY:Cream City Book Club: 'The Violin Conspiracy' by Brendan Slocumb
DESCRIPTION:Come discuss “The Violin Conspiracy” by Brendan Slocumb. Ticket includes a glass of house wine and a fun bookish community. \nCream City Book Club is moderated by Nicole Mattke and meets at The Starling monthly. Ticket sales close at noon the day prior to each event. Included are prepared\, engaging discussion questions and a glass of house wine\, with additional drinks available on site for purchase. \n
URL:https://urbanmilwaukee.com/event/cream-city-book-club-the-violin-conspiracy-by-brendan-slocumb/
LOCATION:102 N. Water St.\, Milwaukee\, WI\, 53202\, United States
CATEGORIES:Arts & Entertainment,Food & Drink
ATTACH;FMTTYPE=image/png:https://urbanmilwaukee.com/wp-content/uploads/2024/01/CCBC-Logo.png
END:VEVENT
BEGIN:VEVENT
DTSTART;TZID=America/Chicago:20240117T193000
DTEND;TZID=America/Chicago:20240117T213000
DTSTAMP:20260422T230450
CREATED:20240106T064430Z
LAST-MODIFIED:20240106T064430Z
UID:755982-1705519800-1705527000@urbanmilwaukee.com
SUMMARY:Guys On Ice
DESCRIPTION:Life on the lake is easy\, especially when the fish are biting\, the jokes are funny\, there’s a ‘couple two three’ beers in the bucket and the Green Bay Packers are on the field. From the warmth of their shanty ‘up north\,’ old pals Marvin and Lloyd spin wit\, wisdom and hilarious songs about life\, love and the one that got away. \nBooks & Lyrics by Fred Alley\nMusic by James Kaplan\nDirected & Choreographed by Jeffrey Herbst \n
URL:https://urbanmilwaukee.com/event/guys-on-ice-4/
LOCATION:108 E. Wells St.\, Milwaukee\, WI\, 53202\, United States
CATEGORIES:Arts & Entertainment
ATTACH;FMTTYPE=image/jpeg:https://urbanmilwaukee.com/wp-content/uploads/2023/12/Guys-on-Ice-1920x1080-4.jpg
END:VEVENT
END:VCALENDAR