BEGIN:VCALENDAR
VERSION:2.0
PRODID:-//Urban Milwaukee - ECPv4.6.9//NONSGML v1.0//EN
CALSCALE:GREGORIAN
METHOD:PUBLISH
X-WR-CALNAME:Urban Milwaukee
X-ORIGINAL-URL:https://urbanmilwaukee.com
X-WR-CALDESC:Events for Urban Milwaukee
BEGIN:VEVENT
DTSTART;TZID=America/Chicago:20240115T100000
DTEND;TZID=America/Chicago:20240115T113000
DTSTAMP:20260422T200459
CREATED:20240105T070914Z
LAST-MODIFIED:20240105T070914Z
UID:758577-1705312800-1705318200@urbanmilwaukee.com
SUMMARY:Kids Impact Community MLK Day of Service 2024
DESCRIPTION:Celebrate the legacy of Dr. Martin Luther King\, Jr. with an all-ages\, family-friendly morning of learning and service. We will welcome a special guest speaker from Mr. Bob’s Under the Bridge for story time\, music\, movement\, and various on-site service projects\, including packing on-the-go winter hygiene kits and on-the-go breakfast bags for neighbors struggling with housing insecurity. \n
URL:https://urbanmilwaukee.com/event/kids-impact-community-mlk-day-of-service-2024/
LOCATION:7630 N Santa Monica Blvd\, Milwaukee\, WI\, 53217\, United States
CATEGORIES:History,Kids
ATTACH;FMTTYPE=image/jpeg:https://urbanmilwaukee.com/wp-content/uploads/2023/12/KIC-MLK-2024-500.jpg
END:VEVENT
BEGIN:VEVENT
DTSTART;TZID=America/Chicago:20240115T100000
DTEND;TZID=America/Chicago:20240115T140000
DTSTAMP:20260422T200459
CREATED:20240105T071045Z
LAST-MODIFIED:20241213T183732Z
UID:756579-1705312800-1705327200@urbanmilwaukee.com
SUMMARY:Grohmann Museum Kids' Art Day
DESCRIPTION:Join us for a special Kids’ Art Day on Dr. Martin Luther King Jr. Day. \nMuseum admission is free for the whole day and we will host drop-in art activities in the stART Lab (Lower Level) from 10 a.m. 2 p.m. \nChildren and their families are encouraged to stop by and make collages inspired by Romare Bearden\, draw with coloring pages\, and participate in a collaborative writing project. \n
URL:https://urbanmilwaukee.com/event/grohmann-museum-kids-art-day-2/
LOCATION:1000 N. Broadway\, Milwaukee\, WI\, 53202\, United States
CATEGORIES:Arts & Entertainment,History,Kids
ATTACH;FMTTYPE=image/png:https://urbanmilwaukee.com/wp-content/uploads/2023/12/1.15.24-Kids-Art-Day-Poster-1.png
ORGANIZER;CN="Grohmann%20Museum":MAILTO:grohmannmuseum@msoe.edu
END:VEVENT
END:VCALENDAR