BEGIN:VCALENDAR
VERSION:2.0
PRODID:-//Urban Milwaukee - ECPv4.6.9//NONSGML v1.0//EN
CALSCALE:GREGORIAN
METHOD:PUBLISH
X-WR-CALNAME:Urban Milwaukee
X-ORIGINAL-URL:https://urbanmilwaukee.com
X-WR-CALDESC:Events for Urban Milwaukee
BEGIN:VEVENT
DTSTART;TZID=America/Chicago:20240113T130000
DTEND;TZID=America/Chicago:20240113T150000
DTSTAMP:20260422T170915
CREATED:20240105T070404Z
LAST-MODIFIED:20240105T070404Z
UID:759547-1705150800-1705158000@urbanmilwaukee.com
SUMMARY:Winter Wonder Hike
DESCRIPTION:(For everyone 5+) We will explore ice safety on the lagoon\, do some trail walking\, and enjoy hot cocoa/tea with community members. If we have 6 inches or more of snow\, we will utilize snowshoes – so wear your warm boots either way! \n
URL:https://urbanmilwaukee.com/event/winter-wonder-hike/
LOCATION:1859 N. 40th St.\, Milwaukee\, WI\, 53208\, United States
CATEGORIES:Environment,Kids
ATTACH;FMTTYPE=image/jpeg:https://urbanmilwaukee.com/wp-content/uploads/2023/12/Winter-Wonder-Hike.jpg
END:VEVENT
BEGIN:VEVENT
DTSTART;TZID=America/Chicago:20240113T140000
DTEND;TZID=America/Chicago:20240113T163000
DTSTAMP:20260422T170915
CREATED:20231223T070112Z
LAST-MODIFIED:20231223T070112Z
UID:758934-1705154400-1705163400@urbanmilwaukee.com
SUMMARY:Gentlemen Prefer Blondes
DESCRIPTION:💎 Diamonds are a Girl’s Best Friend! Based on Anita Loos’s 1925 bestseller of the same title and later adapted to the legendary Marilyn Monroe film\, this iconic musical follows the glamorous and diamond-digging Lorelei Lee\, a blonde from Little Rock\, Arkansas\, who sails to Paris with her fun-lovin’ best friend Dorothy Shaw. En route\, the girls meet a number of accommodating gentlemen\, one who loses his diamond Tiara to Lorelei\, and another who loses his heart to Dorothy. \nFeaturing an unforgettable score by Jule Styne and Leo Robin\, including hit songs like “Diamonds Are A Girl’s Best Friend”\, “Bye Bye\, Baby”\, and “I’m Just A Little Girl From Little Rock.” Bombshell Theatre’s production of Gentlemen Prefer Blondes promises to be a glamorous spectacle that will transport you back to the golden age of musical theatre. \n
URL:https://urbanmilwaukee.com/event/gentlemen-prefer-blondes-9/
LOCATION:700 Wall St\, Elm Grove\, WI\, 53122\, United States
CATEGORIES:Arts & Entertainment
ATTACH;FMTTYPE=image/jpeg:https://urbanmilwaukee.com/wp-content/uploads/2023/11/Gentlemen-Prefer-Blondes.jpg
END:VEVENT
BEGIN:VEVENT
DTSTART;TZID=America/Chicago:20240113T193000
DTEND;TZID=America/Chicago:20240113T220000
DTSTAMP:20260422T170915
CREATED:20231223T070136Z
LAST-MODIFIED:20231223T070136Z
UID:758936-1705174200-1705183200@urbanmilwaukee.com
SUMMARY:Gentlemen Prefer Blondes
DESCRIPTION:💎 Diamonds are a Girl’s Best Friend! Based on Anita Loos’s 1925 bestseller of the same title and later adapted to the legendary Marilyn Monroe film\, this iconic musical follows the glamorous and diamond-digging Lorelei Lee\, a blonde from Little Rock\, Arkansas\, who sails to Paris with her fun-lovin’ best friend Dorothy Shaw. En route\, the girls meet a number of accommodating gentlemen\, one who loses his diamond Tiara to Lorelei\, and another who loses his heart to Dorothy. \nFeaturing an unforgettable score by Jule Styne and Leo Robin\, including hit songs like “Diamonds Are A Girl’s Best Friend”\, “Bye Bye\, Baby”\, and “I’m Just A Little Girl From Little Rock.” Bombshell Theatre’s production of Gentlemen Prefer Blondes promises to be a glamorous spectacle that will transport you back to the golden age of musical theatre. \n
URL:https://urbanmilwaukee.com/event/gentlemen-prefer-blondes-10/
LOCATION:700 Wall St\, Elm Grove\, WI\, 53122\, United States
CATEGORIES:Arts & Entertainment
ATTACH;FMTTYPE=image/jpeg:https://urbanmilwaukee.com/wp-content/uploads/2023/11/Gentlemen-Prefer-Blondes.jpg
END:VEVENT
BEGIN:VEVENT
DTSTART;TZID=America/Chicago:20240113T200000
DTEND;TZID=America/Chicago:20240113T220000
DTSTAMP:20260422T170915
CREATED:20231228T072408Z
LAST-MODIFIED:20231228T160008Z
UID:758117-1705176000-1705183200@urbanmilwaukee.com
SUMMARY:Adem Tesfaye
DESCRIPTION:Join Anodyne Coffee Roasting Co. for an evening of live music featuring Adem Tesfaye! \nAdem Tesfaye is a Madison\, WI. native\, emcee/songwriter\, Hip-hop guitarist\, a music producer whose music style has deep roots in Hip-Hop\, funk\, reggae\, and blues. Adem draws his inspiration from artists like Bob Marley\, Jimi Hendrix\, Tribe Called Quest\, Gang Star\, and the Roots. His craftsmanship of storytelling is unique and rhythmically hypnotic. Adem’s stature on stage and baritone voice ooze with sexy richness\, heartfelt warmth\, life wisdom\, and command. Having lived in Seattle and NYC his sound is an elixir of grit\, instrumentation\, big stage performance\, and Broadway lights. Adem released two solo albums\, D-iZ-lll “the Sickness” and “Athedage” with producer Rick Flowers\, Mannie Sanchez and Matt Mueller and shared stage with acts like Red Man\, Method Man\, De la soul\, Pharside\, Ben Harper\, Spearhead\, and Jazzmatazz. His latest Release “Pressure”! released March 11th\, 2022 with his new crew. Adem Tesfaye Band is a Soul Funk Rock band with a Hip-Hop edge. \nTickets are $10 in advance or $15 at the door. Doors open at 7 p.m. and the show begins at 8 p.m. \n
URL:https://urbanmilwaukee.com/event/adem-tesfaye/
LOCATION:224 W. Bruce St\, Milwaukee\, WI\, Milwaukee\, United States
CATEGORIES:Arts & Entertainment
ATTACH;FMTTYPE=image/jpeg:https://urbanmilwaukee.com/wp-content/uploads/2021/11/dsc01852.jpg
ORGANIZER;CN="Anodyne%20Coffee%20Roasting%20Co.":MAILTO:erica@anodynecoffee.com
END:VEVENT
BEGIN:VEVENT
DTSTART;TZID=America/Chicago:20240113T200000
DTEND;TZID=America/Chicago:20240113T220000
DTSTAMP:20260422T170915
CREATED:20240105T070541Z
LAST-MODIFIED:20240105T070541Z
UID:755978-1705176000-1705183200@urbanmilwaukee.com
SUMMARY:Guys On Ice
DESCRIPTION:Life on the lake is easy\, especially when the fish are biting\, the jokes are funny\, there’s a ‘couple two three’ beers in the bucket and the Green Bay Packers are on the field. From the warmth of their shanty ‘up north\,’ old pals Marvin and Lloyd spin wit\, wisdom and hilarious songs about life\, love and the one that got away. \nBooks & Lyrics by Fred Alley\nMusic by James Kaplan\nDirected & Choreographed by Jeffrey Herbst \n
URL:https://urbanmilwaukee.com/event/guys-on-ice-2/
LOCATION:108 E. Wells St.\, Milwaukee\, WI\, 53202\, United States
CATEGORIES:Arts & Entertainment
ATTACH;FMTTYPE=image/jpeg:https://urbanmilwaukee.com/wp-content/uploads/2023/12/Guys-on-Ice-1920x1080-2.jpg
END:VEVENT
END:VCALENDAR