BEGIN:VCALENDAR
VERSION:2.0
PRODID:-//Urban Milwaukee - ECPv4.6.9//NONSGML v1.0//EN
CALSCALE:GREGORIAN
METHOD:PUBLISH
X-WR-CALNAME:Urban Milwaukee
X-ORIGINAL-URL:https://urbanmilwaukee.com
X-WR-CALDESC:Events for Urban Milwaukee
BEGIN:VEVENT
DTSTART;TZID=America/Chicago:20240112T110000
DTEND;TZID=America/Chicago:20240112T160000
DTSTAMP:20260422T182900
CREATED:20240105T070020Z
LAST-MODIFIED:20240105T070020Z
UID:758281-1705057200-1705075200@urbanmilwaukee.com
SUMMARY:Versiti Blood Drive
DESCRIPTION:Help us save lives by donating blood at Versiti’s Blood Drive on Friday\, January 12th at BAYSHORE! Your support saves lives\, including those with sickle cell disease. The approximately 100\,000 Americans with this inherited blood disorder can experience severe pain and often require blood transfusions as a form of treatment. Every day\, Versiti Blood Center of Wisconsin needs more than 640 blood products to meet hospital demand. All donations go back to help people in our communities! Secure your appointment today and thank you for helping save lives! \nBook Your Appointment! \n
URL:https://urbanmilwaukee.com/event/versiti-blood-drive-3/
LOCATION:5800 N. Bayshore Dr.\, Glendale\, WI\, 53217\, United States
CATEGORIES:Fundraiser,Health
ATTACH;FMTTYPE=image/png:https://urbanmilwaukee.com/wp-content/uploads/2023/12/Winter_Banner_Versiti.png
END:VEVENT
BEGIN:VEVENT
DTSTART;TZID=America/Chicago:20240112T180000
DTEND;TZID=America/Chicago:20240112T200000
DTSTAMP:20260422T182900
CREATED:20240108T053045Z
LAST-MODIFIED:20240108T053045Z
UID:760621-1705082400-1705089600@urbanmilwaukee.com
SUMMARY:'New Frontiers' Exhibition Opening Event
DESCRIPTION:Scout Gallery presents an exceptional collection of artworks by Brian Hibbard\, Ross Severson\, and Sara Willadsen in our latest exhibition\, “New Frontiers.” \nThese artists abandon conventional boundaries to forge ahead into new realms of creativity. Sharing a passion for using found materials\, their vibrant abstract compositions reveal a commitment to utilize the past to push artistic creations into the future.\nJoin us on a visual journey through uncharted territories. \n
URL:https://urbanmilwaukee.com/event/new-frontiers-exhibition-opening-event/
LOCATION:2625 S. Greeley St.\, #110\, Milwaukee\, WI\, 53207\, United States
CATEGORIES:Arts & Entertainment
ATTACH;FMTTYPE=image/jpeg:https://urbanmilwaukee.com/wp-content/uploads/2024/01/new_frontiers.jpg
ORGANIZER;CN="Scout%20Gallery":MAILTO:scoutgallerymke@gmail.com
END:VEVENT
BEGIN:VEVENT
DTSTART;TZID=America/Chicago:20240112T190000
DTEND;TZID=America/Chicago:20240112T213000
DTSTAMP:20260422T182900
CREATED:20240105T070131Z
LAST-MODIFIED:20240105T070131Z
UID:760073-1705086000-1705095000@urbanmilwaukee.com
SUMMARY:Wiegratz & DeRose Jazz Duo
DESCRIPTION:Join SIP MKE for an evening of live music featuring Warren Wiegratz and Mike DeRose. \nWarren Wiegratz\, WAMI Hall of Fame saxophonist\, and Guitarist Mike DeRose\, a staple in the Milwaukee area\, make a powerful duo with Jazz Covers from artists such as… David Sanborn\, Peter White\, Fourplay\, and Miles. They provide a sound that is both energizing and relaxing at each performance! \n
URL:https://urbanmilwaukee.com/event/wiegratz-derose-jazz-duo-2/
LOCATION:1515 West Mequon Road\, Mequon\, WI\, 53092\, United States
CATEGORIES:Arts & Entertainment
ATTACH;FMTTYPE=image/jpeg:https://urbanmilwaukee.com/wp-content/uploads/2024/01/56664.jpg
ORGANIZER;CN="SIP%20MKE":MAILTO:jackie@sipmke.com
END:VEVENT
BEGIN:VEVENT
DTSTART;TZID=America/Chicago:20240112T193000
DTEND;TZID=America/Chicago:20240112T220000
DTSTAMP:20260422T182900
CREATED:20231223T070031Z
LAST-MODIFIED:20231223T070031Z
UID:758932-1705087800-1705096800@urbanmilwaukee.com
SUMMARY:Gentlemen Prefer Blondes
DESCRIPTION:💎 Diamonds are a Girl’s Best Friend! Based on Anita Loos’s 1925 bestseller of the same title and later adapted to the legendary Marilyn Monroe film\, this iconic musical follows the glamorous and diamond-digging Lorelei Lee\, a blonde from Little Rock\, Arkansas\, who sails to Paris with her fun-lovin’ best friend Dorothy Shaw. En route\, the girls meet a number of accommodating gentlemen\, one who loses his diamond Tiara to Lorelei\, and another who loses his heart to Dorothy. \nFeaturing an unforgettable score by Jule Styne and Leo Robin\, including hit songs like “Diamonds Are A Girl’s Best Friend”\, “Bye Bye\, Baby”\, and “I’m Just A Little Girl From Little Rock.” Bombshell Theatre’s production of Gentlemen Prefer Blondes promises to be a glamorous spectacle that will transport you back to the golden age of musical theatre. \n
URL:https://urbanmilwaukee.com/event/gentlemen-prefer-blondes-8/
LOCATION:700 Wall St\, Elm Grove\, WI\, 53122\, United States
CATEGORIES:Arts & Entertainment
ATTACH;FMTTYPE=image/jpeg:https://urbanmilwaukee.com/wp-content/uploads/2023/11/Gentlemen-Prefer-Blondes.jpg
END:VEVENT
BEGIN:VEVENT
DTSTART;TZID=America/Chicago:20240112T200000
DTEND;TZID=America/Chicago:20240112T220000
DTSTAMP:20260422T182900
CREATED:20231228T072200Z
LAST-MODIFIED:20231228T155926Z
UID:758116-1705089600-1705096800@urbanmilwaukee.com
SUMMARY:Miles Over Mountains with special guest Craig Baumann
DESCRIPTION:Join Anodyne Coffee Roasting Co. for an evening of live music featuring Miles Over Mountains and Craig Baumann! \nHailing from McHenry Illinois Miles Over Mountains plays a modernized style of progressive bluegrass covering a wide spectrum of genres\, dynamics\, and feeling. Their live show captivates the audience with anything from lightning fast picking to strong 3 part harmonies to heartfelt ballads. Their extensive repertoire draws from their 4 studio albums “Five Star Heart Breaker” (2015) -“Ballads & Burners” (2017) – “Work Harder Not Smarter” (2020) – “Burn The Ships” (2023). The band has been performing\, touring\, and making records since early 2014 playing an average of 150+ shows per year throughout the Midwest regions and beyond. The band looks ahead with excitement and ambition to touring thru a town near you! ​Collectively the members of the group have thousands of shows under their belt\, giving their songs\, sound\, and performances a musical maturity that echoes their collective years of passion and experience for their craft. \nTickets are $10 in advance or $15 at the door. Doors open at 7 p.m. and the show begins at 8 p.m. \n
URL:https://urbanmilwaukee.com/event/miles-over-mountains-with-special-guest-craig-baumann/
LOCATION:224 W. Bruce St\, Milwaukee\, WI\, Milwaukee\, United States
CATEGORIES:Arts & Entertainment
ATTACH;FMTTYPE=image/jpeg:https://urbanmilwaukee.com/wp-content/uploads/2021/11/dsc01852.jpg
ORGANIZER;CN="Anodyne%20Coffee%20Roasting%20Co.":MAILTO:erica@anodynecoffee.com
END:VEVENT
BEGIN:VEVENT
DTSTART;TZID=America/Chicago:20240112T200000
DTEND;TZID=America/Chicago:20240112T220000
DTSTAMP:20260422T182900
CREATED:20240105T070257Z
LAST-MODIFIED:20240105T070257Z
UID:755974-1705089600-1705096800@urbanmilwaukee.com
SUMMARY:Guys On Ice
DESCRIPTION:Life on the lake is easy\, especially when the fish are biting\, the jokes are funny\, there’s a ‘couple two three’ beers in the bucket and the Green Bay Packers are on the field. From the warmth of their shanty ‘up north\,’ old pals Marvin and Lloyd spin wit\, wisdom and hilarious songs about life\, love and the one that got away. \nBooks & Lyrics by Fred Alley\nMusic by James Kaplan\nDirected & Choreographed by Jeffrey Herbst \n
URL:https://urbanmilwaukee.com/event/guys-on-ice/
LOCATION:108 E Wells Street\, Milwaukee\, WI\, 53202\, United States
CATEGORIES:Arts & Entertainment
ATTACH;FMTTYPE=image/jpeg:https://urbanmilwaukee.com/wp-content/uploads/2023/12/Guys-on-Ice-1920x1080-1.jpg
END:VEVENT
END:VCALENDAR