BEGIN:VCALENDAR
VERSION:2.0
PRODID:-//Urban Milwaukee - ECPv4.6.9//NONSGML v1.0//EN
CALSCALE:GREGORIAN
METHOD:PUBLISH
X-WR-CALNAME:Urban Milwaukee
X-ORIGINAL-URL:https://urbanmilwaukee.com
X-WR-CALDESC:Events for Urban Milwaukee
BEGIN:VEVENT
DTSTART;TZID=America/Chicago:20240109T160000
DTEND;TZID=America/Chicago:20240109T183000
DTSTAMP:20260422T223547
CREATED:20231228T074248Z
LAST-MODIFIED:20231228T074248Z
UID:758357-1704816000-1704825000@urbanmilwaukee.com
SUMMARY:Sur La Table Class: Italian Favorites
DESCRIPTION:Enjoy delicious food and hone your kitchen skills with cooking classes presented by Sur La Table BAYSHORE. See their website for pricing and to book a class. \nCooking Class Description: Immerse yourself in the flavors of Tuscany! Our chef instructor will guide you through searing a steak and creating bold Italian sauces to pair with your meal. As you explore the non-pasta side of Italian cuisine\, you’ll learn to mix\, shape and cook potato gnocchi\, and then assemble a light and refreshing salad. \nWhat To Expect: In our classes you’ll work together with other students in a fun\, hands-on environment led by our professional chef instructors. \nYou will work with other students in groups of 4\, sharing workstations and equipment.\nClasses are 2 to 2 1/2 hours\, unless otherwise noted above\nHands-on classes are limited to 12-16 students\, depending on location.\nYou will be standing\, cooking and working for most of the class\nPlease wear comfortable\, closed-toe shoes and have long hair tied back\nStudents receive a coupon good for 10% off in-store purchases the day of class\nSur La Table recipes are developed using common cooking and baking ingredients that may or may not be specified in the menu titles\, including various fruits and vegetables\, nuts\, meats\, spices\, wheat flours\, etc. If you have a food allergy\, please check with your local Cooking School before attending the class. Adjustments to recipes cannot be made during class. \n
URL:https://urbanmilwaukee.com/event/sur-la-table-class-italian-favorites/
LOCATION:480 West Northshore Drive Space P-114\, Glendale\, WI\, 53217\, United States
CATEGORIES:Class,Food & Drink
ATTACH;FMTTYPE=image/png:https://urbanmilwaukee.com/wp-content/uploads/2023/12/Italian-Favorites.png
END:VEVENT
BEGIN:VEVENT
DTSTART;TZID=America/Chicago:20240109T170000
DTEND;TZID=America/Chicago:20240109T200000
DTSTAMP:20260422T223547
CREATED:20231228T074409Z
LAST-MODIFIED:20231228T074409Z
UID:756933-1704819600-1704830400@urbanmilwaukee.com
SUMMARY:Best of Milwaukee 2023 Party
DESCRIPTION:Want to find out who is Milwaukee’s Best? Come be the first to see who wins the Shepherd Express Best of Milwaukee 2023 Awards! Kick off 2024 with a bang as we reveal the winners from the Best of Milwaukee voting. Enjoy the red-carpet night with music\, food samples\, and more. \n
URL:https://urbanmilwaukee.com/event/best-of-milwaukee-2023-party/
LOCATION:631 E. Chicago St.\, Milwaukee\, WI\, 53202\, United States
CATEGORIES:Arts & Entertainment
ATTACH;FMTTYPE=image/jpeg:https://urbanmilwaukee.com/wp-content/uploads/2023/12/WebAd_BestOfMilwaukee2023_November2023_300x250.jpg
ORGANIZER;CN="Shepherd%20Express":MAILTO:emily@waterstreetcreative.com
END:VEVENT
BEGIN:VEVENT
DTSTART;TZID=America/Chicago:20240109T193000
DTEND;TZID=America/Chicago:20240109T220000
DTSTAMP:20260422T223547
CREATED:20231223T065826Z
LAST-MODIFIED:20231223T065900Z
UID:758926-1704828600-1704837600@urbanmilwaukee.com
SUMMARY:Gentlemen Prefer Blondes
DESCRIPTION:💎 Diamonds are a Girl’s Best Friend! Based on Anita Loos’s 1925 bestseller of the same title and later adapted to the legendary Marilyn Monroe film\, this iconic musical follows the glamorous and diamond-digging Lorelei Lee\, a blonde from Little Rock\, Arkansas\, who sails to Paris with her fun-lovin’ best friend Dorothy Shaw. En route\, the girls meet a number of accommodating gentlemen\, one who loses his diamond Tiara to Lorelei\, and another who loses his heart to Dorothy. \nFeaturing an unforgettable score by Jule Styne and Leo Robin\, including hit songs like “Diamonds Are A Girl’s Best Friend”\, “Bye Bye\, Baby”\, and “I’m Just A Little Girl From Little Rock.” Bombshell Theatre’s production of Gentlemen Prefer Blondes promises to be a glamorous spectacle that will transport you back to the golden age of musical theatre. \n
URL:https://urbanmilwaukee.com/event/gentlemen-prefer-blondes-5/
LOCATION:700 Wall St\, Elm Grove\, WI\, 53122\, United States
CATEGORIES:Arts & Entertainment
ATTACH;FMTTYPE=image/jpeg:https://urbanmilwaukee.com/wp-content/uploads/2023/11/Gentlemen-Prefer-Blondes.jpg
END:VEVENT
END:VCALENDAR