BEGIN:VCALENDAR
VERSION:2.0
PRODID:-//Urban Milwaukee - ECPv4.6.9//NONSGML v1.0//EN
CALSCALE:GREGORIAN
METHOD:PUBLISH
X-WR-CALNAME:Urban Milwaukee
X-ORIGINAL-URL:https://urbanmilwaukee.com
X-WR-CALDESC:Events for Urban Milwaukee
BEGIN:VEVENT
DTSTART;TZID=America/Chicago:20240107T140000
DTEND;TZID=America/Chicago:20240107T163000
DTSTAMP:20260423T013043
CREATED:20231223T065752Z
LAST-MODIFIED:20231223T065752Z
UID:758924-1704636000-1704645000@urbanmilwaukee.com
SUMMARY:Gentlemen Prefer Blondes
DESCRIPTION:💎 Diamonds are a Girl’s Best Friend! Based on Anita Loos’s 1925 bestseller of the same title and later adapted to the legendary Marilyn Monroe film\, this iconic musical follows the glamorous and diamond-digging Lorelei Lee\, a blonde from Little Rock\, Arkansas\, who sails to Paris with her fun-lovin’ best friend Dorothy Shaw. En route\, the girls meet a number of accommodating gentlemen\, one who loses his diamond Tiara to Lorelei\, and another who loses his heart to Dorothy. \nFeaturing an unforgettable score by Jule Styne and Leo Robin\, including hit songs like “Diamonds Are A Girl’s Best Friend”\, “Bye Bye\, Baby”\, and “I’m Just A Little Girl From Little Rock.” Bombshell Theatre’s production of Gentlemen Prefer Blondes promises to be a glamorous spectacle that will transport you back to the golden age of musical theatre. \n
URL:https://urbanmilwaukee.com/event/gentlemen-prefer-blondes-4/
LOCATION:700 Wall St\, Elm Grove\, WI\, 53122\, United States
CATEGORIES:Arts & Entertainment
ATTACH;FMTTYPE=image/jpeg:https://urbanmilwaukee.com/wp-content/uploads/2023/11/Gentlemen-Prefer-Blondes.jpg
END:VEVENT
BEGIN:VEVENT
DTSTART;TZID=America/Chicago:20240107T140000
DTEND;TZID=America/Chicago:20240107T160000
DTSTAMP:20260423T013043
CREATED:20231228T073905Z
LAST-MODIFIED:20231228T073905Z
UID:745592-1704636000-1704643200@urbanmilwaukee.com
SUMMARY:Nuncrackers
DESCRIPTION:The hilarious sisters of Nunsense are back\, spreading yuletide laughs\, cheerful carols and the gift of festive mischief with a new Christmas special for cable access. Complete with (mostly) traditional holiday songs\, a silly secret Santa contest\, and a not-so-graceful take on Tchaikovsky’s Nutcracker Ballet that will have you laughing all the way through New Year’s. \n
URL:https://urbanmilwaukee.com/event/nuncrackers-52/
LOCATION:108 E. Wells St.\, Milwaukee\, WI\, 53202\, United States
CATEGORIES:Arts & Entertainment
ATTACH;FMTTYPE=image/jpeg:https://urbanmilwaukee.com/wp-content/uploads/2023/10/Nuncrackers_300-38-scaled.jpg
END:VEVENT
END:VCALENDAR