BEGIN:VCALENDAR
VERSION:2.0
PRODID:-//Urban Milwaukee - ECPv4.6.9//NONSGML v1.0//EN
CALSCALE:GREGORIAN
METHOD:PUBLISH
X-WR-CALNAME:Urban Milwaukee
X-ORIGINAL-URL:https://urbanmilwaukee.com
X-WR-CALDESC:Events for Urban Milwaukee
BEGIN:VEVENT
DTSTART;TZID=America/Chicago:20231230T150000
DTEND;TZID=America/Chicago:20231230T170000
DTSTAMP:20260423T123609
CREATED:20231223T063010Z
LAST-MODIFIED:20231223T063010Z
UID:745570-1703948400-1703955600@urbanmilwaukee.com
SUMMARY:Nuncrackers
DESCRIPTION:The hilarious sisters of Nunsense are back\, spreading yuletide laughs\, cheerful carols and the gift of festive mischief with a new Christmas special for cable access. Complete with (mostly) traditional holiday songs\, a silly secret Santa contest\, and a not-so-graceful take on Tchaikovsky’s Nutcracker Ballet that will have you laughing all the way through New Year’s. \n
URL:https://urbanmilwaukee.com/event/nuncrackers-46/
LOCATION:108 E. Wells St.\, Milwaukee\, WI\, 53202\, United States
CATEGORIES:Arts & Entertainment
ATTACH;FMTTYPE=image/jpeg:https://urbanmilwaukee.com/wp-content/uploads/2023/10/Nuncrackers_300-30-scaled.jpg
END:VEVENT
BEGIN:VEVENT
DTSTART;TZID=America/Chicago:20231230T190000
DTEND;TZID=America/Chicago:20231230T213000
DTSTAMP:20260423T123609
CREATED:20231223T064149Z
LAST-MODIFIED:20231223T064149Z
UID:754026-1703962800-1703971800@urbanmilwaukee.com
SUMMARY:The Robert Austin Project
DESCRIPTION:Join SIP MKE for an evening of live music featuring The Robert Austin Project! \nThe Robert Austin Project is an acoustic band project playing a mixture favorite Americana and progressive country songs\, with a touch of tequila thrown in. Artist covers include Eagles\, America\, Kenny Chesney\, Darius Rucker\, Jimmy Buffet\, Marshall Tucker Band\, and more.  All seating is first come first served. \n
URL:https://urbanmilwaukee.com/event/the-robert-austin-project-2/
LOCATION:1515 W Mequon Road\, Mequon\, Wisconsin\, 53092\, Tanzania\, United Republic of
CATEGORIES:Arts & Entertainment,Food & Drink
ATTACH;FMTTYPE=image/jpeg:https://urbanmilwaukee.com/wp-content/uploads/2023/11/banner-4.jpg
ORGANIZER;CN="SIP%20MKE":MAILTO:jackie@sipmke.com
END:VEVENT
BEGIN:VEVENT
DTSTART;TZID=America/Chicago:20231230T200000
DTEND;TZID=America/Chicago:20231230T230000
DTSTAMP:20260423T123609
CREATED:20231223T064400Z
LAST-MODIFIED:20231223T064400Z
UID:753528-1703966400-1703977200@urbanmilwaukee.com
SUMMARY:Mike Mangione & The Kin with special guest Sam Knutson
DESCRIPTION:Join Anodyne Coffee Roasting Co. for an evening of live music featuring Mike Mangione & The Kin and Sam Knutson. \nYou can sense the sweat and tears singer-songwriter Mangione put in his latest album\, produced by Larry Campbell\, the late Levon Helm’s Grammy-winning music director and producer\, and Bob Dylan’s former guitarist. Campbell gives these 11 Americana tracks a warm glow\, but it’s Mangione’s impassioned lyrics\, pleading for strength despite life’s pains on “Spirit Awake” for instance\, that shine brightest. – Piet Levy\, Milwaukee Journal Sentinel \n
URL:https://urbanmilwaukee.com/event/mike-mangione-the-kin-with-special-guest-sam-knutson/
LOCATION:224 W. Bruce St.\, Milwaukee\, WI\, 53204\, United States
CATEGORIES:Arts & Entertainment
ATTACH;FMTTYPE=image/jpeg:https://urbanmilwaukee.com/wp-content/uploads/2021/11/dsc01852.jpg
ORGANIZER;CN="Anodyne%20Coffee%20Roasting%20Co.":MAILTO:erica@anodynecoffee.com
END:VEVENT
BEGIN:VEVENT
DTSTART;TZID=America/Chicago:20231230T200000
DTEND;TZID=America/Chicago:20231230T220000
DTSTAMP:20260423T123609
CREATED:20231223T064519Z
LAST-MODIFIED:20231223T064519Z
UID:745573-1703966400-1703973600@urbanmilwaukee.com
SUMMARY:Nuncrackers
DESCRIPTION:The hilarious sisters of Nunsense are back\, spreading yuletide laughs\, cheerful carols and the gift of festive mischief with a new Christmas special for cable access. Complete with (mostly) traditional holiday songs\, a silly secret Santa contest\, and a not-so-graceful take on Tchaikovsky’s Nutcracker Ballet that will have you laughing all the way through New Year’s. \n
URL:https://urbanmilwaukee.com/event/nuncrackers-50/
LOCATION:108 E. Wells St.\, Milwaukee\, WI\, 53202\, United States
CATEGORIES:Arts & Entertainment
ATTACH;FMTTYPE=image/jpeg:https://urbanmilwaukee.com/wp-content/uploads/2023/10/Nuncrackers_300-31-scaled.jpg
END:VEVENT
END:VCALENDAR