BEGIN:VCALENDAR
VERSION:2.0
PRODID:-//Urban Milwaukee - ECPv4.6.9//NONSGML v1.0//EN
CALSCALE:GREGORIAN
METHOD:PUBLISH
X-WR-CALNAME:Urban Milwaukee
X-ORIGINAL-URL:https://urbanmilwaukee.com
X-WR-CALDESC:Events for Urban Milwaukee
BEGIN:VEVENT
DTSTART;TZID=America/Chicago:20231228T183000
DTEND;TZID=America/Chicago:20231228T210000
DTSTAMP:20260423T161031
CREATED:20231222T054730Z
LAST-MODIFIED:20231222T054730Z
UID:754482-1703788200-1703797200@urbanmilwaukee.com
SUMMARY:Milwaukee Contra Dance
DESCRIPTION:Open Community Dance with live music and a caller. \nLive music by Blackthorn Folly. \nNew dancers welcomed! No partner necessary! No experience necessary! \nIf you can walk\, you can contra dance \nIf new\, consider joining in the fun lesson/orientation a half hour before the dance. If you can’t make that\, show up anyway\, you’ll pick it up!! \nMany of us bring clean\, soft soled shoes to change into to protect floors. At the very least\, clean the sand\, salt and pebbles from your soles. \nBring friends for more fun! \nCommunity dancing for all ages. \nHigh energy\, live music. \nEach dance is taught\, then danced to live music for about 5-8 minutes. \nEveryone makes mistakes but nobody cares. \nThe more you do it\, the easier and more fun it becomes. \nTreat one another with care and respect\, smile and have a good time. \nBring a water bottle as dancing is a great workout! \n
URL:https://urbanmilwaukee.com/event/milwaukee-contra-dance-5/
LOCATION:9159 Beloit Rd\, Milwaukee\, WI\, 53227\, United States
CATEGORIES:Active
ATTACH;FMTTYPE=image/jpeg:https://urbanmilwaukee.com/wp-content/uploads/2023/11/Dec28.2023Contra.jpg
ORGANIZER;CN="Milwaukee%20Contra%20Dance":MAILTO:contradancemke@gmail.com
END:VEVENT
BEGIN:VEVENT
DTSTART;TZID=America/Chicago:20231228T193000
DTEND;TZID=America/Chicago:20231228T213000
DTSTAMP:20260423T161031
CREATED:20231222T054851Z
LAST-MODIFIED:20231222T054851Z
UID:745565-1703791800-1703799000@urbanmilwaukee.com
SUMMARY:Nuncrackers
DESCRIPTION:The hilarious sisters of Nunsense are back\, spreading yuletide laughs\, cheerful carols and the gift of festive mischief with a new Christmas special for cable access. Complete with (mostly) traditional holiday songs\, a silly secret Santa contest\, and a not-so-graceful take on Tchaikovsky’s Nutcracker Ballet that will have you laughing all the way through New Year’s. \n
URL:https://urbanmilwaukee.com/event/nuncrackers-44/
LOCATION:108 E. Wells St.\, Milwaukee\, WI\, 53202\, United States
CATEGORIES:Arts & Entertainment
ATTACH;FMTTYPE=image/jpeg:https://urbanmilwaukee.com/wp-content/uploads/2023/10/Nuncrackers_300-28-scaled.jpg
END:VEVENT
BEGIN:VEVENT
DTSTART;TZID=America/Chicago:20231228T200000
DTEND;TZID=America/Chicago:20231228T230000
DTSTAMP:20260423T161031
CREATED:20231223T063631Z
LAST-MODIFIED:20231223T063631Z
UID:753526-1703793600-1703804400@urbanmilwaukee.com
SUMMARY:Trapper Schoepp with special guest Nick Maas
DESCRIPTION:Join Anodyne Coffee Roasting Co. for an evening of live music featuring Trapper Schoepp and Nick Maas! \nRecorded at Johnny Cash’s Cash Cabin in Hendersonville\, TN\, Trapper Schoepp continues down the trail trod by his musical heroes with Siren Songs. In 2019\, the Milwaukee singer-songwriter published a long lost song with Bob Dylan called “On\, Wisconsin” – making him the youngest musician to share a co-writing credit with the Nobel Prize laureate. The song led to a #1 trending article in Rolling Stone and over a hundred tour dates worldwide. Siren Songs is an apt title for an album filled with folklore and nautical imagery. \n
URL:https://urbanmilwaukee.com/event/trapper-schoepp-with-special-guest-nick-maas/
LOCATION:224 W. Bruce St.\, Milwaukee\, WI\, 53204\, United States
CATEGORIES:Arts & Entertainment
ATTACH;FMTTYPE=image/jpeg:https://urbanmilwaukee.com/wp-content/uploads/2021/11/dsc01852.jpg
ORGANIZER;CN="Anodyne%20Coffee%20Roasting%20Co.":MAILTO:erica@anodynecoffee.com
END:VEVENT
END:VCALENDAR