BEGIN:VCALENDAR
VERSION:2.0
PRODID:-//Urban Milwaukee - ECPv4.6.9//NONSGML v1.0//EN
CALSCALE:GREGORIAN
METHOD:PUBLISH
X-WR-CALNAME:Urban Milwaukee
X-ORIGINAL-URL:https://urbanmilwaukee.com
X-WR-CALDESC:Events for Urban Milwaukee
BEGIN:VEVENT
DTSTART;TZID=America/Chicago:20231224T120000
DTEND;TZID=America/Chicago:20231224T140000
DTSTAMP:20260423T215339
CREATED:20231222T053740Z
LAST-MODIFIED:20231222T053740Z
UID:750176-1703419200-1703426400@urbanmilwaukee.com
SUMMARY:A Christmas Carol
DESCRIPTION:A Christmas Carol is one of the best-known and well-loved stories in the English language. During the course of one memorable Christmas Eve\, the ghosts of Christmas Past\, Present and Future help Ebenezer Scrooge discover that it is never too late to change his miserly ways. Milwaukee Rep favorite Matt Daniels returns to play Scrooge\, as enchanting music\, dance\, costumes\, scenery and special effects will once again fill the theater to tell this timeless tale of love\, hope and redemption. \nBy Charles Dickens\nDirected by Mark Clements \n
URL:https://urbanmilwaukee.com/event/a-christmas-carol-69/
LOCATION:144 E. Wells St.\, Milwaukee\, WI\, 53202
CATEGORIES:Arts & Entertainment
ATTACH;FMTTYPE=image/png:https://urbanmilwaukee.com/wp-content/uploads/2023/11/A-Christmas-Carol-300-33.png
END:VEVENT
BEGIN:VEVENT
DTSTART;TZID=America/Chicago:20231224T130000
DTEND;TZID=America/Chicago:20231224T153000
DTSTAMP:20260423T215339
CREATED:20231117T055643Z
LAST-MODIFIED:20231117T055643Z
UID:752983-1703422800-1703431800@urbanmilwaukee.com
SUMMARY:The Best Christmas Pageant Ever: The Musical
DESCRIPTION:The horrible Herdmans are the worst kids in the history of the world. The entire town panics when these rowdy six siblings are cast in the church’s annual Christmas pageant. It’s up to good-hearted Mrs. Bradley to help the Herdmans – and the rest of the town – discover the true meaning of Christmas before it’s too late. Silent night? Not a chance\, but sometimes a little joyful noise is just right for Christmas. \n
URL:https://urbanmilwaukee.com/event/the-best-christmas-pageant-ever-the-musical-25/
LOCATION:929 N Water ST\, Milwaukee\, WI\, 53202\, United States
CATEGORIES:Arts & Entertainment
ATTACH;FMTTYPE=image/jpeg:https://urbanmilwaukee.com/wp-content/uploads/2022/11/Marcus-Performing-Arts-Center.jpg
END:VEVENT
BEGIN:VEVENT
DTSTART;TZID=America/Chicago:20231224T130000
DTEND;TZID=America/Chicago:20231224T150000
DTSTAMP:20260423T215339
CREATED:20231206T072717Z
LAST-MODIFIED:20231206T072717Z
UID:755817-1703422800-1703430000@urbanmilwaukee.com
SUMMARY:The Nutcracker: Drosselmeyer's Imaginarium
DESCRIPTION:After a year of eager anticipation\, Michael Pink’s brand-new interpretation of The Nutcracker is here for the holidays. Updated choreography\, lavish new costumes\, awe-inspiring sets\, and more make this revamped classic one of the grandest debuts Milwaukee Ballet has ever celebrated! Join us for the world premiere of The Nutcracker: Drosselmeyer’s Imaginarium and experience Milwaukee’s favorite holiday tradition like you never have before. \n
URL:https://urbanmilwaukee.com/event/the-nutcracker-drosselmeyers-imaginarium-14/
LOCATION:929 N. Water St.\, Milwaukee \, Milwaukee\, WI\, United States
CATEGORIES:Arts & Entertainment
ATTACH;FMTTYPE=image/jpeg:https://urbanmilwaukee.com/wp-content/uploads/2022/11/Marcus-Performing-Arts-Center.jpg
END:VEVENT
BEGIN:VEVENT
DTSTART;TZID=America/Chicago:20231224T163000
DTEND;TZID=America/Chicago:20231224T183000
DTSTAMP:20260423T215339
CREATED:20231222T053919Z
LAST-MODIFIED:20231222T053919Z
UID:750174-1703435400-1703442600@urbanmilwaukee.com
SUMMARY:A Christmas Carol
DESCRIPTION:A Christmas Carol is one of the best-known and well-loved stories in the English language. During the course of one memorable Christmas Eve\, the ghosts of Christmas Past\, Present and Future help Ebenezer Scrooge discover that it is never too late to change his miserly ways. Milwaukee Rep favorite Matt Daniels returns to play Scrooge\, as enchanting music\, dance\, costumes\, scenery and special effects will once again fill the theater to tell this timeless tale of love\, hope and redemption. \nBy Charles Dickens\nDirected by Mark Clements \n
URL:https://urbanmilwaukee.com/event/a-christmas-carol-70/
LOCATION:144 E. Wells St.\, Milwaukee\, WI\, 53202
CATEGORIES:Arts & Entertainment
ATTACH;FMTTYPE=image/png:https://urbanmilwaukee.com/wp-content/uploads/2023/11/A-Christmas-Carol-300-32.png
END:VEVENT
END:VCALENDAR