BEGIN:VCALENDAR
VERSION:2.0
PRODID:-//Urban Milwaukee - ECPv4.6.9//NONSGML v1.0//EN
CALSCALE:GREGORIAN
METHOD:PUBLISH
X-WR-CALNAME:Urban Milwaukee
X-ORIGINAL-URL:https://urbanmilwaukee.com
X-WR-CALDESC:Events for Urban Milwaukee
BEGIN:VEVENT
DTSTART;TZID=America/Chicago:20230106T190000
DTEND;TZID=America/Chicago:20231219T122200
DTSTAMP:20260424T105915
CREATED:20231223T070819Z
LAST-MODIFIED:20231223T070819Z
UID:758113-1673031600-1702988520@urbanmilwaukee.com
SUMMARY:An Evening with Albert Lee PLUS Meet & Greet
DESCRIPTION:Join Anodyne Coffee Roasting Co. for an evening of live music featuring Albert Lee! \nAlbert Lee is one of the most respected and renowned guitarists in music history\, having worked with The Everly Brothers\, Eric Clapton\, Emmylou Harris and The Cricketts over his long and illustrious career. The British-born country-rock artist started his career during the emerging rock ‘n’ roll scene of sixties London\, when he swapped bands with the likes of Jimmy Page and Chris Farlowe. \n
URL:https://urbanmilwaukee.com/event/an-evening-with-albert-lee-plus-meet-greet/
LOCATION:224 W. Bruce St\, Milwaukee\, WI\, Milwaukee\, United States
CATEGORIES:Arts & Entertainment
ATTACH;FMTTYPE=image/jpeg:https://urbanmilwaukee.com/wp-content/uploads/2021/11/dsc01852.jpg
ORGANIZER;CN="Anodyne%20Coffee%20Roasting%20Co.":MAILTO:erica@anodynecoffee.com
END:VEVENT
BEGIN:VEVENT
DTSTART;TZID=America/Chicago:20230222T200000
DTEND;TZID=America/Chicago:20231219T123400
DTSTAMP:20260424T105915
CREATED:20240105T065846Z
LAST-MODIFIED:20240105T065846Z
UID:758125-1677096000-1702989240@urbanmilwaukee.com
SUMMARY:The Claudettes + Elephonic
DESCRIPTION:Join Anodyne Coffee Roasting Co. for an evening of live music featuring The Claudettes and Elephonic! \nGrounded in roots music yet pushing the boundaries of indie pop and rock\, the Claudettes are writing the most riveting chapter of their story right now. Pianist/songwriter Johnny Iguana formed the Claudettes with drummer Michael Caskey\, dazzling with the barrelhouse bravura of their 2013 debut Infernal Piano Plot…HATCHED! Another Yellow Dog Records release followed in 2015 featuring Nigerian-American singer Yana: No Hotel. Vocalist Berit Ulseth joined the band for Pull Closer to Me: Live in the Piano Room (2017) and Dance Scandal at the Gymnasium (2018\, helmed by Grammy-winning Black Keys producer Mark Neill). \n
URL:https://urbanmilwaukee.com/event/the-claudettes-elephonic/
LOCATION:Select a Country:
CATEGORIES:Arts & Entertainment
ATTACH;FMTTYPE=image/jpeg:https://urbanmilwaukee.com/wp-content/uploads/2021/11/dsc01852.jpg
END:VEVENT
BEGIN:VEVENT
DTSTART;VALUE=DATE:20231215
DTEND;VALUE=DATE:20231216
DTSTAMP:20260424T105915
CREATED:20231215T054250Z
LAST-MODIFIED:20231215T054250Z
UID:747276-1702598400-1702684799@urbanmilwaukee.com
SUMMARY:Festival of Lights
DESCRIPTION:Our upcoming event promises to be unlike anything we have ever done before and we believe it has the potential to create a lasting impact in our community. \nOur extraordinary Festival of Lights is poised to transcend boundaries\, igniting a profound sense of unity throughout our city and its surrounding suburbs. We envision Milwaukee coming alive with a mesmerizing blend of lights\, music\, and community spirit. \nImagine the City on a Hill parking lot\, located in the heart of the Near West Side\, being transformed into a captivating canvas of light and sound during our Drive-In laser light and musical Christmas Show. It will illuminate the night sky\, weaving a tapestry of connectivity that brings together families and communities. \nBut that’s not all! We’ve thoughtfully reserved space for our fellow neighbors to join in on a magical evening\, offering a welcoming walk-up experience for all. The event will also showcase City on a Hill’s youth who\, along with other local BIPOC vendors\, will provide mouthwatering fare available for purchase. \n5:30 p.m. Parking Lot Opens\n6 p.m. – 7 p.m. Festivities begin with food trucks\, local vendors\, and tree decorating\n7 p.m. – 8 p.m. Christmas Laser Light Show \n
URL:https://urbanmilwaukee.com/event/festival-of-lights/
LOCATION:2224 W Kilbourn Ave\, Milwaukee\, WI\, 53233\, United States
CATEGORIES:Arts & Entertainment
ATTACH;FMTTYPE=image/png:https://urbanmilwaukee.com/wp-content/uploads/2023/10/Eventbrite-FOL-Lights.png
END:VEVENT
BEGIN:VEVENT
DTSTART;TZID=America/Chicago:20231215T140000
DTEND;TZID=America/Chicago:20231215T160000
DTSTAMP:20260424T105915
CREATED:20231117T060708Z
LAST-MODIFIED:20231117T060708Z
UID:753006-1702648800-1702656000@urbanmilwaukee.com
SUMMARY:Bayshore Holiday Entertainment
DESCRIPTION:Be merrier this holiday season and enjoy live performances from local musicians\, schools and community groups at Bayshore! All performances are hosted in the Rotunda\, near the Target west entrance. Celebrate more at Bayshore! Today’s performance features Looping Cello. \n
URL:https://urbanmilwaukee.com/event/bayshore-holiday-entertainment-11/
LOCATION:5800 N. Bayshore Drive\, Glendale\, WI\, 53217\, United States
CATEGORIES:Arts & Entertainment
ATTACH;FMTTYPE=image/jpeg:https://urbanmilwaukee.com/wp-content/uploads/2023/11/bayshore_STS2023_2500x1250websiteEventHeader.jpg
END:VEVENT
BEGIN:VEVENT
DTSTART;TZID=America/Chicago:20231215T190000
DTEND;TZID=America/Chicago:20231215T203000
DTSTAMP:20260424T105915
CREATED:20231117T055232Z
LAST-MODIFIED:20231117T055232Z
UID:752961-1702666800-1702672200@urbanmilwaukee.com
SUMMARY:The Best Christmas Pageant Ever: The Musical
DESCRIPTION:The horrible Herdmans are the worst kids in the history of the world. The entire town panics when these rowdy six siblings are cast in the church’s annual Christmas pageant. It’s up to good-hearted Mrs. Bradley to help the Herdmans – and the rest of the town – discover the true meaning of Christmas before it’s too late. Silent night? Not a chance\, but sometimes a little joyful noise is just right for Christmas. \n
URL:https://urbanmilwaukee.com/event/the-best-christmas-pageant-ever-the-musical-14/
LOCATION:929 N Water ST\, Milwaukee\, WI\, 53202\, United States
CATEGORIES:Arts & Entertainment
ATTACH;FMTTYPE=image/jpeg:https://urbanmilwaukee.com/wp-content/uploads/2022/11/Marcus-Performing-Arts-Center.jpg
END:VEVENT
BEGIN:VEVENT
DTSTART;TZID=America/Chicago:20231215T193000
DTEND;TZID=America/Chicago:20231215T213000
DTSTAMP:20260424T105915
CREATED:20231206T072019Z
LAST-MODIFIED:20231206T072019Z
UID:755799-1702668600-1702675800@urbanmilwaukee.com
SUMMARY:The Nutcracker: Drosselmeyer's Imaginarium
DESCRIPTION:After a year of eager anticipation\, Michael Pink’s brand-new interpretation of The Nutcracker is here for the holidays. Updated choreography\, lavish new costumes\, awe-inspiring sets\, and more make this revamped classic one of the grandest debuts Milwaukee Ballet has ever celebrated! Join us for the world premiere of The Nutcracker: Drosselmeyer’s Imaginarium and experience Milwaukee’s favorite holiday tradition like you never have before. \n
URL:https://urbanmilwaukee.com/event/the-nutcracker-drosselmeyers-imaginarium-5/
LOCATION:929 N. Water St.\, Milwaukee \, Milwaukee\, WI\, United States
CATEGORIES:Arts & Entertainment
ATTACH;FMTTYPE=image/jpeg:https://urbanmilwaukee.com/wp-content/uploads/2022/11/Marcus-Performing-Arts-Center.jpg
END:VEVENT
BEGIN:VEVENT
DTSTART;TZID=America/Chicago:20231215T193000
DTEND;TZID=America/Chicago:20231215T203000
DTSTAMP:20260424T105915
CREATED:20231215T054817Z
LAST-MODIFIED:20231215T054817Z
UID:756512-1702668600-1702672200@urbanmilwaukee.com
SUMMARY:Milwaukee Festival Brass: Holiday Brass Concert
DESCRIPTION:Come hear Milwaukee Festival Brass at St. Luke’s Lutheran Church as a part of the Music & Fine Arts at St. Luke’s concert series on Friday\, 15 December at 7:30 pm. A freewill offering will be collected. \nYou don’t want to miss this outstanding concert! \n
URL:https://urbanmilwaukee.com/event/milwaukee-festival-brass-holiday-brass-concert/
LOCATION:300 Carroll Street\, Waukesha\, WI\, 53186\, United States
CATEGORIES:Arts & Entertainment
ATTACH;FMTTYPE=image/jpeg:https://urbanmilwaukee.com/wp-content/uploads/2023/12/406811614_815354920601823_1301390265142830428_n.jpeg
END:VEVENT
BEGIN:VEVENT
DTSTART;TZID=America/Chicago:20231215T193000
DTEND;TZID=America/Chicago:20231215T213000
DTSTAMP:20260424T105915
CREATED:20231215T054958Z
LAST-MODIFIED:20231215T054958Z
UID:750152-1702668600-1702675800@urbanmilwaukee.com
SUMMARY:A Christmas Carol
DESCRIPTION:A Christmas Carol is one of the best-known and well-loved stories in the English language. During the course of one memorable Christmas Eve\, the ghosts of Christmas Past\, Present and Future help Ebenezer Scrooge discover that it is never too late to change his miserly ways. Milwaukee Rep favorite Matt Daniels returns to play Scrooge\, as enchanting music\, dance\, costumes\, scenery and special effects will once again fill the theater to tell this timeless tale of love\, hope and redemption. \nBy Charles Dickens\nDirected by Mark Clements \n
URL:https://urbanmilwaukee.com/event/a-christmas-carol-61/
LOCATION:144 E. Wells St.\, Milwaukee\, WI\, 53202
CATEGORIES:Arts & Entertainment
ATTACH;FMTTYPE=image/png:https://urbanmilwaukee.com/wp-content/uploads/2023/11/A-Christmas-Carol-300-21.png
END:VEVENT
BEGIN:VEVENT
DTSTART;TZID=America/Chicago:20231215T200000
DTEND;TZID=America/Chicago:20231215T220000
DTSTAMP:20260424T105915
CREATED:20231215T055124Z
LAST-MODIFIED:20231215T055124Z
UID:745530-1702670400-1702677600@urbanmilwaukee.com
SUMMARY:Nuncrackers
DESCRIPTION:The hilarious sisters of Nunsense are back\, spreading yuletide laughs\, cheerful carols and the gift of festive mischief with a new Christmas special for cable access. Complete with (mostly) traditional holiday songs\, a silly secret Santa contest\, and a not-so-graceful take on Tchaikovsky’s Nutcracker Ballet that will have you laughing all the way through New Year’s. \n
URL:https://urbanmilwaukee.com/event/nuncrackers-33/
LOCATION:108 E. Wells St.\, Milwaukee\, WI\, 53202\, United States
CATEGORIES:Arts & Entertainment
ATTACH;FMTTYPE=image/jpeg:https://urbanmilwaukee.com/wp-content/uploads/2023/10/Nuncrackers_300-15-scaled.jpg
END:VEVENT
BEGIN:VEVENT
DTSTART;TZID=America/Chicago:20231215T200000
DTEND;TZID=America/Chicago:20231215T220000
DTSTAMP:20260424T105915
CREATED:20231215T055354Z
LAST-MODIFIED:20231215T055354Z
UID:749644-1702670400-1702677600@urbanmilwaukee.com
SUMMARY:Dial M for Murder
DESCRIPTION:Passion\, blackmail and revenge combine into a breathtaking\, edge-of-your-seat murder mystery. Jealous suspicion gives way to cold-blooded vengeance when a gold-digging husband’s perfect crime misfires\, trapping all parties in a sinister and dangerous web of lies. This classic play is brimming with shocking surprises that will keep you guessing until the end. \nBy Frederick Knott\nAdapted by Jeffrey Hatcher\nDirected by Laura Braza \n
URL:https://urbanmilwaukee.com/event/dial-m-for-murder-30/
LOCATION:108 E. Wells St.\, Milwaukee\, WI\, 53202\, United States
CATEGORIES:Arts & Entertainment
ATTACH;FMTTYPE=image/jpeg:https://urbanmilwaukee.com/wp-content/uploads/2023/10/Dial-M-For-Murder_300-35-scaled.jpg
END:VEVENT
END:VCALENDAR