BEGIN:VCALENDAR
VERSION:2.0
PRODID:-//Urban Milwaukee - ECPv4.6.9//NONSGML v1.0//EN
CALSCALE:GREGORIAN
METHOD:PUBLISH
X-WR-CALNAME:Urban Milwaukee
X-ORIGINAL-URL:https://urbanmilwaukee.com
X-WR-CALDESC:Events for Urban Milwaukee
BEGIN:VEVENT
DTSTART;TZID=America/Chicago:20230106T190000
DTEND;TZID=America/Chicago:20231219T122200
DTSTAMP:20260424T185927
CREATED:20231223T070819Z
LAST-MODIFIED:20231223T070819Z
UID:758113-1673031600-1702988520@urbanmilwaukee.com
SUMMARY:An Evening with Albert Lee PLUS Meet & Greet
DESCRIPTION:Join Anodyne Coffee Roasting Co. for an evening of live music featuring Albert Lee! \nAlbert Lee is one of the most respected and renowned guitarists in music history\, having worked with The Everly Brothers\, Eric Clapton\, Emmylou Harris and The Cricketts over his long and illustrious career. The British-born country-rock artist started his career during the emerging rock ‘n’ roll scene of sixties London\, when he swapped bands with the likes of Jimmy Page and Chris Farlowe. \n
URL:https://urbanmilwaukee.com/event/an-evening-with-albert-lee-plus-meet-greet/
LOCATION:224 W. Bruce St\, Milwaukee\, WI\, Milwaukee\, United States
CATEGORIES:Arts & Entertainment
ATTACH;FMTTYPE=image/jpeg:https://urbanmilwaukee.com/wp-content/uploads/2021/11/dsc01852.jpg
ORGANIZER;CN="Anodyne%20Coffee%20Roasting%20Co.":MAILTO:erica@anodynecoffee.com
END:VEVENT
BEGIN:VEVENT
DTSTART;TZID=America/Chicago:20230222T200000
DTEND;TZID=America/Chicago:20231219T123400
DTSTAMP:20260424T185927
CREATED:20240105T065846Z
LAST-MODIFIED:20240105T065846Z
UID:758125-1677096000-1702989240@urbanmilwaukee.com
SUMMARY:The Claudettes + Elephonic
DESCRIPTION:Join Anodyne Coffee Roasting Co. for an evening of live music featuring The Claudettes and Elephonic! \nGrounded in roots music yet pushing the boundaries of indie pop and rock\, the Claudettes are writing the most riveting chapter of their story right now. Pianist/songwriter Johnny Iguana formed the Claudettes with drummer Michael Caskey\, dazzling with the barrelhouse bravura of their 2013 debut Infernal Piano Plot…HATCHED! Another Yellow Dog Records release followed in 2015 featuring Nigerian-American singer Yana: No Hotel. Vocalist Berit Ulseth joined the band for Pull Closer to Me: Live in the Piano Room (2017) and Dance Scandal at the Gymnasium (2018\, helmed by Grammy-winning Black Keys producer Mark Neill). \n
URL:https://urbanmilwaukee.com/event/the-claudettes-elephonic/
LOCATION:Select a Country:
CATEGORIES:Arts & Entertainment
ATTACH;FMTTYPE=image/jpeg:https://urbanmilwaukee.com/wp-content/uploads/2021/11/dsc01852.jpg
END:VEVENT
BEGIN:VEVENT
DTSTART;TZID=America/Chicago:20231210T083000
DTEND;TZID=America/Chicago:20231210T103000
DTSTAMP:20260424T185927
CREATED:20231209T052344Z
LAST-MODIFIED:20231209T052344Z
UID:753249-1702197000-1702204200@urbanmilwaukee.com
SUMMARY:Skating with Santa
DESCRIPTION:Wishmakers of Wisconsin is hosting the 3rd Annual Skating with Santa\, at the Mullet Ice Center in Hartland. \nJoin us on Sunday\, December 10th from 8:30 a.m. – 10:30 a.m. and enjoy a morning with live reindeer\, Santa\, a hot chocolate bar\, cookie decorating\, and of course ice skating. Digital\, professional photos with Santa will be provided to all families. This event sold out last year\, don’t wait – buy your tickets now! \nTickets are $10 for adults and $40 for children. \n
URL:https://urbanmilwaukee.com/event/skating-with-santa/
LOCATION:700 North Ave\, Hartland\, WI\, 53029\, United States
CATEGORIES:Kids
ATTACH;FMTTYPE=image/jpeg:https://urbanmilwaukee.com/wp-content/uploads/2023/11/Skating-With-Santa-2023.jpg
ORGANIZER;CN="Wishmakers%20of%20Wisconsin":MAILTO:ajorgensen@vjscs.com
END:VEVENT
BEGIN:VEVENT
DTSTART;TZID=America/Chicago:20231210T100000
DTEND;TZID=America/Chicago:20231210T140000
DTSTAMP:20260424T185927
CREATED:20231115T150854Z
LAST-MODIFIED:20231115T150854Z
UID:751352-1702202400-1702216800@urbanmilwaukee.com
SUMMARY:Merry & Bright Market
DESCRIPTION:Join Anodyne Coffee Roasting for a delightful day of holiday shopping\, coffee and fun! \nWe’re excited to host our THIRD annual Holiday Market at Anodyne Coffee Roasting Co. (224 W Bruce St.) \nWe have an excellent selection of vendors selling their handmade\, vintage and curated goods for the holiday season. Support local! \nMore info coming soon… \nThe event is free to attend! \n2023 VENDORS: \nKONKADA \nCamino Woodshop \nUncommon Wild \nSweet Little Box Co \nShelby Page Ceramics \nDusty Bird Projects \nSew Choice \nDynamo \nLucy Bakes \nCovet & Ginger \nWhitney Salgado Illustration \nClayMade \nLynndale Print \nAlquimia Holistica \nShop Spappo \nMDS Creations \nNatural Artisan Home \nFresh to Death Vintage \nChandlerHouganCo \n
URL:https://urbanmilwaukee.com/event/merry-bright-market-2/
LOCATION:224 W. Bruce St.\, Milwaukee\, WI\, 53204\, United States
CATEGORIES:Arts & Entertainment
ATTACH;FMTTYPE=image/png:https://urbanmilwaukee.com/wp-content/uploads/2023/11/mbeventbrite.png
ORGANIZER;CN="Anodyne%20Coffee%20Roasting%20Co.":MAILTO:erica@anodynecoffee.com
END:VEVENT
BEGIN:VEVENT
DTSTART;TZID=America/Chicago:20231210T120000
DTEND;TZID=America/Chicago:20231210T140000
DTSTAMP:20260424T185927
CREATED:20231209T052454Z
LAST-MODIFIED:20231209T052454Z
UID:750140-1702209600-1702216800@urbanmilwaukee.com
SUMMARY:A Christmas Carol
DESCRIPTION:A Christmas Carol is one of the best-known and well-loved stories in the English language. During the course of one memorable Christmas Eve\, the ghosts of Christmas Past\, Present and Future help Ebenezer Scrooge discover that it is never too late to change his miserly ways. Milwaukee Rep favorite Matt Daniels returns to play Scrooge\, as enchanting music\, dance\, costumes\, scenery and special effects will once again fill the theater to tell this timeless tale of love\, hope and redemption. \nBy Charles Dickens\nDirected by Mark Clements \n
URL:https://urbanmilwaukee.com/event/a-christmas-carol-58/
LOCATION:144 E. Wells St.\, Milwaukee\, WI\, 53202
CATEGORIES:Arts & Entertainment
ATTACH;FMTTYPE=image/png:https://urbanmilwaukee.com/wp-content/uploads/2023/11/A-Christmas-Carol-300-16.png
END:VEVENT
BEGIN:VEVENT
DTSTART;TZID=America/Chicago:20231210T130000
DTEND;TZID=America/Chicago:20231210T150000
DTSTAMP:20260424T185927
CREATED:20231206T071635Z
LAST-MODIFIED:20231206T071635Z
UID:755795-1702213200-1702220400@urbanmilwaukee.com
SUMMARY:The Nutcracker: Drosselmeyer's Imaginarium
DESCRIPTION:After a year of eager anticipation\, Michael Pink’s brand-new interpretation of The Nutcracker is here for the holidays. Updated choreography\, lavish new costumes\, awe-inspiring sets\, and more make this revamped classic one of the grandest debuts Milwaukee Ballet has ever celebrated! Join us for the world premiere of The Nutcracker: Drosselmeyer’s Imaginarium and experience Milwaukee’s favorite holiday tradition like you never have before. \n
URL:https://urbanmilwaukee.com/event/the-nutcracker-drosselmeyers-imaginarium-4/
LOCATION:929 N. Water St.\, Milwaukee \, Milwaukee\, WI\, United States
CATEGORIES:Arts & Entertainment
ATTACH;FMTTYPE=image/jpeg:https://urbanmilwaukee.com/wp-content/uploads/2022/11/Marcus-Performing-Arts-Center.jpg
END:VEVENT
BEGIN:VEVENT
DTSTART;TZID=America/Chicago:20231210T140000
DTEND;TZID=America/Chicago:20231210T160000
DTSTAMP:20260424T185927
CREATED:20231209T052559Z
LAST-MODIFIED:20231209T052559Z
UID:745516-1702216800-1702224000@urbanmilwaukee.com
SUMMARY:Nuncrackers
DESCRIPTION:The hilarious sisters of Nunsense are back\, spreading yuletide laughs\, cheerful carols and the gift of festive mischief with a new Christmas special for cable access. Complete with (mostly) traditional holiday songs\, a silly secret Santa contest\, and a not-so-graceful take on Tchaikovsky’s Nutcracker Ballet that will have you laughing all the way through New Year’s. \n
URL:https://urbanmilwaukee.com/event/nuncrackers-31/
LOCATION:108 E. Wells St.\, Milwaukee\, WI\, 53202\, United States
CATEGORIES:Arts & Entertainment
ATTACH;FMTTYPE=image/jpeg:https://urbanmilwaukee.com/wp-content/uploads/2023/10/Nuncrackers_300-10-scaled.jpg
END:VEVENT
BEGIN:VEVENT
DTSTART;TZID=America/Chicago:20231210T140000
DTEND;TZID=America/Chicago:20231210T160000
DTSTAMP:20260424T185927
CREATED:20231209T052655Z
LAST-MODIFIED:20231209T052655Z
UID:749628-1702216800-1702224000@urbanmilwaukee.com
SUMMARY:Dial M for Murder
DESCRIPTION:Passion\, blackmail and revenge combine into a breathtaking\, edge-of-your-seat murder mystery. Jealous suspicion gives way to cold-blooded vengeance when a gold-digging husband’s perfect crime misfires\, trapping all parties in a sinister and dangerous web of lies. This classic play is brimming with shocking surprises that will keep you guessing until the end. \nBy Frederick Knott\nAdapted by Jeffrey Hatcher\nDirected by Laura Braza \n
URL:https://urbanmilwaukee.com/event/dial-m-for-murder-28/
LOCATION:108 E. Wells St.\, Milwaukee\, WI\, 53202\, United States
CATEGORIES:Arts & Entertainment
ATTACH;FMTTYPE=image/jpeg:https://urbanmilwaukee.com/wp-content/uploads/2023/10/Dial-M-For-Murder_300-30-scaled.jpg
END:VEVENT
BEGIN:VEVENT
DTSTART;TZID=America/Chicago:20231210T163000
DTEND;TZID=America/Chicago:20231210T183000
DTSTAMP:20260424T185927
CREATED:20231209T052813Z
LAST-MODIFIED:20231209T052813Z
UID:750137-1702225800-1702233000@urbanmilwaukee.com
SUMMARY:A Christmas Carol
DESCRIPTION:A Christmas Carol is one of the best-known and well-loved stories in the English language. During the course of one memorable Christmas Eve\, the ghosts of Christmas Past\, Present and Future help Ebenezer Scrooge discover that it is never too late to change his miserly ways. Milwaukee Rep favorite Matt Daniels returns to play Scrooge\, as enchanting music\, dance\, costumes\, scenery and special effects will once again fill the theater to tell this timeless tale of love\, hope and redemption. \nBy Charles Dickens\nDirected by Mark Clements \n
URL:https://urbanmilwaukee.com/event/a-christmas-carol-59/
LOCATION:144 E. Wells St.\, Milwaukee\, WI\, 53202
CATEGORIES:Arts & Entertainment
ATTACH;FMTTYPE=image/png:https://urbanmilwaukee.com/wp-content/uploads/2023/11/A-Christmas-Carol-300-15.png
END:VEVENT
BEGIN:VEVENT
DTSTART;TZID=America/Chicago:20231210T170000
DTEND;TZID=America/Chicago:20231210T180000
DTSTAMP:20260424T185927
CREATED:20231117T060617Z
LAST-MODIFIED:20231117T060617Z
UID:753004-1702227600-1702231200@urbanmilwaukee.com
SUMMARY:Bayshore Holiday Entertainment
DESCRIPTION:Be merrier this holiday season and enjoy live performances from local musicians\, schools and community groups at Bayshore! All performances are hosted in the Rotunda\, near the Target west entrance. Celebrate more at Bayshore! Today’s performance features David HB Drake. \n
URL:https://urbanmilwaukee.com/event/bayshore-holiday-entertainment-10/
LOCATION:5800 N. Bayshore Drive\, Glendale\, WI\, 53217\, United States
CATEGORIES:Arts & Entertainment
ATTACH;FMTTYPE=image/jpeg:https://urbanmilwaukee.com/wp-content/uploads/2023/11/bayshore_STS2023_2500x1250websiteEventHeader.jpg
END:VEVENT
BEGIN:VEVENT
DTSTART;TZID=America/Chicago:20231210T190000
DTEND;TZID=America/Chicago:20231210T210000
DTSTAMP:20260424T185927
CREATED:20231209T052916Z
LAST-MODIFIED:20231209T052916Z
UID:749632-1702234800-1702242000@urbanmilwaukee.com
SUMMARY:Dial M for Murder
DESCRIPTION:Passion\, blackmail and revenge combine into a breathtaking\, edge-of-your-seat murder mystery. Jealous suspicion gives way to cold-blooded vengeance when a gold-digging husband’s perfect crime misfires\, trapping all parties in a sinister and dangerous web of lies. This classic play is brimming with shocking surprises that will keep you guessing until the end. \nBy Frederick Knott\nAdapted by Jeffrey Hatcher\nDirected by Laura Braza \n
URL:https://urbanmilwaukee.com/event/dial-m-for-murder-29/
LOCATION:108 E. Wells St.\, Milwaukee\, WI\, 53202\, United States
CATEGORIES:Arts & Entertainment
ATTACH;FMTTYPE=image/jpeg:https://urbanmilwaukee.com/wp-content/uploads/2023/10/Dial-M-For-Murder_300-31-scaled.jpg
END:VEVENT
END:VCALENDAR