BEGIN:VCALENDAR
VERSION:2.0
PRODID:-//Urban Milwaukee - ECPv4.6.9//NONSGML v1.0//EN
CALSCALE:GREGORIAN
METHOD:PUBLISH
X-WR-CALNAME:Urban Milwaukee
X-ORIGINAL-URL:https://urbanmilwaukee.com
X-WR-CALDESC:Events for Urban Milwaukee
BEGIN:VEVENT
DTSTART;TZID=America/Chicago:20230106T190000
DTEND;TZID=America/Chicago:20231219T122200
DTSTAMP:20260424T204108
CREATED:20231223T070819Z
LAST-MODIFIED:20231223T070819Z
UID:758113-1673031600-1702988520@urbanmilwaukee.com
SUMMARY:An Evening with Albert Lee PLUS Meet & Greet
DESCRIPTION:Join Anodyne Coffee Roasting Co. for an evening of live music featuring Albert Lee! \nAlbert Lee is one of the most respected and renowned guitarists in music history\, having worked with The Everly Brothers\, Eric Clapton\, Emmylou Harris and The Cricketts over his long and illustrious career. The British-born country-rock artist started his career during the emerging rock ‘n’ roll scene of sixties London\, when he swapped bands with the likes of Jimmy Page and Chris Farlowe. \n
URL:https://urbanmilwaukee.com/event/an-evening-with-albert-lee-plus-meet-greet/
LOCATION:224 W. Bruce St\, Milwaukee\, WI\, Milwaukee\, United States
CATEGORIES:Arts & Entertainment
ATTACH;FMTTYPE=image/jpeg:https://urbanmilwaukee.com/wp-content/uploads/2021/11/dsc01852.jpg
ORGANIZER;CN="Anodyne%20Coffee%20Roasting%20Co.":MAILTO:erica@anodynecoffee.com
END:VEVENT
BEGIN:VEVENT
DTSTART;TZID=America/Chicago:20230222T200000
DTEND;TZID=America/Chicago:20231219T123400
DTSTAMP:20260424T204108
CREATED:20240105T065846Z
LAST-MODIFIED:20240105T065846Z
UID:758125-1677096000-1702989240@urbanmilwaukee.com
SUMMARY:The Claudettes + Elephonic
DESCRIPTION:Join Anodyne Coffee Roasting Co. for an evening of live music featuring The Claudettes and Elephonic! \nGrounded in roots music yet pushing the boundaries of indie pop and rock\, the Claudettes are writing the most riveting chapter of their story right now. Pianist/songwriter Johnny Iguana formed the Claudettes with drummer Michael Caskey\, dazzling with the barrelhouse bravura of their 2013 debut Infernal Piano Plot…HATCHED! Another Yellow Dog Records release followed in 2015 featuring Nigerian-American singer Yana: No Hotel. Vocalist Berit Ulseth joined the band for Pull Closer to Me: Live in the Piano Room (2017) and Dance Scandal at the Gymnasium (2018\, helmed by Grammy-winning Black Keys producer Mark Neill). \n
URL:https://urbanmilwaukee.com/event/the-claudettes-elephonic/
LOCATION:Select a Country:
CATEGORIES:Arts & Entertainment
ATTACH;FMTTYPE=image/jpeg:https://urbanmilwaukee.com/wp-content/uploads/2021/11/dsc01852.jpg
END:VEVENT
BEGIN:VEVENT
DTSTART;TZID=America/Chicago:20231209T110000
DTEND;TZID=America/Chicago:20231209T114500
DTSTAMP:20260424T204108
CREATED:20231208T063417Z
LAST-MODIFIED:20231208T063417Z
UID:751457-1702119600-1702122300@urbanmilwaukee.com
SUMMARY:Yoga on Tap at Lion's Tail
DESCRIPTION:On Saturday\, December 9\, yoga is on tap at Lion’s Tail Brewing Co. in Wauwatosa! \nJoin RYT-200 Caitlin Moyer beginning at 11am for a 45-minute yoga flow inside the brewery’s super-cool new digs. \nFollowing the class\, stick around for a beverage or two and maybe even lunch! \nYour $20 fee includes the class + one beverage of your choice. Additional beverages will of course be available for purchase and food trucks are often on-site offering delicious bites. \nAttendees must bring their own yoga mat and will be required to sign a waiver. \nSpace is limited to the first 20 attendees\, so be sure to sign up early! Advance payment is required to reserve your space. To register\, please visit CaitlinMoyer.com/YogaOnTap \n
URL:https://urbanmilwaukee.com/event/yoga-on-tap-at-lions-tail-5/
LOCATION:8520 W. North Ave.\, Wauwatosa\, WI\, 53226\, United States
CATEGORIES:Active,Food & Drink,Health
ATTACH;FMTTYPE=image/png:https://urbanmilwaukee.com/wp-content/uploads/2023/11/Yoga-on-Tap-Lions-Tail-12.9-Horizontal.png
ORGANIZER;CN="Caitlin%20Moyer":MAILTO:caitlin.moyer@yahoo.com
END:VEVENT
BEGIN:VEVENT
DTSTART;TZID=America/Chicago:20231209T110000
DTEND;TZID=America/Chicago:20231209T150000
DTSTAMP:20260424T204108
CREATED:20231208T063618Z
LAST-MODIFIED:20231208T063618Z
UID:752490-1702119600-1702134000@urbanmilwaukee.com
SUMMARY:European Village Alive!
DESCRIPTION:The American holiday season was shaped\, in part\, by the thousands of Europeans who immigrated here in the 19th century. Discover what traditions have endured\, as well as those that have been forgotten with costumed enactors and interpreters. Immerse yourself in the spirit of the season\, see holiday artifacts not usually on display\, and participate in fun\, hands-on activities. \n
URL:https://urbanmilwaukee.com/event/european-village-alive-2/
LOCATION:800 W Wells St\, Milwaukee\, 53233\, United States
CATEGORIES:History
ATTACH;FMTTYPE=image/png:https://urbanmilwaukee.com/wp-content/uploads/2023/11/Village-Decorated-1.png
END:VEVENT
BEGIN:VEVENT
DTSTART;TZID=America/Chicago:20231209T120000
DTEND;TZID=America/Chicago:20231209T210000
DTSTAMP:20260424T204108
CREATED:20231115T150435Z
LAST-MODIFIED:20231115T150435Z
UID:747997-1702123200-1702155600@urbanmilwaukee.com
SUMMARY:6th Annual Stout Fest
DESCRIPTION:Bust out your ugliest sweater and join MobCraft Beer for a celebration of Stouts! \nCelebrate Stout Fest at the MobCraft Milwaukee Taproom on Saturday\, December 9. Doors open at noon! We will be releasing 2023 Padishah – our barrel-aged Imperial Stout in addition to putting loads of Stouts and malty goodness on tap! \n
URL:https://urbanmilwaukee.com/event/6th-annual-stout-fest/
LOCATION:505 S. 5th St.\, Milwaukee\, WI\, 53204\, United States
CATEGORIES:Food & Drink
ATTACH;FMTTYPE=image/png:https://urbanmilwaukee.com/wp-content/uploads/2023/10/Stout-Fest.png
END:VEVENT
BEGIN:VEVENT
DTSTART;TZID=America/Chicago:20231209T120000
DTEND;TZID=America/Chicago:20231209T150000
DTSTAMP:20260424T204108
CREATED:20231208T063740Z
LAST-MODIFIED:20231208T063740Z
UID:753990-1702123200-1702134000@urbanmilwaukee.com
SUMMARY:Sip & Knit: Chunky Blankets
DESCRIPTION:Join us to make a throw sized blanket all with your hands! No needles\, no “arms of yarn”. Plenty of time for sipping … and Knitting! All supplies are included in cost! Please note that yarn is not always available in unlimited quantities. Please identify your first and second choice of colors and we will do our best to get everyone their first choice! Due to die lots\, etc\, the colors may vary slightly from the photos. If you do not register at least 48 hours prior to class\, you can choose from available colors when you arrive. Drinks are available for purchase. \n
URL:https://urbanmilwaukee.com/event/sip-knit-chunky-blankets-5/
LOCATION:1515 West Mequon Road\, Mequon\, WI\, 53092\, United States
CATEGORIES:Arts & Entertainment
ATTACH;FMTTYPE=image/jpeg:https://urbanmilwaukee.com/wp-content/uploads/2023/11/54033.jpg
ORGANIZER;CN="SIP%20MKE":MAILTO:jackie@sipmke.com
END:VEVENT
BEGIN:VEVENT
DTSTART;TZID=America/Chicago:20231209T130000
DTEND;TZID=America/Chicago:20231209T143000
DTSTAMP:20260424T204108
CREATED:20231117T055047Z
LAST-MODIFIED:20231117T055047Z
UID:752957-1702126800-1702132200@urbanmilwaukee.com
SUMMARY:The Best Christmas Pageant Ever: The Musical
DESCRIPTION:The horrible Herdmans are the worst kids in the history of the world. The entire town panics when these rowdy six siblings are cast in the church’s annual Christmas pageant. It’s up to good-hearted Mrs. Bradley to help the Herdmans – and the rest of the town – discover the true meaning of Christmas before it’s too late. Silent night? Not a chance\, but sometimes a little joyful noise is just right for Christmas. \n
URL:https://urbanmilwaukee.com/event/the-best-christmas-pageant-ever-the-musical-12/
LOCATION:929 N Water ST\, Milwaukee\, WI\, 53202\, United States
CATEGORIES:Arts & Entertainment
ATTACH;FMTTYPE=image/jpeg:https://urbanmilwaukee.com/wp-content/uploads/2022/11/Marcus-Performing-Arts-Center.jpg
END:VEVENT
BEGIN:VEVENT
DTSTART;TZID=America/Chicago:20231209T130000
DTEND;TZID=America/Chicago:20231209T140000
DTSTAMP:20260424T204108
CREATED:20231117T060525Z
LAST-MODIFIED:20231117T060525Z
UID:753002-1702126800-1702130400@urbanmilwaukee.com
SUMMARY:Bayshore Holiday Entertainment
DESCRIPTION:Be merrier this holiday season and enjoy live performances from local musicians\, schools and community groups at Bayshore! All performances are hosted in the Rotunda\, near the Target west entrance. Celebrate more at Bayshore! Today’s performance features Redefined A Cappella. \n
URL:https://urbanmilwaukee.com/event/bayshore-holiday-entertainment-9/
LOCATION:5800 N. Bayshore Drive\, Glendale\, WI\, 53217\, United States
CATEGORIES:Arts & Entertainment
ATTACH;FMTTYPE=image/jpeg:https://urbanmilwaukee.com/wp-content/uploads/2023/11/bayshore_STS2023_2500x1250websiteEventHeader.jpg
END:VEVENT
BEGIN:VEVENT
DTSTART;TZID=America/Chicago:20231209T130000
DTEND;TZID=America/Chicago:20231209T160000
DTSTAMP:20260424T204108
CREATED:20231208T063852Z
LAST-MODIFIED:20231208T063852Z
UID:752047-1702126800-1702137600@urbanmilwaukee.com
SUMMARY:Barnes & Noble Board Game Night
DESCRIPTION:Join Barnes and Noble BAYSHORE on December 9th to play the new Game of the Year: Steam UP! Game play will be from 1:00 p.m. – 4:00 p.m. behind the Café! Bring your family and friends together over engaging gameplay and love of Dim Sum! Stop by the store or give us a call at 414-967-1610 to pre-register! Walk-ins are also welcome! \n
URL:https://urbanmilwaukee.com/event/barnes-noble-board-game-night/
CATEGORIES:Arts & Entertainment
ATTACH;FMTTYPE=image/jpeg:https://urbanmilwaukee.com/wp-content/uploads/2023/11/BN-Facebook-Graphics-18.jpg
END:VEVENT
BEGIN:VEVENT
DTSTART;TZID=America/Chicago:20231209T140000
DTEND;TZID=America/Chicago:20231209T160000
DTSTAMP:20260424T204108
CREATED:20231206T071341Z
LAST-MODIFIED:20231206T071341Z
UID:755791-1702130400-1702137600@urbanmilwaukee.com
SUMMARY:The Nutcracker: Drosselmeyer's Imaginarium
DESCRIPTION:After a year of eager anticipation\, Michael Pink’s brand-new interpretation of The Nutcracker is here for the holidays. Updated choreography\, lavish new costumes\, awe-inspiring sets\, and more make this revamped classic one of the grandest debuts Milwaukee Ballet has ever celebrated! Join us for the world premiere of The Nutcracker: Drosselmeyer’s Imaginarium and experience Milwaukee’s favorite holiday tradition like you never have before. \n
URL:https://urbanmilwaukee.com/event/the-nutcracker-drosselmeyers-imaginarium-2/
LOCATION:929 N. Water St.\, Milwaukee \, Milwaukee\, WI\, United States
CATEGORIES:Arts & Entertainment
ATTACH;FMTTYPE=image/jpeg:https://urbanmilwaukee.com/wp-content/uploads/2022/11/Marcus-Performing-Arts-Center.jpg
END:VEVENT
BEGIN:VEVENT
DTSTART;TZID=America/Chicago:20231209T140000
DTEND;TZID=America/Chicago:20231209T160000
DTSTAMP:20260424T204108
CREATED:20231208T064012Z
LAST-MODIFIED:20231208T064012Z
UID:750134-1702130400-1702137600@urbanmilwaukee.com
SUMMARY:A Christmas Carol
DESCRIPTION:A Christmas Carol is one of the best-known and well-loved stories in the English language. During the course of one memorable Christmas Eve\, the ghosts of Christmas Past\, Present and Future help Ebenezer Scrooge discover that it is never too late to change his miserly ways. Milwaukee Rep favorite Matt Daniels returns to play Scrooge\, as enchanting music\, dance\, costumes\, scenery and special effects will once again fill the theater to tell this timeless tale of love\, hope and redemption. \nBy Charles Dickens\nDirected by Mark Clements \n
URL:https://urbanmilwaukee.com/event/a-christmas-carol-56/
LOCATION:144 E. Wells St.\, Milwaukee\, WI\, 53202
CATEGORIES:Arts & Entertainment
ATTACH;FMTTYPE=image/png:https://urbanmilwaukee.com/wp-content/uploads/2023/11/A-Christmas-Carol-300-14.png
END:VEVENT
BEGIN:VEVENT
DTSTART;TZID=America/Chicago:20231209T150000
DTEND;TZID=America/Chicago:20231209T160000
DTSTAMP:20260424T204108
CREATED:20231208T064142Z
LAST-MODIFIED:20231208T064142Z
UID:754014-1702134000-1702137600@urbanmilwaukee.com
SUMMARY:SIP & Stamp Workship: Holiday Ornaments and More
DESCRIPTION:Join us in our SIP & Stamp Workshop to make one of these great metal stamped projects! Choose your project when you arrive from a collection of holiday ornaments\, bracelets\, bottle openers and more! (photos representative of available choices). All materials included. Cash bar available. \n
URL:https://urbanmilwaukee.com/event/sip-stamp-workship-holiday-ornaments-and-more/
LOCATION:1515 W Mequon Road\, Mequon\, WI\, 53092\, United States
CATEGORIES:Class,Food & Drink
ATTACH;FMTTYPE=image/jpeg:https://urbanmilwaukee.com/wp-content/uploads/2023/11/54035.jpg
ORGANIZER;CN="SIP%20MKE":MAILTO:jackie@sipmke.com
END:VEVENT
BEGIN:VEVENT
DTSTART;TZID=America/Chicago:20231209T150000
DTEND;TZID=America/Chicago:20231209T170000
DTSTAMP:20260424T204108
CREATED:20231208T064300Z
LAST-MODIFIED:20231208T064300Z
UID:745512-1702134000-1702141200@urbanmilwaukee.com
SUMMARY:Nuncrackers
DESCRIPTION:The hilarious sisters of Nunsense are back\, spreading yuletide laughs\, cheerful carols and the gift of festive mischief with a new Christmas special for cable access. Complete with (mostly) traditional holiday songs\, a silly secret Santa contest\, and a not-so-graceful take on Tchaikovsky’s Nutcracker Ballet that will have you laughing all the way through New Year’s. \n
URL:https://urbanmilwaukee.com/event/nuncrackers-29/
LOCATION:108 E. Wells St.\, Milwaukee\, WI\, 53202\, United States
CATEGORIES:Arts & Entertainment
ATTACH;FMTTYPE=image/jpeg:https://urbanmilwaukee.com/wp-content/uploads/2023/10/Nuncrackers_300-8-scaled.jpg
END:VEVENT
BEGIN:VEVENT
DTSTART;TZID=America/Chicago:20231209T150000
DTEND;TZID=America/Chicago:20231209T170000
DTSTAMP:20260424T204108
CREATED:20231208T064406Z
LAST-MODIFIED:20231208T064406Z
UID:748162-1702134000-1702141200@urbanmilwaukee.com
SUMMARY:Dial M for Murder
DESCRIPTION:Passion\, blackmail and revenge combine into a breathtaking\, edge-of-your-seat murder mystery. Jealous suspicion gives way to cold-blooded vengeance when a gold-digging husband’s perfect crime misfires\, trapping all parties in a sinister and dangerous web of lies. This classic play is brimming with shocking surprises that will keep you guessing until the end. \nBy Frederick Knott\nAdapted by Jeffrey Hatcher\nDirected by Laura Braza \n
URL:https://urbanmilwaukee.com/event/dial-m-for-murder-26/
LOCATION:108 E. Wells St.\, Milwaukee\, WI\, 53202\, United States
CATEGORIES:Arts & Entertainment
ATTACH;FMTTYPE=image/jpeg:https://urbanmilwaukee.com/wp-content/uploads/2023/10/Dial-M-For-Murder_300-28-scaled.jpg
END:VEVENT
BEGIN:VEVENT
DTSTART;TZID=America/Chicago:20231209T153000
DTEND;TZID=America/Chicago:20231209T170000
DTSTAMP:20260424T204108
CREATED:20231117T055120Z
LAST-MODIFIED:20231117T055120Z
UID:752959-1702135800-1702141200@urbanmilwaukee.com
SUMMARY:The Best Christmas Pageant Ever: The Musical
DESCRIPTION:The horrible Herdmans are the worst kids in the history of the world. The entire town panics when these rowdy six siblings are cast in the church’s annual Christmas pageant. It’s up to good-hearted Mrs. Bradley to help the Herdmans – and the rest of the town – discover the true meaning of Christmas before it’s too late. Silent night? Not a chance\, but sometimes a little joyful noise is just right for Christmas. \n
URL:https://urbanmilwaukee.com/event/the-best-christmas-pageant-ever-the-musical-13/
LOCATION:929 N Water ST\, Milwaukee\, WI\, 53202\, United States
CATEGORIES:Arts & Entertainment
ATTACH;FMTTYPE=image/jpeg:https://urbanmilwaukee.com/wp-content/uploads/2022/11/Marcus-Performing-Arts-Center.jpg
END:VEVENT
BEGIN:VEVENT
DTSTART;TZID=America/Chicago:20231209T190000
DTEND;TZID=America/Chicago:20231209T210000
DTSTAMP:20260424T204108
CREATED:20231208T064726Z
LAST-MODIFIED:20231208T064726Z
UID:755420-1702148400-1702155600@urbanmilwaukee.com
SUMMARY:Vince Condella & Don Gibson
DESCRIPTION:Join Vince and Don as they perform at SIP MKE! Vince Condella & Don Gibson are an Acoustic guitar Folk/Americana/Singer-Songwriter duo covering music from the 1960s to today; from Dylan and Prine to Chesney and Stapleton\, and everything in between. First Come First Served Seating. \n
URL:https://urbanmilwaukee.com/event/vince-condella-don-gibson/
LOCATION:1515 W Mequon Road\, Mequon\, WI\, 53092\, United States
CATEGORIES:Arts & Entertainment
ATTACH;FMTTYPE=image/jpeg:https://urbanmilwaukee.com/wp-content/uploads/2023/12/54965.jpg
ORGANIZER;CN="SIP%20MKE":MAILTO:jackie@sipmke.com
END:VEVENT
BEGIN:VEVENT
DTSTART;TZID=America/Chicago:20231209T193000
DTEND;TZID=America/Chicago:20231209T213000
DTSTAMP:20260424T204108
CREATED:20231206T071439Z
LAST-MODIFIED:20231206T071439Z
UID:755793-1702150200-1702157400@urbanmilwaukee.com
SUMMARY:The Nutcracker: Drosselmeyer's Imaginarium
DESCRIPTION:After a year of eager anticipation\, Michael Pink’s brand-new interpretation of The Nutcracker is here for the holidays. Updated choreography\, lavish new costumes\, awe-inspiring sets\, and more make this revamped classic one of the grandest debuts Milwaukee Ballet has ever celebrated! Join us for the world premiere of The Nutcracker: Drosselmeyer’s Imaginarium and experience Milwaukee’s favorite holiday tradition like you never have before. \n
URL:https://urbanmilwaukee.com/event/the-nutcracker-drosselmeyers-imaginarium-3/
LOCATION:929 N. Water St.\, Milwaukee \, Milwaukee\, WI\, United States
CATEGORIES:Arts & Entertainment
ATTACH;FMTTYPE=image/jpeg:https://urbanmilwaukee.com/wp-content/uploads/2022/11/Marcus-Performing-Arts-Center.jpg
END:VEVENT
BEGIN:VEVENT
DTSTART;TZID=America/Chicago:20231209T193000
DTEND;TZID=America/Chicago:20231209T213000
DTSTAMP:20260424T204108
CREATED:20231209T051730Z
LAST-MODIFIED:20231209T051730Z
UID:750131-1702150200-1702157400@urbanmilwaukee.com
SUMMARY:A Christmas Carol
DESCRIPTION:A Christmas Carol is one of the best-known and well-loved stories in the English language. During the course of one memorable Christmas Eve\, the ghosts of Christmas Past\, Present and Future help Ebenezer Scrooge discover that it is never too late to change his miserly ways. Milwaukee Rep favorite Matt Daniels returns to play Scrooge\, as enchanting music\, dance\, costumes\, scenery and special effects will once again fill the theater to tell this timeless tale of love\, hope and redemption. \nBy Charles Dickens\nDirected by Mark Clements \n
URL:https://urbanmilwaukee.com/event/a-christmas-carol-57/
LOCATION:144 E. Wells St.\, Milwaukee\, WI\, 53202
CATEGORIES:Arts & Entertainment
ATTACH;FMTTYPE=image/png:https://urbanmilwaukee.com/wp-content/uploads/2023/11/A-Christmas-Carol-300-13.png
END:VEVENT
BEGIN:VEVENT
DTSTART;TZID=America/Chicago:20231209T200000
DTEND;TZID=America/Chicago:20231209T220000
DTSTAMP:20260424T204108
CREATED:20231209T051924Z
LAST-MODIFIED:20231209T051924Z
UID:745514-1702152000-1702159200@urbanmilwaukee.com
SUMMARY:Nuncrackers
DESCRIPTION:The hilarious sisters of Nunsense are back\, spreading yuletide laughs\, cheerful carols and the gift of festive mischief with a new Christmas special for cable access. Complete with (mostly) traditional holiday songs\, a silly secret Santa contest\, and a not-so-graceful take on Tchaikovsky’s Nutcracker Ballet that will have you laughing all the way through New Year’s. \n
URL:https://urbanmilwaukee.com/event/nuncrackers-30/
LOCATION:108 E. Wells St.\, Milwaukee\, WI\, 53202\, United States
CATEGORIES:Arts & Entertainment
ATTACH;FMTTYPE=image/jpeg:https://urbanmilwaukee.com/wp-content/uploads/2023/10/Nuncrackers_300-9-scaled.jpg
END:VEVENT
BEGIN:VEVENT
DTSTART;TZID=America/Chicago:20231209T200000
DTEND;TZID=America/Chicago:20231209T220000
DTSTAMP:20260424T204108
CREATED:20231209T052101Z
LAST-MODIFIED:20231209T052101Z
UID:749625-1702152000-1702159200@urbanmilwaukee.com
SUMMARY:Dial M for Murder
DESCRIPTION:Passion\, blackmail and revenge combine into a breathtaking\, edge-of-your-seat murder mystery. Jealous suspicion gives way to cold-blooded vengeance when a gold-digging husband’s perfect crime misfires\, trapping all parties in a sinister and dangerous web of lies. This classic play is brimming with shocking surprises that will keep you guessing until the end. \nBy Frederick Knott\nAdapted by Jeffrey Hatcher\nDirected by Laura Braza \n
URL:https://urbanmilwaukee.com/event/dial-m-for-murder-27/
LOCATION:108 E. Wells St.\, Milwaukee\, WI\, 53202\, United States
CATEGORIES:Arts & Entertainment
ATTACH;FMTTYPE=image/jpeg:https://urbanmilwaukee.com/wp-content/uploads/2023/10/Dial-M-For-Murder_300-29-scaled.jpg
END:VEVENT
END:VCALENDAR