BEGIN:VCALENDAR
VERSION:2.0
PRODID:-//Urban Milwaukee - ECPv4.6.9//NONSGML v1.0//EN
CALSCALE:GREGORIAN
METHOD:PUBLISH
X-WR-CALNAME:Urban Milwaukee
X-ORIGINAL-URL:https://urbanmilwaukee.com
X-WR-CALDESC:Events for Urban Milwaukee
BEGIN:VEVENT
DTSTART;TZID=America/Chicago:20230106T190000
DTEND;TZID=America/Chicago:20231219T122200
DTSTAMP:20260424T221440
CREATED:20231223T070819Z
LAST-MODIFIED:20231223T070819Z
UID:758113-1673031600-1702988520@urbanmilwaukee.com
SUMMARY:An Evening with Albert Lee PLUS Meet & Greet
DESCRIPTION:Join Anodyne Coffee Roasting Co. for an evening of live music featuring Albert Lee! \nAlbert Lee is one of the most respected and renowned guitarists in music history\, having worked with The Everly Brothers\, Eric Clapton\, Emmylou Harris and The Cricketts over his long and illustrious career. The British-born country-rock artist started his career during the emerging rock ‘n’ roll scene of sixties London\, when he swapped bands with the likes of Jimmy Page and Chris Farlowe. \n
URL:https://urbanmilwaukee.com/event/an-evening-with-albert-lee-plus-meet-greet/
LOCATION:224 W. Bruce St\, Milwaukee\, WI\, Milwaukee\, United States
CATEGORIES:Arts & Entertainment
ATTACH;FMTTYPE=image/jpeg:https://urbanmilwaukee.com/wp-content/uploads/2021/11/dsc01852.jpg
ORGANIZER;CN="Anodyne%20Coffee%20Roasting%20Co.":MAILTO:erica@anodynecoffee.com
END:VEVENT
BEGIN:VEVENT
DTSTART;TZID=America/Chicago:20230222T200000
DTEND;TZID=America/Chicago:20231219T123400
DTSTAMP:20260424T221440
CREATED:20240105T065846Z
LAST-MODIFIED:20240105T065846Z
UID:758125-1677096000-1702989240@urbanmilwaukee.com
SUMMARY:The Claudettes + Elephonic
DESCRIPTION:Join Anodyne Coffee Roasting Co. for an evening of live music featuring The Claudettes and Elephonic! \nGrounded in roots music yet pushing the boundaries of indie pop and rock\, the Claudettes are writing the most riveting chapter of their story right now. Pianist/songwriter Johnny Iguana formed the Claudettes with drummer Michael Caskey\, dazzling with the barrelhouse bravura of their 2013 debut Infernal Piano Plot…HATCHED! Another Yellow Dog Records release followed in 2015 featuring Nigerian-American singer Yana: No Hotel. Vocalist Berit Ulseth joined the band for Pull Closer to Me: Live in the Piano Room (2017) and Dance Scandal at the Gymnasium (2018\, helmed by Grammy-winning Black Keys producer Mark Neill). \n
URL:https://urbanmilwaukee.com/event/the-claudettes-elephonic/
LOCATION:Select a Country:
CATEGORIES:Arts & Entertainment
ATTACH;FMTTYPE=image/jpeg:https://urbanmilwaukee.com/wp-content/uploads/2021/11/dsc01852.jpg
END:VEVENT
BEGIN:VEVENT
DTSTART;TZID=America/Chicago:20231208T110000
DTEND;TZID=America/Chicago:20231208T150000
DTSTAMP:20260424T221440
CREATED:20231206T073353Z
LAST-MODIFIED:20231206T073353Z
UID:752486-1702033200-1702047600@urbanmilwaukee.com
SUMMARY:European Village Alive!
DESCRIPTION:The Milwaukee Public Museum “comes to life”! \nLearn about centuries-old European holiday traditions from costumed docents in our European Village exhibit. \nThe American holiday season was shaped\, in part\, by the thousands of Europeans who immigrated here in the 19th century. Discover what traditions have endured\, as well as those that have been forgotten with costumed enactors and interpreters. Immerse yourself in the spirit of the season\, see holiday artifacts not usually on display\, and participate in fun\, hands-on activities. \n
URL:https://urbanmilwaukee.com/event/european-village-alive/
LOCATION:800 W Wells St\, Milwaukee\, 53233\, United States
CATEGORIES:History
ATTACH;FMTTYPE=image/png:https://urbanmilwaukee.com/wp-content/uploads/2023/11/Village-Decorated.png
END:VEVENT
BEGIN:VEVENT
DTSTART;TZID=America/Chicago:20231208T140000
DTEND;TZID=America/Chicago:20231208T160000
DTSTAMP:20260424T221440
CREATED:20231117T060442Z
LAST-MODIFIED:20231117T060442Z
UID:753000-1702044000-1702051200@urbanmilwaukee.com
SUMMARY:Bayshore Holiday Entertainment
DESCRIPTION:Be merrier this holiday season and enjoy live performances from local musicians\, schools and community groups at Bayshore! All performances are hosted in the Rotunda\, near the Target west entrance. Celebrate more at Bayshore! Today’s performance features Looping Cello. \n
URL:https://urbanmilwaukee.com/event/bayshore-holiday-entertainment-8/
LOCATION:5800 N. Bayshore Drive\, Glendale\, WI\, 53217\, United States
CATEGORIES:Arts & Entertainment
ATTACH;FMTTYPE=image/jpeg:https://urbanmilwaukee.com/wp-content/uploads/2023/11/bayshore_STS2023_2500x1250websiteEventHeader.jpg
END:VEVENT
BEGIN:VEVENT
DTSTART;TZID=America/Chicago:20231208T170000
DTEND;TZID=America/Chicago:20231208T193000
DTSTAMP:20260424T221440
CREATED:20231206T073117Z
LAST-MODIFIED:20231206T073117Z
UID:752645-1702054800-1702063800@urbanmilwaukee.com
SUMMARY:'Celebrating our Shared Roots' Opening Reception
DESCRIPTION:In collaboration with The Mexican Arts Collective led by Gabriela Marvan and Little Eagle Arts Foundation (LEAF) founded by Melanie Tallmadge Sainz of the Ho-Chunk Nation\, Latino Arts is proud to bring this important celebration of artforms rooted in cultural heritage to our community. Celebrating Our Shared Roots will showcase art making traditions and mediums from throughout Mexico and first nations tribes. Join us for this engaging exhibition that celebrates artists sharing their cultural traditions and invites the viewer to expand their understanding of other cultures and art making traditions. \nIn a contemporary society fixated on technology and ready made goods it is easy to lose sight of the connection our ancestors had with the natural world. Through this exhibition we invite our community to celebrate artists that maintain a close connection to their ancestral roots through indigenous art making traditions as part of their artistic practice. In this exhibit viewers will explore fusion of contemporary and traditional techniques. Admire naturally sourced materials transformed into unique art pieces that draw from cultural heritage and celebrate resiliency by maintaining traditions alive through the arts. \nOPENING RECEPTION\nFriday\, December 8 5:00 p.m.\nOn View: December 8 – Feb 23\, 2024 \nOPEN GALLERY HOURS:\nDecember 8\, 2023 – February 23\, 2024\n10:30 a.m. – 7:30 p.m. \nWe kindly request a $1 donation per person \n
URL:https://urbanmilwaukee.com/event/celebrating-our-shared-roots-opening-reception/
LOCATION:1028 S. 9th St.\, Milwaukee\, WI\, 53204\, United States
CATEGORIES:Arts & Entertainment
ATTACH;FMTTYPE=image/gif:https://urbanmilwaukee.com/wp-content/uploads/2009/09/latinoarts.gif
END:VEVENT
BEGIN:VEVENT
DTSTART;TZID=America/Chicago:20231208T173000
DTEND;TZID=America/Chicago:20231208T190000
DTSTAMP:20260424T221440
CREATED:20231206T073446Z
LAST-MODIFIED:20231206T073446Z
UID:755403-1702056600-1702062000@urbanmilwaukee.com
SUMMARY:Holiday Cocktails Mixology Workshop
DESCRIPTION:Join us to make FIVE delicious Holiday Cocktails sure to impress your family\, friends and college students! Then stick around for Josh Quinn as he entertains us Holiday Music!. Don’t miss this fun night out! \n
URL:https://urbanmilwaukee.com/event/holiday-cocktails-mixology-workshop/
LOCATION:1515 West Mequon Road\, Mequon\, WI\, 53092\, United States
CATEGORIES:Arts & Entertainment,Class,Food & Drink
ATTACH;FMTTYPE=image/jpeg:https://urbanmilwaukee.com/wp-content/uploads/2023/12/54963.jpg
ORGANIZER;CN="SIP%20MKE":MAILTO:jackie@sipmke.com
END:VEVENT
BEGIN:VEVENT
DTSTART;TZID=America/Chicago:20231208T183000
DTEND;TZID=America/Chicago:20231208T213000
DTSTAMP:20260424T221440
CREATED:20231206T073812Z
LAST-MODIFIED:20231206T073812Z
UID:754477-1702060200-1702071000@urbanmilwaukee.com
SUMMARY:Milwaukee Contra Dance
DESCRIPTION:Open Community Dance with live music and a caller. Live music by A Rare Privilege. \n\nNew dancers welcomed! No partner necessary! No experience necessary!\nIf you can walk\, you can contra dance\nIf new\, consider joining in the fun lesson/orientation a half hour before the dance. If you can’t make that\, show up anyway\, you’ll pick it up!!\nMany of us bring clean\, soft soled shoes to change into to protect floors. At the very least\, clean the sand\, salt and pebbles from your soles.\nBring friends for more fun!\nCommunity dancing for all ages.\nHigh energy\, live music.\nEach dance is taught\, then danced to live music for about 5-8 minutes.\nEveryone makes mistakes but nobody cares.\nThe more you do it\, the easier and more fun it becomes.\nTreat one another with care and respect\, smile and have a good time.\nBring a water bottle as dancing is a great workout!\n\n
URL:https://urbanmilwaukee.com/event/milwaukee-contra-dance-3/
LOCATION:3224 N Gordon Place\, Milwaukee\, 53212\, United States
CATEGORIES:Active
ATTACH;FMTTYPE=image/jpeg:https://urbanmilwaukee.com/wp-content/uploads/2023/11/Dec8.2023Contra.jpg
ORGANIZER;CN="Milwaukee%20Contra%20Dance":MAILTO:contradancemke@gmail.com
END:VEVENT
BEGIN:VEVENT
DTSTART;TZID=America/Chicago:20231208T190000
DTEND;TZID=America/Chicago:20231208T203000
DTSTAMP:20260424T221440
CREATED:20231117T054945Z
LAST-MODIFIED:20231117T054945Z
UID:752955-1702062000-1702067400@urbanmilwaukee.com
SUMMARY:The Best Christmas Pageant Ever: The Musical
DESCRIPTION:The horrible Herdmans are the worst kids in the history of the world. The entire town panics when these rowdy six siblings are cast in the church’s annual Christmas pageant. It’s up to good-hearted Mrs. Bradley to help the Herdmans – and the rest of the town – discover the true meaning of Christmas before it’s too late. Silent night? Not a chance\, but sometimes a little joyful noise is just right for Christmas. \n
URL:https://urbanmilwaukee.com/event/the-best-christmas-pageant-ever-the-musical-11/
LOCATION:929 N Water ST\, Milwaukee\, WI\, 53202\, United States
CATEGORIES:Arts & Entertainment
ATTACH;FMTTYPE=image/jpeg:https://urbanmilwaukee.com/wp-content/uploads/2022/11/Marcus-Performing-Arts-Center.jpg
END:VEVENT
BEGIN:VEVENT
DTSTART;TZID=America/Chicago:20231208T190000
DTEND;TZID=America/Chicago:20231208T210000
DTSTAMP:20260424T221440
CREATED:20231206T073956Z
LAST-MODIFIED:20231206T073956Z
UID:752641-1702062000-1702069200@urbanmilwaukee.com
SUMMARY:Grupo Mono Blanco
DESCRIPTION:Join Latino Arts\, Inc. for an evening of live music featuring Grupo Mono Blanco. \nGrupo Mono Blanco changed the course of music history. Beginning in 1977\, Gilberto Gutierrez led the grassroots Mexican musical group in launching a back-to-the-future renaissance\, digging deep into the rural culture of Veracruz\, bringing it to the forefront of musical life\, and igniting a major peoples music movement that spread throughout Mexico\, the United States\, and beyond. \nMelding past and present\, Mono Blanco breathes fresh life into the sounds of traditional stringed instruments\, percussion\, poetic improvisation\, and the fandango community celebration. Grupo Mono Blanco’s “Soneros Jarochos” is Son Jarocho is at its best\, multi-generational authentic musicians conversing in their vernacular language exchanging musical ideas rhythms and verses with hearty rural drive and excellent musical taste. \n
URL:https://urbanmilwaukee.com/event/grupo-mono-blanco/
LOCATION:1028 S. 9th St.\, Milwaukee\, WI\, 53204\, United States
CATEGORIES:Arts & Entertainment
ATTACH;FMTTYPE=image/png:https://urbanmilwaukee.com/wp-content/uploads/2023/11/Screenshot-2023-11-15-141403.png
END:VEVENT
BEGIN:VEVENT
DTSTART;TZID=America/Chicago:20231208T190000
DTEND;TZID=America/Chicago:20231208T220000
DTSTAMP:20260424T221440
CREATED:20231208T062020Z
LAST-MODIFIED:20231208T062020Z
UID:755411-1702062000-1702072800@urbanmilwaukee.com
SUMMARY:Holiday Sing-A-Long with Josh the Jukebox
DESCRIPTION:“Best of Milwaukee” vocalist Josh Quinn will entertain us with holiday tunes PLUS he takes your requests! Sign up for our Holiday Mixology Workshop from 5:30 p.m. – 7:00 p.m. and make a night of it! Spread the word and we hope to see you there. \nOh\, and wear that Ugly sweater! \n
URL:https://urbanmilwaukee.com/event/holiday-sing-a-long-with-josh-the-jukebox/
LOCATION:1515 W Mequon Road\, Mequon\, WI\, 53092\, United States
CATEGORIES:Arts & Entertainment,Class
ATTACH;FMTTYPE=image/jpeg:https://urbanmilwaukee.com/wp-content/uploads/2023/12/54964.jpg
ORGANIZER;CN="SIP%20MKE":MAILTO:jackie@sipmke.com
END:VEVENT
BEGIN:VEVENT
DTSTART;TZID=America/Chicago:20231208T193000
DTEND;TZID=America/Chicago:20231208T210000
DTSTAMP:20260424T221440
CREATED:20231206T071241Z
LAST-MODIFIED:20231206T071241Z
UID:746961-1702063800-1702069200@urbanmilwaukee.com
SUMMARY:The Nutcracker: Drosselmeyer's Imaginarium
DESCRIPTION:After a year of eager anticipation\, Michael Pink’s brand-new interpretation of The Nutcracker is here for the holidays. Updated choreography\, lavish new costumes\, awe-inspiring sets\, and more make this revamped classic one of the grandest debuts Milwaukee Ballet has ever celebrated! Join us for the world premiere of The Nutcracker: Drosselmeyer’s Imaginarium and experience Milwaukee’s favorite holiday tradition like you never have before. \n
URL:https://urbanmilwaukee.com/event/the-nutcracker-drosselmeyers-imaginarium/
LOCATION:929 N. Water St.\, Milwaukee \, Milwaukee\, WI\, United States
CATEGORIES:Arts & Entertainment
ATTACH;FMTTYPE=image/jpeg:https://urbanmilwaukee.com/wp-content/uploads/2022/11/Marcus-Performing-Arts-Center.jpg
END:VEVENT
BEGIN:VEVENT
DTSTART;TZID=America/Chicago:20231208T193000
DTEND;TZID=America/Chicago:20231208T213000
DTSTAMP:20260424T221440
CREATED:20231208T062243Z
LAST-MODIFIED:20231208T062243Z
UID:750126-1702063800-1702071000@urbanmilwaukee.com
SUMMARY:A Christmas Carol
DESCRIPTION:A Christmas Carol is one of the best-known and well-loved stories in the English language. During the course of one memorable Christmas Eve\, the ghosts of Christmas Past\, Present and Future help Ebenezer Scrooge discover that it is never too late to change his miserly ways. Milwaukee Rep favorite Matt Daniels returns to play Scrooge\, as enchanting music\, dance\, costumes\, scenery and special effects will once again fill the theater to tell this timeless tale of love\, hope and redemption. \nBy Charles Dickens\nDirected by Mark Clements \n
URL:https://urbanmilwaukee.com/event/a-christmas-carol-55/
LOCATION:144 E. Wells St.\, Milwaukee\, WI\, 53202
CATEGORIES:Arts & Entertainment
ATTACH;FMTTYPE=image/png:https://urbanmilwaukee.com/wp-content/uploads/2023/11/A-Christmas-Carol-300-12.png
END:VEVENT
BEGIN:VEVENT
DTSTART;TZID=America/Chicago:20231208T193000
DTEND;TZID=America/Chicago:20231208T220000
DTSTAMP:20260424T221440
CREATED:20231208T062438Z
LAST-MODIFIED:20231208T062438Z
UID:748236-1702063800-1702072800@urbanmilwaukee.com
SUMMARY:From Sinatra to the '60s Live with Josh Quinn
DESCRIPTION:“Best of Milwaukee” vocalist Josh Quinn croons tunes from the Rat Pack era and sings songs from the first two decades of rock and roll. PLUS he takes your requests – any song\, any genre! Sign up for our Supper Club Mixology Workshop from 6:00 p.m. – 7:30 p.m. and make a night of it! Spread the word and we hope to see you there! \n
URL:https://urbanmilwaukee.com/event/from-sinatra-to-the-60s-live-with-josh-quinn/
LOCATION:1515 W Mequon Road\, Mequon\, WI\, 53092\, United States
CATEGORIES:Arts & Entertainment,Food & Drink
ATTACH;FMTTYPE=image/jpeg:https://urbanmilwaukee.com/wp-content/uploads/2023/10/51510.jpg
ORGANIZER;CN="SIP%20MKE":MAILTO:jackie@sipmke.com
END:VEVENT
BEGIN:VEVENT
DTSTART;TZID=America/Chicago:20231208T200000
DTEND;TZID=America/Chicago:20231208T230000
DTSTAMP:20260424T221440
CREATED:20231208T062930Z
LAST-MODIFIED:20231208T062930Z
UID:753534-1702065600-1702076400@urbanmilwaukee.com
SUMMARY:Secret Menu\, Disaster Kid\, Jacob Slade\, Ugly Cousin at Anodyne
DESCRIPTION:Join Anodyne Coffee Roasting Co. for an evening of live music featuring Secret Menu\, Disaster Kid\, Jacob Slade and Ugly Cousin! \nSecret Menu \nSecret Menu is a four-piece alternative rock band made up of Raf\, Andrew\, Matt and Evan. They focus on writing songs true to experience with a style that blends story-telling verses and dense vocal harmonies with a classic rock sound. In true Midwest fashion\, the band practices out of a red tool shed\, turned music studio. All together Secret Menu’s purpose is to inspire\, because life is too short to be asking yourself\, “What if?” Might as well go for it. \nDisaster Kid \nChicago Nostalgia rock trio Disaster Kid finds reflection at the core of their music. Packed together by vivid detail and passionate melodies\, their cathartic indie rock sound is lined with lyrical storytelling which emphasizes the mysticism in the mundane. \nJacob Slade \nJacob Slade is a indie-folk/pop artist from Milwaukee\, WI. He has garnered wide-spread recognition for his song “However You May” after it was spotlighted on Spotify’s Fresh Finds\, Fresh Finds Folk\, Morning Acoustic\, and juniper playlists. \nAs 2023 comes to a close\, Jacob celebrates the release of his third independent album Soft Spoken. Combining ethereal soundscapes\, imaginative story-telling\, and infectious melodies\, Jacob paints the picture of a character who has a mind full of thoughts and a pervasive tendency to keep them all in. \n$10 adv/ $15 at the door (advance sales until 3pm day of show\, then available at the door). Doors at 7pm\, showtime 7:30pm \n
URL:https://urbanmilwaukee.com/event/secret-menu-disaster-kid-jacob-slade-ugly-cousin-at-anodyne/
LOCATION:224 W. Bruce St.\, Milwaukee\, WI\, 53204\, United States
CATEGORIES:Arts & Entertainment
ATTACH;FMTTYPE=image/jpeg:https://urbanmilwaukee.com/wp-content/uploads/2021/11/dsc01852.jpg
ORGANIZER;CN="Anodyne%20Coffee%20Roasting%20Co.":MAILTO:erica@anodynecoffee.com
END:VEVENT
BEGIN:VEVENT
DTSTART;TZID=America/Chicago:20231208T200000
DTEND;TZID=America/Chicago:20231208T220000
DTSTAMP:20260424T221440
CREATED:20231208T063106Z
LAST-MODIFIED:20231208T063106Z
UID:745510-1702065600-1702072800@urbanmilwaukee.com
SUMMARY:Nuncrackers
DESCRIPTION:The hilarious sisters of Nunsense are back\, spreading yuletide laughs\, cheerful carols and the gift of festive mischief with a new Christmas special for cable access. Complete with (mostly) traditional holiday songs\, a silly secret Santa contest\, and a not-so-graceful take on Tchaikovsky’s Nutcracker Ballet that will have you laughing all the way through New Year’s. \n
URL:https://urbanmilwaukee.com/event/nuncrackers-28/
LOCATION:108 E. Wells St.\, Milwaukee\, WI\, 53202\, United States
CATEGORIES:Arts & Entertainment
ATTACH;FMTTYPE=image/jpeg:https://urbanmilwaukee.com/wp-content/uploads/2023/10/Nuncrackers_300-7-scaled.jpg
END:VEVENT
BEGIN:VEVENT
DTSTART;TZID=America/Chicago:20231208T200000
DTEND;TZID=America/Chicago:20231208T220000
DTSTAMP:20260424T221440
CREATED:20231208T063312Z
LAST-MODIFIED:20231208T063312Z
UID:748155-1702065600-1702072800@urbanmilwaukee.com
SUMMARY:Dial M for Murder
DESCRIPTION:Passion\, blackmail and revenge combine into a breathtaking\, edge-of-your-seat murder mystery. Jealous suspicion gives way to cold-blooded vengeance when a gold-digging husband’s perfect crime misfires\, trapping all parties in a sinister and dangerous web of lies. This classic play is brimming with shocking surprises that will keep you guessing until the end. \nBy Frederick Knott\nAdapted by Jeffrey Hatcher\nDirected by Laura Braza \n
URL:https://urbanmilwaukee.com/event/dial-m-for-murder-25/
LOCATION:108 E. Wells St.\, Milwaukee\, WI\, 53202\, United States
CATEGORIES:Arts & Entertainment
ATTACH;FMTTYPE=image/jpeg:https://urbanmilwaukee.com/wp-content/uploads/2023/10/Dial-M-For-Murder_300-27-scaled.jpg
END:VEVENT
END:VCALENDAR