BEGIN:VCALENDAR
VERSION:2.0
PRODID:-//Urban Milwaukee - ECPv4.6.9//NONSGML v1.0//EN
CALSCALE:GREGORIAN
METHOD:PUBLISH
X-WR-CALNAME:Urban Milwaukee
X-ORIGINAL-URL:https://urbanmilwaukee.com
X-WR-CALDESC:Events for Urban Milwaukee
BEGIN:VEVENT
DTSTART;TZID=America/Chicago:20230106T190000
DTEND;TZID=America/Chicago:20231219T122200
DTSTAMP:20260425T000101
CREATED:20231223T070819Z
LAST-MODIFIED:20231223T070819Z
UID:758113-1673031600-1702988520@urbanmilwaukee.com
SUMMARY:An Evening with Albert Lee PLUS Meet & Greet
DESCRIPTION:Join Anodyne Coffee Roasting Co. for an evening of live music featuring Albert Lee! \nAlbert Lee is one of the most respected and renowned guitarists in music history\, having worked with The Everly Brothers\, Eric Clapton\, Emmylou Harris and The Cricketts over his long and illustrious career. The British-born country-rock artist started his career during the emerging rock ‘n’ roll scene of sixties London\, when he swapped bands with the likes of Jimmy Page and Chris Farlowe. \n
URL:https://urbanmilwaukee.com/event/an-evening-with-albert-lee-plus-meet-greet/
LOCATION:224 W. Bruce St\, Milwaukee\, WI\, Milwaukee\, United States
CATEGORIES:Arts & Entertainment
ATTACH;FMTTYPE=image/jpeg:https://urbanmilwaukee.com/wp-content/uploads/2021/11/dsc01852.jpg
ORGANIZER;CN="Anodyne%20Coffee%20Roasting%20Co.":MAILTO:erica@anodynecoffee.com
END:VEVENT
BEGIN:VEVENT
DTSTART;TZID=America/Chicago:20230222T200000
DTEND;TZID=America/Chicago:20231219T123400
DTSTAMP:20260425T000101
CREATED:20240105T065846Z
LAST-MODIFIED:20240105T065846Z
UID:758125-1677096000-1702989240@urbanmilwaukee.com
SUMMARY:The Claudettes + Elephonic
DESCRIPTION:Join Anodyne Coffee Roasting Co. for an evening of live music featuring The Claudettes and Elephonic! \nGrounded in roots music yet pushing the boundaries of indie pop and rock\, the Claudettes are writing the most riveting chapter of their story right now. Pianist/songwriter Johnny Iguana formed the Claudettes with drummer Michael Caskey\, dazzling with the barrelhouse bravura of their 2013 debut Infernal Piano Plot…HATCHED! Another Yellow Dog Records release followed in 2015 featuring Nigerian-American singer Yana: No Hotel. Vocalist Berit Ulseth joined the band for Pull Closer to Me: Live in the Piano Room (2017) and Dance Scandal at the Gymnasium (2018\, helmed by Grammy-winning Black Keys producer Mark Neill). \n
URL:https://urbanmilwaukee.com/event/the-claudettes-elephonic/
LOCATION:Select a Country:
CATEGORIES:Arts & Entertainment
ATTACH;FMTTYPE=image/jpeg:https://urbanmilwaukee.com/wp-content/uploads/2021/11/dsc01852.jpg
END:VEVENT
BEGIN:VEVENT
DTSTART;TZID=America/Chicago:20231207T103000
DTEND;TZID=America/Chicago:20231207T123000
DTSTAMP:20260425T000101
CREATED:20231206T065806Z
LAST-MODIFIED:20231206T065806Z
UID:750121-1701945000-1701952200@urbanmilwaukee.com
SUMMARY:A Christmas Carol
DESCRIPTION:A Christmas Carol is one of the best-known and well-loved stories in the English language. During the course of one memorable Christmas Eve\, the ghosts of Christmas Past\, Present and Future help Ebenezer Scrooge discover that it is never too late to change his miserly ways. Milwaukee Rep favorite Matt Daniels returns to play Scrooge\, as enchanting music\, dance\, costumes\, scenery and special effects will once again fill the theater to tell this timeless tale of love\, hope and redemption. \nBy Charles Dickens\nDirected by Mark Clements \n
URL:https://urbanmilwaukee.com/event/a-christmas-carol-53/
LOCATION:144 E. Wells St.\, Milwaukee\, WI\, 53202
CATEGORIES:Arts & Entertainment
ATTACH;FMTTYPE=image/png:https://urbanmilwaukee.com/wp-content/uploads/2023/11/A-Christmas-Carol-300-11.png
END:VEVENT
BEGIN:VEVENT
DTSTART;TZID=America/Chicago:20231207T163000
DTEND;TZID=America/Chicago:20231207T193000
DTSTAMP:20260425T000101
CREATED:20231206T070109Z
LAST-MODIFIED:20231206T070109Z
UID:748935-1701966600-1701977400@urbanmilwaukee.com
SUMMARY:NRC Tech Briefing: Data\, AI\, & Your Enterprise
DESCRIPTION:Data is the new water! \nNew Resources Consulting is proud to host this upcoming technology briefing featuring Paul Stillmank and the team at 7Rivers\, an AI technology services company. Paul and the team will share what they see as the future of the Augmented Enterprise and how companies can leverage the emergence of mainstream AI\, Intelligent Insights\, and Data Native applications to transform their business. The time will be filled with thought-provoking case studies and demonstrations. \nThursday\, December 7\, 2023 \n4:30 p.m. – 5:15 p.m. Arrival and Cocktails\n5:15 p.m. – 6:00 p.m. Hors d’oeuvres and Networking\n6:00 p.m. – 7:00 p.m. 7Rivers Presentation \nAttendance is FREE – Please RSVP your attendance at https://app.smartsheet.com/b/form/73f04ce38226462d92003242dba61650 \n
URL:https://urbanmilwaukee.com/event/nrc-tech-briefing-data-ai-your-enterprise/
LOCATION:325 S Moorland Rd\, Brookfield\, WI\, 53005\, United States
CATEGORIES:Business,Tech
ATTACH;FMTTYPE=image/png:https://urbanmilwaukee.com/wp-content/uploads/2023/10/NRC-Tech-Briefing-with-7Rivers.png
ORGANIZER;CN="New%20Resources%20Consulting":MAILTO:jharris@newresources.com
END:VEVENT
BEGIN:VEVENT
DTSTART;TZID=America/Chicago:20231207T190000
DTEND;TZID=America/Chicago:20231207T190000
DTSTAMP:20260425T000101
CREATED:20231206T070422Z
LAST-MODIFIED:20231206T070422Z
UID:753533-1701975600-1701975600@urbanmilwaukee.com
SUMMARY:The Farwell Kings + Eccentric Acoustic + Paul Smith and Andy Jehly
DESCRIPTION:Join Anodyne Coffee Roasting Co. for an evening of live music featuring The Farwell Kings\, Eccentric Acoustic and Paul Smithh and Andy Jehly! \nThe Farwell Kings are a cicada of sorts on the Milwaukee Music scene – hibernating for extended periods to eventually bust out and reveal their rejuvenated glory. This latest incarnation arrives with a fresh mix of originals accompanied by select covers ranging from alt-country to Americana\, retro-pop\, and all other things that are basically Rock & Roll. Take the shared lead vocals\, add in a little (literally) accordion and resonator guitar for spice\, and you get our unique breadth of fun music for head\, heart\, and butt. \nEccentric Acoustic is a trio featuring Ruth Williams on mandolin\, Sandy Stehling on guitar\, and Scott Emmons on bass. They perform a wide variety of music\, ranging from swing era jazz and country blues to more contemporary country\, folk\, and Americana. \nPaul Smith & Andy Jehly bring harmony\, humor\, and laid-back style to their favorite songs\, ranging from folk and blues to Motown and psychedelic rock. Both are multi-instrumentalists\, incorporating guitar\, dobro\, lap steel\, bass\, keyboards and ukulele into their music. Paul and Andy come from very different musical backgrounds\, Andy mainly from traditional music and the 90s and Paul focused on folk rock\, Beatles\, and 1967 American psychedelica. They share a passion for music with history\, great harmonies\, and evocative lyrics. They’ve played together since about 2014. \n
URL:https://urbanmilwaukee.com/event/the-farwell-kings-eccentric-acoustic-paul-smith-and-andy-jehly/
LOCATION:224 W. Bruce St.\, Milwaukee\, WI\, 53204\, United States
CATEGORIES:Arts & Entertainment
ATTACH;FMTTYPE=image/jpeg:https://urbanmilwaukee.com/wp-content/uploads/2021/11/dsc01852.jpg
END:VEVENT
BEGIN:VEVENT
DTSTART;TZID=America/Chicago:20231207T190000
DTEND;TZID=America/Chicago:20231207T220000
DTSTAMP:20260425T000101
CREATED:20231206T070533Z
LAST-MODIFIED:20231206T070533Z
UID:748247-1701975600-1701986400@urbanmilwaukee.com
SUMMARY:Pat McCurdy Live at SIP MKE
DESCRIPTION:Join us for some laughs and songs with Milwaukee’s one and only Pat McCurdy! No Cover. No Reservations. Seating is First Come\, First Served. \n
URL:https://urbanmilwaukee.com/event/pat-mccurdy-live-at-sip-mke/
LOCATION:1515 W Mequon Road\, Mequon\, WI\, 53092\, United States
CATEGORIES:Arts & Entertainment,Food & Drink
ATTACH;FMTTYPE=image/jpeg:https://urbanmilwaukee.com/wp-content/uploads/2023/10/51506.jpg
ORGANIZER;CN="SIP%20MKE":MAILTO:jackie@sipmke.com
END:VEVENT
BEGIN:VEVENT
DTSTART;TZID=America/Chicago:20231207T193000
DTEND;TZID=America/Chicago:20231207T213000
DTSTAMP:20260425T000101
CREATED:20231206T070645Z
LAST-MODIFIED:20231206T070645Z
UID:745508-1701977400-1701984600@urbanmilwaukee.com
SUMMARY:Nuncrackers
DESCRIPTION:The hilarious sisters of Nunsense are back\, spreading yuletide laughs\, cheerful carols and the gift of festive mischief with a new Christmas special for cable access. Complete with (mostly) traditional holiday songs\, a silly secret Santa contest\, and a not-so-graceful take on Tchaikovsky’s Nutcracker Ballet that will have you laughing all the way through New Year’s. \n
URL:https://urbanmilwaukee.com/event/nuncrackers-27/
LOCATION:108 E. Wells St.\, Milwaukee\, WI\, 53202\, United States
CATEGORIES:Arts & Entertainment
ATTACH;FMTTYPE=image/jpeg:https://urbanmilwaukee.com/wp-content/uploads/2023/10/Nuncrackers_300-6-scaled.jpg
END:VEVENT
BEGIN:VEVENT
DTSTART;TZID=America/Chicago:20231207T193000
DTEND;TZID=America/Chicago:20231207T213000
DTSTAMP:20260425T000101
CREATED:20231206T070757Z
LAST-MODIFIED:20231206T070757Z
UID:748150-1701977400-1701984600@urbanmilwaukee.com
SUMMARY:Dial M for Murder
DESCRIPTION:Passion\, blackmail and revenge combine into a breathtaking\, edge-of-your-seat murder mystery. Jealous suspicion gives way to cold-blooded vengeance when a gold-digging husband’s perfect crime misfires\, trapping all parties in a sinister and dangerous web of lies. This classic play is brimming with shocking surprises that will keep you guessing until the end. \nBy Frederick Knott\nAdapted by Jeffrey Hatcher\nDirected by Laura Braza \n
URL:https://urbanmilwaukee.com/event/dial-m-for-murder-24/
LOCATION:108 E. Wells St.\, Milwaukee\, WI\, 53202\, United States
CATEGORIES:Arts & Entertainment
ATTACH;FMTTYPE=image/jpeg:https://urbanmilwaukee.com/wp-content/uploads/2023/10/Dial-M-For-Murder_300-26-scaled.jpg
END:VEVENT
BEGIN:VEVENT
DTSTART;TZID=America/Chicago:20231207T193000
DTEND;TZID=America/Chicago:20231207T213000
DTSTAMP:20260425T000101
CREATED:20231206T070907Z
LAST-MODIFIED:20231206T070907Z
UID:750119-1701977400-1701984600@urbanmilwaukee.com
SUMMARY:A Christmas Carol
DESCRIPTION:A Christmas Carol is one of the best-known and well-loved stories in the English language. During the course of one memorable Christmas Eve\, the ghosts of Christmas Past\, Present and Future help Ebenezer Scrooge discover that it is never too late to change his miserly ways. Milwaukee Rep favorite Matt Daniels returns to play Scrooge\, as enchanting music\, dance\, costumes\, scenery and special effects will once again fill the theater to tell this timeless tale of love\, hope and redemption. \nBy Charles Dickens\nDirected by Mark Clements \n
URL:https://urbanmilwaukee.com/event/a-christmas-carol-54/
LOCATION:144 E. Wells St.\, Milwaukee\, WI\, 53202
CATEGORIES:Arts & Entertainment
ATTACH;FMTTYPE=image/png:https://urbanmilwaukee.com/wp-content/uploads/2023/11/A-Christmas-Carol-300-10.png
END:VEVENT
END:VCALENDAR