BEGIN:VCALENDAR
VERSION:2.0
PRODID:-//Urban Milwaukee - ECPv4.6.9//NONSGML v1.0//EN
CALSCALE:GREGORIAN
METHOD:PUBLISH
X-WR-CALNAME:Urban Milwaukee
X-ORIGINAL-URL:https://urbanmilwaukee.com
X-WR-CALDESC:Events for Urban Milwaukee
BEGIN:VEVENT
DTSTART;TZID=America/Chicago:20230106T190000
DTEND;TZID=America/Chicago:20231219T122200
DTSTAMP:20260425T152814
CREATED:20231223T070819Z
LAST-MODIFIED:20231223T070819Z
UID:758113-1673031600-1702988520@urbanmilwaukee.com
SUMMARY:An Evening with Albert Lee PLUS Meet & Greet
DESCRIPTION:Join Anodyne Coffee Roasting Co. for an evening of live music featuring Albert Lee! \nAlbert Lee is one of the most respected and renowned guitarists in music history\, having worked with The Everly Brothers\, Eric Clapton\, Emmylou Harris and The Cricketts over his long and illustrious career. The British-born country-rock artist started his career during the emerging rock ‘n’ roll scene of sixties London\, when he swapped bands with the likes of Jimmy Page and Chris Farlowe. \n
URL:https://urbanmilwaukee.com/event/an-evening-with-albert-lee-plus-meet-greet/
LOCATION:224 W. Bruce St\, Milwaukee\, WI\, Milwaukee\, United States
CATEGORIES:Arts & Entertainment
ATTACH;FMTTYPE=image/jpeg:https://urbanmilwaukee.com/wp-content/uploads/2021/11/dsc01852.jpg
ORGANIZER;CN="Anodyne%20Coffee%20Roasting%20Co.":MAILTO:erica@anodynecoffee.com
END:VEVENT
BEGIN:VEVENT
DTSTART;TZID=America/Chicago:20230222T200000
DTEND;TZID=America/Chicago:20231219T123400
DTSTAMP:20260425T152814
CREATED:20240105T065846Z
LAST-MODIFIED:20240105T065846Z
UID:758125-1677096000-1702989240@urbanmilwaukee.com
SUMMARY:The Claudettes + Elephonic
DESCRIPTION:Join Anodyne Coffee Roasting Co. for an evening of live music featuring The Claudettes and Elephonic! \nGrounded in roots music yet pushing the boundaries of indie pop and rock\, the Claudettes are writing the most riveting chapter of their story right now. Pianist/songwriter Johnny Iguana formed the Claudettes with drummer Michael Caskey\, dazzling with the barrelhouse bravura of their 2013 debut Infernal Piano Plot…HATCHED! Another Yellow Dog Records release followed in 2015 featuring Nigerian-American singer Yana: No Hotel. Vocalist Berit Ulseth joined the band for Pull Closer to Me: Live in the Piano Room (2017) and Dance Scandal at the Gymnasium (2018\, helmed by Grammy-winning Black Keys producer Mark Neill). \n
URL:https://urbanmilwaukee.com/event/the-claudettes-elephonic/
LOCATION:Select a Country:
CATEGORIES:Arts & Entertainment
ATTACH;FMTTYPE=image/jpeg:https://urbanmilwaukee.com/wp-content/uploads/2021/11/dsc01852.jpg
END:VEVENT
BEGIN:VEVENT
DTSTART;TZID=America/Chicago:20231128T103000
DTEND;TZID=America/Chicago:20231128T143000
DTSTAMP:20260425T152814
CREATED:20231122T001229Z
LAST-MODIFIED:20231122T001229Z
UID:744788-1701167400-1701181800@urbanmilwaukee.com
SUMMARY:2023 Wisconsin Women's Business Initiative Corporation (WWBIC)'s Annual Celebration
DESCRIPTION:WWBIC works hard every day expanding economic equity and empowering individuals as business owners. Our annual celebration\, “The Cities of Our State\,” is two-fold in nature\, with a small business market followed by a luncheon and program. \nThe Small Biz Market will feature over 70 WWBIC supported businesses. Attendees are encouraged to come early or stay late and meet many local small business owners. WWBIC loves connecting these clients to our partners and supporters! During our program\, you’ll hear first-hand about the work and impact of WWBIC from our President/CVO Wendy Baumann and WWBIC clients. Our guest panel of mayors from seven cities across Wisconsin will also discuss the impact of small business on our communities now and into the future. \n10:30am-12:00pm | Registration\, Small Biz Market Opens and Networking \n12:00pm-1:30pm | Luncheon and Program \nOur Panel: \n\nJohn Antaramian\, Mayor of the City of Kenosha\nDan Devine\, Mayor of the City of West Allis\nCavalier Johnson\, Mayor of the City of Milwauke\nCory Mason\, Mayor of the City of Racin\nMitch Reynolds\, Mayor of the City of La Crosse\nSatya Rhodes-Conway\, Mayor of the City of Madison\nJake Woodford\, Mayor of the City of Appleton\nMayoral Panel Emcee\, Mary Stoker Smith\, (Fox 6 Milwaukee Anchor/Reporter)\n\n1:30pm-2:30pm | Program concludes and Small Biz Market Last Call \n
URL:https://urbanmilwaukee.com/event/2023-wisconsin-womens-business-initiative-corporation-wwbics-annual-celebration/
LOCATION:325 S. Moorland Rd.\, Brookfield\, WI\, 53005\, United States
CATEGORIES:Fundraiser
ATTACH;FMTTYPE=image/jpeg:https://urbanmilwaukee.com/wp-content/uploads/2023/10/367008418_314146550971278_8770728086026452004_n.jpg
END:VEVENT
BEGIN:VEVENT
DTSTART;TZID=America/Chicago:20231128T140000
DTEND;TZID=America/Chicago:20231128T160000
DTSTAMP:20260425T152814
CREATED:20231127T051406Z
LAST-MODIFIED:20231127T051406Z
UID:753931-1701180000-1701187200@urbanmilwaukee.com
SUMMARY:Plant & Sip: Holiday Wreaths
DESCRIPTION:Sip a cocktail & learn to make your own premium\, fresh evergreen wreath. Multiple evergreen & decoration options to match any aesthetic perfectly. \nChoose from 5+ varieties of evergreen\, 10+ types of adornment\, and 10+ styles of ribbon. There’s endless combinations to perfectly match your aesthetic. \nIf you come with a group of friends (4 or more in your group)\, you’ll each be entered into a raffle for a free premium wreath!\nEach ticket includes: \n\nyour first beverage\nchoice of evergreen for base\nadornments\n18″ grapevine wreath form\nribbon for bow\n~ 1.5 hour of instruction/crafting\n\n
URL:https://urbanmilwaukee.com/event/plant-sip-holiday-wreaths/
LOCATION:1515 W Mequon Road\, Mequon\, WI\, 53092\, United States
CATEGORIES:Arts & Entertainment,Food & Drink
ATTACH;FMTTYPE=image/png:https://urbanmilwaukee.com/wp-content/uploads/2023/11/54031.png
ORGANIZER;CN="SIP%20MKE":MAILTO:jackie@sipmke.com
END:VEVENT
BEGIN:VEVENT
DTSTART;TZID=America/Chicago:20231128T190000
DTEND;TZID=America/Chicago:20231128T210000
DTSTAMP:20260425T152814
CREATED:20231122T001537Z
LAST-MODIFIED:20231122T001537Z
UID:732747-1701198000-1701205200@urbanmilwaukee.com
SUMMARY:NUTCRACKER! Magical Christmas Ballet
DESCRIPTION:The beloved family tradition is back: NUTCRACKER! Magical Christmas Ballet! Gather your loved ones for the warm-glow-nostalgia of America’s favorite Christmas celebration. Experience the extraordinary international cast and Ukrainian Principal Artists performing at the peak of classical European Ballet. Be transported by the magic of jaw-dropping acrobatics\, larger than life puppets and stunning hand-crafted sets and costumes. Don’t miss this chance to experience the wonder of NUTCRACKER! Magical Christmas Ballet. Get tickets now! \n
URL:https://urbanmilwaukee.com/event/nutcracker-magical-christmas-ballet/
LOCATION:116 W. Wisconsin Ave.\, Milwaukee\, WI\, 53203\, United States
CATEGORIES:Arts & Entertainment
ATTACH;FMTTYPE=image/jpeg:https://urbanmilwaukee.com/wp-content/uploads/2023/07/NutcrackerHeroImage.jpg
END:VEVENT
BEGIN:VEVENT
DTSTART;TZID=America/Chicago:20231128T190000
DTEND;TZID=America/Chicago:20231128T210000
DTSTAMP:20260425T152814
CREATED:20231122T001810Z
LAST-MODIFIED:20231122T001810Z
UID:749981-1701198000-1701205200@urbanmilwaukee.com
SUMMARY:A Christmas Carol
DESCRIPTION:A Christmas Carol is one of the best-known and well-loved stories in the English language. During the course of one memorable Christmas Eve\, the ghosts of Christmas Past\, Present and Future help Ebenezer Scrooge discover that it is never too late to change his miserly ways. Milwaukee Rep favorite Matt Daniels returns to play Scrooge\, as enchanting music\, dance\, costumes\, scenery and special effects will once again fill the theater to tell this timeless tale of love\, hope and redemption. \nBy Charles Dickens\nDirected by Mark Clements \n
URL:https://urbanmilwaukee.com/event/a-christmas-carol-43/
LOCATION:144 E. Wells St.\, Milwaukee\, WI\, 53202
CATEGORIES:Arts & Entertainment
ATTACH;FMTTYPE=image/png:https://urbanmilwaukee.com/wp-content/uploads/2023/11/A-Christmas-Carol-300.png
END:VEVENT
BEGIN:VEVENT
DTSTART;TZID=America/Chicago:20231128T193000
DTEND;TZID=America/Chicago:20231128T213000
DTSTAMP:20260425T152814
CREATED:20231122T001944Z
LAST-MODIFIED:20231122T001944Z
UID:743921-1701199800-1701207000@urbanmilwaukee.com
SUMMARY:Nuncrackers
DESCRIPTION:The hilarious sisters of Nunsense are back\, spreading yuletide laughs\, cheerful carols and the gift of festive mischief with a new Christmas special for cable access. Complete with (mostly) traditional holiday songs\, a silly secret Santa contest\, and a not-so-graceful take on Tchaikovsky’s Nutcracker Ballet that will have you laughing all the way through New Year’s. \nCreated by Larry Gallagher \n
URL:https://urbanmilwaukee.com/event/nuncrackers-18/
LOCATION:108 E. Wells St.\, Milwaukee\, WI\, 53202\, United States
CATEGORIES:Arts & Entertainment
ATTACH;FMTTYPE=image/jpeg:https://urbanmilwaukee.com/wp-content/uploads/2023/09/Nuncrackers_300-26-scaled.jpg
END:VEVENT
END:VCALENDAR