BEGIN:VCALENDAR
VERSION:2.0
PRODID:-//Urban Milwaukee - ECPv4.6.9//NONSGML v1.0//EN
CALSCALE:GREGORIAN
METHOD:PUBLISH
X-WR-CALNAME:Urban Milwaukee
X-ORIGINAL-URL:https://urbanmilwaukee.com
X-WR-CALDESC:Events for Urban Milwaukee
BEGIN:VEVENT
DTSTART;TZID=America/Chicago:20230106T190000
DTEND;TZID=America/Chicago:20231219T122200
DTSTAMP:20260425T201911
CREATED:20231223T070819Z
LAST-MODIFIED:20231223T070819Z
UID:758113-1673031600-1702988520@urbanmilwaukee.com
SUMMARY:An Evening with Albert Lee PLUS Meet & Greet
DESCRIPTION:Join Anodyne Coffee Roasting Co. for an evening of live music featuring Albert Lee! \nAlbert Lee is one of the most respected and renowned guitarists in music history\, having worked with The Everly Brothers\, Eric Clapton\, Emmylou Harris and The Cricketts over his long and illustrious career. The British-born country-rock artist started his career during the emerging rock ‘n’ roll scene of sixties London\, when he swapped bands with the likes of Jimmy Page and Chris Farlowe. \n
URL:https://urbanmilwaukee.com/event/an-evening-with-albert-lee-plus-meet-greet/
LOCATION:224 W. Bruce St\, Milwaukee\, WI\, Milwaukee\, United States
CATEGORIES:Arts & Entertainment
ATTACH;FMTTYPE=image/jpeg:https://urbanmilwaukee.com/wp-content/uploads/2021/11/dsc01852.jpg
ORGANIZER;CN="Anodyne%20Coffee%20Roasting%20Co.":MAILTO:erica@anodynecoffee.com
END:VEVENT
BEGIN:VEVENT
DTSTART;TZID=America/Chicago:20230222T200000
DTEND;TZID=America/Chicago:20231219T123400
DTSTAMP:20260425T201911
CREATED:20240105T065846Z
LAST-MODIFIED:20240105T065846Z
UID:758125-1677096000-1702989240@urbanmilwaukee.com
SUMMARY:The Claudettes + Elephonic
DESCRIPTION:Join Anodyne Coffee Roasting Co. for an evening of live music featuring The Claudettes and Elephonic! \nGrounded in roots music yet pushing the boundaries of indie pop and rock\, the Claudettes are writing the most riveting chapter of their story right now. Pianist/songwriter Johnny Iguana formed the Claudettes with drummer Michael Caskey\, dazzling with the barrelhouse bravura of their 2013 debut Infernal Piano Plot…HATCHED! Another Yellow Dog Records release followed in 2015 featuring Nigerian-American singer Yana: No Hotel. Vocalist Berit Ulseth joined the band for Pull Closer to Me: Live in the Piano Room (2017) and Dance Scandal at the Gymnasium (2018\, helmed by Grammy-winning Black Keys producer Mark Neill). \n
URL:https://urbanmilwaukee.com/event/the-claudettes-elephonic/
LOCATION:Select a Country:
CATEGORIES:Arts & Entertainment
ATTACH;FMTTYPE=image/jpeg:https://urbanmilwaukee.com/wp-content/uploads/2021/11/dsc01852.jpg
END:VEVENT
BEGIN:VEVENT
DTSTART;TZID=America/Chicago:20231125T100000
DTEND;TZID=America/Chicago:20231125T160000
DTSTAMP:20260425T201911
CREATED:20231121T234035Z
LAST-MODIFIED:20231121T234035Z
UID:749921-1700906400-1700928000@urbanmilwaukee.com
SUMMARY:Crafty Christmas Gift Sale Fundraiser
DESCRIPTION:MARN and Milwaukee Pets Alive are pleased to announce a Crafty Christmas Gift Sale Fundraiser on Saturday\, November 25th\, from 10am – 4pm at the MARN ART + CULTURE HUB. \nThis is a unique craft and gift sale raising much-needed funds for the special needs and considerations animals that Milwaukee Pets Alive rescues. \n100% of the sale of each item will benefit Milwaukee Pets Alive to help our very special rescued animals! \nEach item is handcrafted and donated by someone who wants to help the animals in our program. Anything you purchase will have a lot of love and meaning behind it because it all starts with the love of animals! \nThis event is free and open to the public. \n
URL:https://urbanmilwaukee.com/event/crafty-christmas-gift-sale-fundraiser/
LOCATION:191 N. Broadway\, Milwaukee\, WI\, 53202\, United States
CATEGORIES:Fundraiser,Pets
ATTACH;FMTTYPE=image/jpeg:https://urbanmilwaukee.com/wp-content/uploads/2023/10/crafty-christmas.jpg
ORGANIZER;CN="Milwaukee%20Pets%20Alive":MAILTO:events@milwaukeepetsalive.org
END:VEVENT
BEGIN:VEVENT
DTSTART;TZID=America/Chicago:20231125T130000
DTEND;TZID=America/Chicago:20231125T143000
DTSTAMP:20260425T201911
CREATED:20231117T053802Z
LAST-MODIFIED:20231117T053802Z
UID:752937-1700917200-1700922600@urbanmilwaukee.com
SUMMARY:The Best Christmas Pageant Ever: The Musical
DESCRIPTION:The horrible Herdmans are the worst kids in the history of the world. The entire town panics when these rowdy six siblings are cast in the church’s annual Christmas pageant. It’s up to good-hearted Mrs. Bradley to help the Herdmans – and the rest of the town – discover the true meaning of Christmas before it’s too late. Silent night? Not a chance\, but sometimes a little joyful noise is just right for Christmas. \n
URL:https://urbanmilwaukee.com/event/the-best-christmas-pageant-ever-the-musical-2/
LOCATION:929 N. Water St.\, Milwaukee\, WI\, 53202\, United States
CATEGORIES:Arts & Entertainment
ATTACH;FMTTYPE=image/jpeg:https://urbanmilwaukee.com/wp-content/uploads/2022/11/Marcus-Performing-Arts-Center.jpg
END:VEVENT
BEGIN:VEVENT
DTSTART;TZID=America/Chicago:20231125T150000
DTEND;TZID=America/Chicago:20231125T170000
DTSTAMP:20260425T201911
CREATED:20231121T234327Z
LAST-MODIFIED:20231121T234327Z
UID:743913-1700924400-1700931600@urbanmilwaukee.com
SUMMARY:Nuncrackers
DESCRIPTION:The hilarious sisters of Nunsense are back\, spreading yuletide laughs\, cheerful carols and the gift of festive mischief with a new Christmas special for cable access. Complete with (mostly) traditional holiday songs\, a silly secret Santa contest\, and a not-so-graceful take on Tchaikovsky’s Nutcracker Ballet that will have you laughing all the way through New Year’s. \nCreated by Larry Gallagher \n
URL:https://urbanmilwaukee.com/event/nuncrackers-14/
LOCATION:108 E. Wells St.\, Milwaukee\, WI\, 53202\, United States
CATEGORIES:Arts & Entertainment
ATTACH;FMTTYPE=image/jpeg:https://urbanmilwaukee.com/wp-content/uploads/2023/09/Nuncrackers_300-23-scaled.jpg
END:VEVENT
BEGIN:VEVENT
DTSTART;TZID=America/Chicago:20231125T150000
DTEND;TZID=America/Chicago:20231125T170000
DTSTAMP:20260425T201911
CREATED:20231121T234553Z
LAST-MODIFIED:20231121T234553Z
UID:745623-1700924400-1700931600@urbanmilwaukee.com
SUMMARY:Dial M for Murder
DESCRIPTION:Passion\, blackmail and revenge combine into a breathtaking\, edge-of-your-seat murder mystery. Jealous suspicion gives way to cold-blooded vengeance when a gold-digging husband’s perfect crime misfires\, trapping all parties in a sinister and dangerous web of lies. This classic play is brimming with shocking surprises that will keep you guessing until the end. \nBy Frederick Knott\nAdapted by Jeffrey Hatcher\nDirected by Laura Braza \n
URL:https://urbanmilwaukee.com/event/dial-m-for-murder-11/
LOCATION:108 E. Wells St.\, Milwaukee\, WI\, 53202\, United States
CATEGORIES:Arts & Entertainment
ATTACH;FMTTYPE=image/jpeg:https://urbanmilwaukee.com/wp-content/uploads/2023/10/Dial-M-For-Murder_300-11-scaled.jpg
END:VEVENT
BEGIN:VEVENT
DTSTART;TZID=America/Chicago:20231125T153000
DTEND;TZID=America/Chicago:20231125T170000
DTSTAMP:20260425T201911
CREATED:20231117T053934Z
LAST-MODIFIED:20231117T053934Z
UID:752939-1700926200-1700931600@urbanmilwaukee.com
SUMMARY:The Best Christmas Pageant Ever: The Musical
DESCRIPTION:The horrible Herdmans are the worst kids in the history of the world. The entire town panics when these rowdy six siblings are cast in the church’s annual Christmas pageant. It’s up to good-hearted Mrs. Bradley to help the Herdmans – and the rest of the town – discover the true meaning of Christmas before it’s too late. Silent night? Not a chance\, but sometimes a little joyful noise is just right for Christmas. \n
URL:https://urbanmilwaukee.com/event/the-best-christmas-pageant-ever-the-musical-3/
LOCATION:929 N. Water St.\, Milwaukee\, WI\, 53202\, United States
CATEGORIES:Arts & Entertainment
ATTACH;FMTTYPE=image/jpeg:https://urbanmilwaukee.com/wp-content/uploads/2022/11/Marcus-Performing-Arts-Center.jpg
END:VEVENT
BEGIN:VEVENT
DTSTART;TZID=America/Chicago:20231125T190000
DTEND;TZID=America/Chicago:20231125T210000
DTSTAMP:20260425T201911
CREATED:20231121T234950Z
LAST-MODIFIED:20231121T234950Z
UID:748164-1700938800-1700946000@urbanmilwaukee.com
SUMMARY:Olivia Ports Live
DESCRIPTION:Join SIP MKE for an evening of live music featuring Olivia Ports! \nOlivia Ports is an indie/alternative/folk singer-songwriter based in the Midwest. She loves songwriting and creating music with a particular passion for performing. She has been described as having a “dynamic stylistic range and emotional depth” as well as “country music influences” and “well-crafted storyline songs with harmony accents and great instrumentation.” Learn More at Oliviaportsmusic.com. \n
URL:https://urbanmilwaukee.com/event/olivia-ports-live/
LOCATION:1515 W Mequon Road\, Mequon\, WI\, 53092\, United States
CATEGORIES:Arts & Entertainment
ATTACH;FMTTYPE=image/jpeg:https://urbanmilwaukee.com/wp-content/uploads/2023/10/51504.jpg
END:VEVENT
BEGIN:VEVENT
DTSTART;TZID=America/Chicago:20231125T200000
DTEND;TZID=America/Chicago:20231125T220000
DTSTAMP:20260425T201911
CREATED:20231121T235156Z
LAST-MODIFIED:20231121T235156Z
UID:743908-1700942400-1700949600@urbanmilwaukee.com
SUMMARY:Nuncrackers
DESCRIPTION:The hilarious sisters of Nunsense are back\, spreading yuletide laughs\, cheerful carols and the gift of festive mischief with a new Christmas special for cable access. Complete with (mostly) traditional holiday songs\, a silly secret Santa contest\, and a not-so-graceful take on Tchaikovsky’s Nutcracker Ballet that will have you laughing all the way through New Year’s. \nCreated by Larry Gallagher \n
URL:https://urbanmilwaukee.com/event/nuncrackers-15/
LOCATION:108 E. Wells St.\, Milwaukee\, WI\, 53202\, United States
CATEGORIES:Arts & Entertainment
ATTACH;FMTTYPE=image/jpeg:https://urbanmilwaukee.com/wp-content/uploads/2023/09/Nuncrackers_300-22-scaled.jpg
END:VEVENT
BEGIN:VEVENT
DTSTART;TZID=America/Chicago:20231125T200000
DTEND;TZID=America/Chicago:20231125T220000
DTSTAMP:20260425T201911
CREATED:20231121T235409Z
LAST-MODIFIED:20231121T235409Z
UID:745625-1700942400-1700949600@urbanmilwaukee.com
SUMMARY:Dial M for Murder
DESCRIPTION:Passion\, blackmail and revenge combine into a breathtaking\, edge-of-your-seat murder mystery. Jealous suspicion gives way to cold-blooded vengeance when a gold-digging husband’s perfect crime misfires\, trapping all parties in a sinister and dangerous web of lies. This classic play is brimming with shocking surprises that will keep you guessing until the end. \nBy Frederick Knott\nAdapted by Jeffrey Hatcher\nDirected by Laura Braza \n
URL:https://urbanmilwaukee.com/event/dial-m-for-murder-12/
LOCATION:108 E. Wells St.\, Milwaukee\, WI\, 53202\, United States
CATEGORIES:Arts & Entertainment
ATTACH;FMTTYPE=image/jpeg:https://urbanmilwaukee.com/wp-content/uploads/2023/10/Dial-M-For-Murder_300-12-scaled.jpg
END:VEVENT
END:VCALENDAR