BEGIN:VCALENDAR
VERSION:2.0
PRODID:-//Urban Milwaukee - ECPv4.6.9//NONSGML v1.0//EN
CALSCALE:GREGORIAN
METHOD:PUBLISH
X-WR-CALNAME:Urban Milwaukee
X-ORIGINAL-URL:https://urbanmilwaukee.com
X-WR-CALDESC:Events for Urban Milwaukee
BEGIN:VEVENT
DTSTART;TZID=America/Chicago:20180719T100000
DTEND;TZID=America/Chicago:20180719T190000
DTSTAMP:20260425T225620
CREATED:20180717T212653Z
LAST-MODIFIED:20180717T212653Z
UID:411239-1531994400-1532026800@urbanmilwaukee.com
SUMMARY:Behind the Seams III
DESCRIPTION:Did you know on the Third Thursday of each month\, Jewish Museum Milwaukee is open late? That’s right – we stay open until 7:00 p.m. so you have extra time to explore our exhibits! In July we celebrate our collaboration with the Milwaukee Repertory Theater’s Prop Department with a 5:30 p.m .presentation from Margaret Hasek-Guy\, Soft Goods Artisan. \nMargaret Hasek-Guy devoted hours to interpreting and printing three different fabric patterns designed by Hedy Strnad and seen in the dress designs on display at Stitching Histories from the Holocaust. Journey with Margaret as she explains the techniques of transforming illustrated dress patterns into actual fabric yardage through the technique of screen-printing. \nMargaret Hasek-Guy has been working in the Prop Department at Milwaukee Repertory Theater for the last 17 years. As their Soft Goods Artisan\, she is responsible for all the draperies and upholstered pieces that are needed on stage for 13 productions every season\, as well as other specialty fabric projects that come up. She has a Bachelor’s in Fine Arts from the Cleveland Institute of Art where she focused on screen-printing interlocking repeat yardage of her own design. \nPresentation begins at 5:30 p.m.\nRegistration Not Required\nRegular Museum Admission Applies\nMembers FREE \n
URL:https://urbanmilwaukee.com/event/behind-the-seams-iii/
LOCATION:1360 N. Prospect Ave.\, Milwaukee\, WI\, 53202\, United States
CATEGORIES:Arts & Entertainment
ATTACH;FMTTYPE=image/jpeg:https://urbanmilwaukee.com/wp-content/uploads/2018/06/Facebook-Header-Thirdsday-July.jpg
END:VEVENT
END:VCALENDAR