BEGIN:VCALENDAR
VERSION:2.0
PRODID:-//Urban Milwaukee - ECPv4.6.9//NONSGML v1.0//EN
CALSCALE:GREGORIAN
METHOD:PUBLISH
X-WR-CALNAME:Urban Milwaukee
X-ORIGINAL-URL:https://urbanmilwaukee.com
X-WR-CALDESC:Events for Urban Milwaukee
BEGIN:VEVENT
DTSTART;TZID=America/Chicago:20180626T193000
DTEND;TZID=America/Chicago:20180626T220000
DTSTAMP:20260424T092733
CREATED:20170918T205819Z
LAST-MODIFIED:20180529T222629Z
UID:375719-1530041400-1530050400@urbanmilwaukee.com
SUMMARY:An American in Paris
DESCRIPTION:AN AMERICAN IN PARIS is the new Tony Award®-winning musical about an American soldier\, a mysterious French girl\, and an indomitable European city\, each yearning for a new beginning in the aftermath of war. \nAcclaimed director/choreographer and 2015 Tony Award®-winner Christopher Wheeldon brings the magic and romance of Paris into perfect harmony with unforgettable songs from George and Ira Gershwin in the show that earned more awards than any other musical in the 2015 season! \nThe New York Times raves\, “AN AMERICAN IN PARIS is a triumph! Pure joy!” and the Wall Street Journal declares\, “Once you’ve seen it\, you’ll find it hard to settle for less ever again.” Don’t miss this stunning Broadway hit when it arrives in Milwaukee on its first national tour! \n
URL:https://urbanmilwaukee.com/event/an-american-in-paris-2/
LOCATION:929 N. Water St.\, Milwaukee\, WI\, 53202\, United States
CATEGORIES:Arts & Entertainment
ATTACH;FMTTYPE=image/jpeg:https://urbanmilwaukee.com/wp-content/uploads/2017/09/An-American-in-Paris-459.jpg
END:VEVENT
END:VCALENDAR