BEGIN:VCALENDAR
VERSION:2.0
PRODID:-//Urban Milwaukee - ECPv4.6.9//NONSGML v1.0//EN
CALSCALE:GREGORIAN
METHOD:PUBLISH
X-WR-CALNAME:Urban Milwaukee
X-ORIGINAL-URL:https://urbanmilwaukee.com
X-WR-CALDESC:Events for Urban Milwaukee
BEGIN:VEVENT
DTSTART;TZID=America/Chicago:20180623T090000
DTEND;TZID=America/Chicago:20180623T130000
DTSTAMP:20260424T050747
CREATED:20180510T082007Z
LAST-MODIFIED:20180510T082007Z
UID:405569-1529744400-1529758800@urbanmilwaukee.com
SUMMARY:From Flowers to Feathers: Bird Habitat for Your Yard
DESCRIPTION:Join us to learn about attracting birds to your yard through native plantings. Learn basic principles of design and how to keep birds safe. Urban Ecology Center and Western Great Lakes Bat and Bird Observatory staff experts share their passion for birds\, plants and habitat. Native plants will also be for sale (portion of proceeds benefit UEC). \n
URL:https://urbanmilwaukee.com/event/from-flowers-to-feathers-bird-habitat-for-your-yard/
LOCATION:1500 E. Park Pl\, Milwaukee\, WI\, 53211\, United States
CATEGORIES:Arts & Entertainment
ATTACH;FMTTYPE=image/jpeg:https://urbanmilwaukee.com/wp-content/uploads/2018/05/from-flowers-to-feathers.jpg
END:VEVENT
BEGIN:VEVENT
DTSTART;TZID=America/Chicago:20180623T170000
DTEND;TZID=America/Chicago:20180623T183000
DTSTAMP:20260424T050747
CREATED:20180325T154443Z
LAST-MODIFIED:20180325T154443Z
UID:393242-1529773200-1529778600@urbanmilwaukee.com
SUMMARY:Sound & Sight
DESCRIPTION:Present Music returns to the Lynden Sculpture Garden with a new concert shaped in sound for the sight of its collection of more than 50 monumental sculptures in 40 acres of park\, lake and woodland. The Present Music audience will meander among the sculptures surrounded by sounds of nature and nature-inspired music. Look for surprise premieres and performances by local musicians\, musical instrument inventors\, composer/improvisers\, visual artists\, artistic directors\, and even themselves! \n
URL:https://urbanmilwaukee.com/event/sound-sight/
LOCATION:2145 W. Brown Deer Rd.\, Milwaukee\, WI\, 53217\, United States
CATEGORIES:Arts & Entertainment
ATTACH;FMTTYPE=image/jpeg:https://urbanmilwaukee.com/wp-content/uploads/2018/02/soundandsight.jpg
END:VEVENT
END:VCALENDAR