BEGIN:VCALENDAR
VERSION:2.0
PRODID:-//Urban Milwaukee - ECPv4.6.9//NONSGML v1.0//EN
CALSCALE:GREGORIAN
METHOD:PUBLISH
X-WR-CALNAME:Urban Milwaukee
X-ORIGINAL-URL:https://urbanmilwaukee.com
X-WR-CALDESC:Events for Urban Milwaukee
BEGIN:VEVENT
DTSTART;TZID=America/Chicago:20180619T170000
DTEND;TZID=America/Chicago:20180619T210000
DTSTAMP:20260423T230936
CREATED:20180615T113702Z
LAST-MODIFIED:20180615T114109Z
UID:410130-1529427600-1529442000@urbanmilwaukee.com
SUMMARY:Urban Milwaukee 10th Anniversary Party
DESCRIPTION:Join the Urban Milwaukee team in celebrating our 10th anniversary at the Pabst Milwaukee Brewery and Taproom. \nYou’ll get a chance to hear what we’ve been up to in the past year\, including our record growth\, rapidly-growing membership program\, and learn about aggressive expansion plans for 2018. You’ll also be able to meet other Urban Milwaukee readers and talk about the city you love with Urban Milwaukee writers. \nAdmission to the party includes an open bar (tap beer\, including beers from Milwaukee’s past and ones hinting at the city’s future) and appetizers for $20. \nAll proceeds will be used to help support the growth of the publication. Bring your friends! \nFor more on the history of the church-turned-brewery\, read our article profiling the project in advance of its great opening last year: Inside the New Pabst Brewery. \nGet your tickets here: https://www.brownpapertickets.com/event/3468188 \n
URL:https://urbanmilwaukee.com/event/urban-milwaukee-10th-anniversary-party/
LOCATION:1037 W. Juneau Ave.\, Milwaukee\, 53233\, United States
CATEGORIES:Arts & Entertainment,Business,Food & Drink,Politics,Real Estate
ATTACH;FMTTYPE=image/jpeg:https://urbanmilwaukee.com/wp-content/uploads/2018/06/Pabst_Milwaukee_20170308-0420-HDR.jpg
END:VEVENT
END:VCALENDAR