BEGIN:VCALENDAR
VERSION:2.0
PRODID:-//Urban Milwaukee - ECPv4.6.9//NONSGML v1.0//EN
CALSCALE:GREGORIAN
METHOD:PUBLISH
X-WR-CALNAME:Urban Milwaukee
X-ORIGINAL-URL:https://urbanmilwaukee.com
X-WR-CALDESC:Events for Urban Milwaukee
BEGIN:VEVENT
DTSTART;TZID=America/Chicago:20180526T110000
DTEND;TZID=America/Chicago:20180526T120000
DTSTAMP:20260422T123955
CREATED:20180504T000022Z
LAST-MODIFIED:20180504T000137Z
UID:404704-1527332400-1527336000@urbanmilwaukee.com
SUMMARY:Cheese Making
DESCRIPTION:Love cheese? Who doesn’t? Now get ready to sample the most delicious\, fresh cheese you’ve ever tasted…Hand-crafted by you! Our expert cheesecrafters will share everything you need to know about the process\, ingredients and tools required to whip up your very own artisan-quality cheese in under an hour. Learn key techniques for mastering the art of cheesemaking with live demonstrations from the pros. Plus\, get 15% off any cheesemaking kit. Let the crafting (and sampling) begin! And of course\, there will different wine and beer pairings to wash it all down. \n
URL:https://urbanmilwaukee.com/event/cheese-making/
LOCATION:1306 S. 108th St.\, Milwaukee\, WI\, 53214\, United States
CATEGORIES:Food & Drink
ATTACH;FMTTYPE=image/jpeg:https://urbanmilwaukee.com/wp-content/uploads/2018/05/https_2F2Fcdn.evbuc_.com2Fimages2F424769962F1477243402062F12Foriginal.jpg
END:VEVENT
BEGIN:VEVENT
DTSTART;TZID=America/Chicago:20180526T200000
DTEND;TZID=America/Chicago:20180526T233000
DTSTAMP:20260422T123955
CREATED:20180508T092357Z
LAST-MODIFIED:20180508T092447Z
UID:403151-1527364800-1527377400@urbanmilwaukee.com
SUMMARY:Greatest Lakes With Special Guest Nickel & Rose
DESCRIPTION:Milwaukee indie outfit Greatest Lakes will be joined by American folk duo\, Nickel & Rose for the official release of their sophomore LP “Divisions.” The group will play their new album front-to-back\, but their set won’t be void of classics from their 2014 debut. \nThe Milwaukee group has returned with a heavier indie rock take on their more-traditionally folk sound with their newest release ‘Forest.’ The new track from Greatest Lakes is a dream-like escape that transitions with crisp harmonies and intermittent instrumental breaks that weaves the two fluidly. While very much rooted in an indie-rock style\, they interject their own take true to their name\, bringing forth a cool\, water-front sound that incorporates hazy sounds and upbeat charm. – 88Nine RadioMilwaukee \n[Set Sail] is nothing short of absolutely addicting indie pop\, with a bright sound accented by hand claps and a playful trombone part. However\, the lyrics contrast that sound well\, with talk of being a monster and relying on a certain someone to fill an emptiness. There is\, however\, a certain warmth about the song that makes it feel just right for the summer\, and will definitely fit in well once the entire record is released. – Breaking & Entering \nMilwaukee act Greatest Lakes will be releasing their new album\, Divisions\, on May 4th. If its opener\, “Forest”\, is any indication\, listeners are in for an extremely pleasurable listen. A full-bodied beginning of soaring vocals and full-band lushness gives way to a peppy twang\, with a Band of Horses comparison evident at this point. In alternating between that expansive beginning and the twangy catchiness\, the track remains fresh and vibrant. It’s a great piece of songwriting\, and a showing of stellar audible chemistry\, from an act that appears poised to explode in 2018 with the release of the excellent Divisions. –  Obscure Sound \nGreatest Lakes are back and better than ever. Listen to “Forest” now and pre-order Divisions (which includes an instant download of “Forest”) before the band’s release show in May. – Milwaukee Record \n
URL:https://urbanmilwaukee.com/event/greatest-lakes-with-special-guest-nickel-rose/
LOCATION:224 W. Bruce St.\, Milwaukee\, WI\, 53204\, United States
CATEGORIES:Arts & Entertainment
ATTACH;FMTTYPE=image/jpeg:https://urbanmilwaukee.com/wp-content/uploads/2018/04/Greatest_Lakes_600x.jpg
END:VEVENT
END:VCALENDAR