BEGIN:VCALENDAR
VERSION:2.0
PRODID:-//Urban Milwaukee - ECPv4.6.9//NONSGML v1.0//EN
CALSCALE:GREGORIAN
METHOD:PUBLISH
X-WR-CALNAME:Urban Milwaukee
X-ORIGINAL-URL:https://urbanmilwaukee.com
X-WR-CALDESC:Events for Urban Milwaukee
BEGIN:VEVENT
DTSTART;TZID=America/Chicago:20180513T110000
DTEND;TZID=America/Chicago:20180513T160000
DTSTAMP:20260421T154019
CREATED:20180508T093918Z
LAST-MODIFIED:20180508T094010Z
UID:405115-1526209200-1526227200@urbanmilwaukee.com
SUMMARY:Milwaukee Museum Mile Day
DESCRIPTION:Celebrate the seventh annual Milwaukee Museum Mile Day with your mom this Mother’s Day! The Milwaukee Museum Mile (MMM) was first formed in 2010\, and this event attracts hundreds of visitors from Southeastern Wisconsin and beyond each year. Museumgoers\, first-time visitors\, and their families and friends have an opportunity to discover five of Milwaukee’s unique museum gems for free or reduced prices. \nActivities for children and the young at heart will be offered at each location! \nMMM DAY ADMISSION\n– Jewish Museum Milwaukee\, FREE\n– Charles Allis Art Museum\, FREE\n– Museum of Wisconsin Art at Saint John’s On The Lake\, FREE\n– Villa Terrace Decorative Arts Museum\, FREE\n– North Point Lighthouse\, Reduced Admission \nFREE SHUTTLE BUS\nA free\, continuous shuttle bus will travel between locations\, 11 a.m. to 4.pm. Visitors can park at museum locations where parking is available or utilize street parking. Walking and bicycling to the event are also encouraged. \nFOR MORE INFO\, VISIT\nmmmday.org \n
URL:https://urbanmilwaukee.com/event/milwaukee-museum-mile-day-2/
LOCATION:2650 N. Wahl Avenue\, Milwaukee\, WI\, 53211\, United States
CATEGORIES:Arts & Entertainment
ATTACH;FMTTYPE=image/png:https://urbanmilwaukee.com/wp-content/uploads/2018/05/Screen-Shot-2018-05-07-at-10.29.32-AM.png
END:VEVENT
END:VCALENDAR