BEGIN:VCALENDAR
VERSION:2.0
PRODID:-//Urban Milwaukee - ECPv4.6.9//NONSGML v1.0//EN
CALSCALE:GREGORIAN
METHOD:PUBLISH
X-WR-CALNAME:Urban Milwaukee
X-ORIGINAL-URL:https://urbanmilwaukee.com
X-WR-CALDESC:Events for Urban Milwaukee
BEGIN:VEVENT
DTSTART;TZID=America/Chicago:20180511T133000
DTEND;TZID=America/Chicago:20180511T203000
DTSTAMP:20260421T121559
CREATED:20180320T155712Z
LAST-MODIFIED:20180320T160304Z
UID:398219-1526045400-1526070600@urbanmilwaukee.com
SUMMARY:Mount Mary’s 50th Student Design Fashion Show
DESCRIPTION:This year’s CREO fashion show on May 11 will feature the up-and-coming designers of tomorrow and include a look back through 50 years of student-produced shows. \nCREO is taken from the Latin word for “to make\, create or produce” and refers to the University’s annual celebration of creativity from the School of Arts and Design. \nThis live fashion production is organized and executed by merchandise management students who spend a semester planning every detail of the event. The show\, themed “Mode Uninhibited”\, features garments from senior\, junior and sophomore students in fashion design. \nThere will be shows at 1:30 p.m.\, 6 p.m. and 8:30 p.m. at the Bloechl Center on the Mount Mary campus. Ticket pricing varies; visit www.mtmary.edu/creo for ticket information. \n
URL:https://urbanmilwaukee.com/event/mount-marys-50th-student-design-fashion-show/
LOCATION:2900 N. Menomonee River Parkway\, Milwaukee\, WI\, 53222\, United States
CATEGORIES:Arts & Entertainment
ATTACH;FMTTYPE=image/jpeg:https://urbanmilwaukee.com/wp-content/uploads/2018/03/CREO_fashion_3.jpg
END:VEVENT
BEGIN:VEVENT
DTSTART;TZID=America/Chicago:20180511T200000
DTEND;TZID=America/Chicago:20180511T233000
DTSTAMP:20260421T121559
CREATED:20180503T234203Z
LAST-MODIFIED:20180503T234203Z
UID:402067-1526068800-1526081400@urbanmilwaukee.com
SUMMARY:Radio Radio Celebrates The Cars
DESCRIPTION:Radio Radio gives a nod to the 40th anniversary of The Cars first long player. One of the finest debut albums of all time and a damn tasty slice of New Wave Magic. Every song is a freaking hit! \nWe’ll play the entire album live in addition to a full set of New Wave Dance Hits. \nWe’re including our good friend Mike Benign on guitar and vocals to help out with the album tracks. \nNew Wave masters Xposed 4heads open up the night! \n
URL:https://urbanmilwaukee.com/event/radio-radio-celebrates-the-cars/
LOCATION:2501 S Superior St.\, Milwaukee\, WI\, 53207\, United States
CATEGORIES:Arts & Entertainment
ATTACH;FMTTYPE=image/jpeg:https://urbanmilwaukee.com/wp-content/uploads/2018/04/28378983_10156073550122207_4228536432058002853_n.jpg
END:VEVENT
END:VCALENDAR