BEGIN:VCALENDAR
VERSION:2.0
PRODID:-//Urban Milwaukee - ECPv4.6.9//NONSGML v1.0//EN
CALSCALE:GREGORIAN
METHOD:PUBLISH
X-WR-CALNAME:Urban Milwaukee
X-ORIGINAL-URL:https://urbanmilwaukee.com
X-WR-CALDESC:Events for Urban Milwaukee
BEGIN:VEVENT
DTSTART;TZID=America/Chicago:20180510T180000
DTEND;TZID=America/Chicago:20180510T220000
DTSTAMP:20260421T102446
CREATED:20180508T093446Z
LAST-MODIFIED:20180508T093546Z
UID:400601-1525975200-1525989600@urbanmilwaukee.com
SUMMARY:KidShare: Milwaukee's Finest Culinary Event
DESCRIPTION:Milwaukee’s premiere restaurants\, chefs\, bakers and caterers will come together for the 28th annual celebration of KidShare. Presented by the JCC\, the popular fundraising event represents the power of a committed community joined together in a shared cause. Funds raised at KidShare support scholarship programs at the JCC including early childhood education\, special needs programs for children and adults\, and camping experiences. Thursday\, May 10th from 6:00 to 10:00 p.m. at The Pfister Hotel. For tickets\, visit jccmilwaukee.org or contact Micki Seinfeld\, 414-967-8235 or mseinfeld@jcc.org. \n
URL:https://urbanmilwaukee.com/event/kidshare-milwaukees-finest-culinary-event/
LOCATION:424 E. Wisconsin Ave.\, Milwaukee\, WI\, 53202\, United States
CATEGORIES:Food & Drink
ATTACH;FMTTYPE=image/jpeg:https://urbanmilwaukee.com/wp-content/uploads/2018/04/KidShare-4.jpg
END:VEVENT
BEGIN:VEVENT
DTSTART;TZID=America/Chicago:20180510T200000
DTEND;TZID=America/Chicago:20180510T233000
DTSTAMP:20260421T102446
CREATED:20180508T092638Z
LAST-MODIFIED:20180508T092638Z
UID:401112-1525982400-1525995000@urbanmilwaukee.com
SUMMARY:Honest John
DESCRIPTION:Honest John is a Milwaukee/Chicago based band consisting of Jesse Voelker\, Aaron Smith\, Pat Otto\, and Ernest Brusubardis IV. Formed in 2014 and named after Jesse’s late father; they play folk\, blues\, and jazz tunes along with their own original brand of acoustic music. \n \n
URL:https://urbanmilwaukee.com/event/honest-john/
LOCATION:224 W. Bruce St.\, Milwaukee\, WI\, 53204\, United States
CATEGORIES:Arts & Entertainment
ATTACH;FMTTYPE=image/jpeg:https://urbanmilwaukee.com/wp-content/uploads/2018/04/Honest_John_400x.jpeg
END:VEVENT
END:VCALENDAR