BEGIN:VCALENDAR
VERSION:2.0
PRODID:-//Urban Milwaukee - ECPv4.6.9//NONSGML v1.0//EN
CALSCALE:GREGORIAN
METHOD:PUBLISH
X-WR-CALNAME:Urban Milwaukee
X-ORIGINAL-URL:https://urbanmilwaukee.com
X-WR-CALDESC:Events for Urban Milwaukee
BEGIN:VEVENT
DTSTART;TZID=America/Chicago:20180509T180000
DTEND;TZID=America/Chicago:20180509T203000
DTSTAMP:20260421T085202
CREATED:20180503T235252Z
LAST-MODIFIED:20180503T235252Z
UID:404106-1525888800-1525897800@urbanmilwaukee.com
SUMMARY:Ex Fabula Fellows: Media and Representation
DESCRIPTION:Who gets seen? Who gets heard? Who tells the story? \nJoin us for storytelling\, dialogue\, and a workshop on race\, media and representation on Wednesday May 9 at 88NINE Radio Milwaukee. Start the evening with networking and a cash bar. Then\, enjoy an interactive program featuring true\, personal stories from Ex Fabula Fellows\, small group dialogue with Zeidler Center facilitators\, and collaboration with designers to visually document action steps. \n
URL:https://urbanmilwaukee.com/event/ex-fabula-fellows-media-and-representation/
LOCATION:220 E. Pittsburgh Ave\, Milwaukee\, WI\, 53204\, United States
CATEGORIES:Arts & Entertainment
ATTACH;FMTTYPE=image/jpeg:https://urbanmilwaukee.com/wp-content/uploads/2018/05/1-4.jpg
END:VEVENT
END:VCALENDAR