BEGIN:VCALENDAR
VERSION:2.0
PRODID:-//Urban Milwaukee - ECPv4.6.9//NONSGML v1.0//EN
CALSCALE:GREGORIAN
METHOD:PUBLISH
X-WR-CALNAME:Urban Milwaukee
X-ORIGINAL-URL:https://urbanmilwaukee.com
X-WR-CALDESC:Events for Urban Milwaukee
BEGIN:VEVENT
DTSTART;TZID=America/Chicago:20180502T130000
DTEND;TZID=America/Chicago:20180502T150000
DTSTAMP:20260420T203332
CREATED:20170717T034320Z
LAST-MODIFIED:20170717T034320Z
UID:368300-1525266000-1525273200@urbanmilwaukee.com
SUMMARY:HOLLYWOODLAND:  Songs From The Silver Screen
DESCRIPTION:Delight in the sounds of the silver screen with a show that The New York Times describes as “all-singing\, all-dancing show business heaven just a step beyond the rain.” \nAward-winning singers Christina Bianco\, Jim Caruso\, and Billy Stritch have joined forces in HOLLYWOODLAND: Songs From The Silver Screen. Audiences will enjoy such beloved songs as “Pennies from Heaven\,” “Let’s Misbehave\,” “Over the Rainbow\,” “If I Only Had a Brain\,” “Whistle While You Work\,” and “It Happened in Sun Valley.” Bianco\, Stritch\, and Caruso had such a great time performing together in the Jazz at Lincoln Center concert series and were thrilled to reprise the fun when the iconic Manhattan music room Birdland offered them a week-long booking. The trio brings a wealth of award-winning musical experience to HOLLYWOODLAND\, with its tightly harmonized swing arrangements and lush ballads from the ’30s\, ’40s\, and ’50s. \n
URL:https://urbanmilwaukee.com/event/hollywoodland-songs-from-the-silver-screen/
CATEGORIES:Arts & Entertainment
ATTACH;FMTTYPE=image/jpeg:https://urbanmilwaukee.com/wp-content/uploads/2017/07/050218Hollywoodland.jpg
END:VEVENT
BEGIN:VEVENT
DTSTART;TZID=America/Chicago:20180502T193000
DTEND;TZID=America/Chicago:20180502T220000
DTSTAMP:20260420T203332
CREATED:20170324T210456Z
LAST-MODIFIED:20180502T224336Z
UID:204881-1525289400-1525298400@urbanmilwaukee.com
SUMMARY:A Gentleman's Guide to Love & Murder
DESCRIPTION:Getting away with murder can be so much fun… and there’s no better proof than the knock-‘em-dead hit show that’s earned unanimous raves and won the 2014 Tony Award® for BEST MUSICAL—A GENTLEMAN’S GUIDE TO LOVE & MURDER! \nComing direct from New York\, where a most gentlemanly NPR critic said he’d “NEVER LAUGHED SO HARD AT A BROADWAY MUSICAL\,” GENTLEMAN’S GUIDE tells the uproarious story of Monty Navarro\, a distant heir to a family fortune who sets out to jump the line of succession by – you guessed it – eliminating the eight pesky relatives (all played by one fearless man) who stand in his way. All the while\, Monty has to juggle his mistress (she’s after more than just love)\, his fiancée (she’s his cousin but who’s keeping track?)\, and the constant threat of landing behind bars! Of course\, it will all be worth it if he can slay his way to his inheritance… and be done in time for tea. \nThe Hollywood Reporter raves\, “GENTLEMAN’S GUIDE RESTORES OUR FAITH IN MUSICAL COMEDY” and The New York Times cheers\, “IT WILL LIFT THE HEARTS OF ALL THOSE WHO’VE BEEN PINING FOR WHAT SOMETIMES SEEMS A LOST ART FORM.” \n
URL:https://urbanmilwaukee.com/event/a-gentlemans-guide-to-love-murder-2/
LOCATION:929 N. Water St.\, Milwaukee\, WI\, 53202\, United States
CATEGORIES:Arts & Entertainment
ATTACH;FMTTYPE=image/jpeg:https://urbanmilwaukee.com/wp-content/uploads/2017/03/a-gentlemans-guide-to-love-murder-show-detail-1.jpg
END:VEVENT
END:VCALENDAR