BEGIN:VCALENDAR
VERSION:2.0
PRODID:-//Urban Milwaukee - ECPv4.6.9//NONSGML v1.0//EN
CALSCALE:GREGORIAN
METHOD:PUBLISH
X-WR-CALNAME:Urban Milwaukee
X-ORIGINAL-URL:https://urbanmilwaukee.com
X-WR-CALDESC:Events for Urban Milwaukee
BEGIN:VEVENT
DTSTART;TZID=America/Chicago:20180427T080000
DTEND;TZID=America/Chicago:20180427T120000
DTSTAMP:20260420T121425
CREATED:20180316T212852Z
LAST-MODIFIED:20180316T213228Z
UID:397789-1524816000-1524830400@urbanmilwaukee.com
SUMMARY:Marquette University’s Third Annual Ethics of Big Data Symposium
DESCRIPTION:The emerging world of big data brings with it ethical\, social and legal issues. Are you prepared to navigate the challenges and the opportunities? \nThe deployment of big data brings desirable opportunities to understand\, recommend and advise. But the sensitivity of personal data and unintended consequences of algorithmic decisions present us with ethical and moral decisions. The symposium will cover ethical and legal considerations for practitioners\, including discussions and dilemmas of agency\, fairness\, public perception and privacy. \nPlease register at http://marquette.edu/ethics-of-big-data/ before attending. \n
URL:https://urbanmilwaukee.com/event/marquette-universitys-third-annual-ethics-of-big-data-symposium/
LOCATION:800 E. Wisconsin Ave.\, Milwaukee\, WI\, 53202\, United States
CATEGORIES:Business
ATTACH;FMTTYPE=image/jpeg:https://urbanmilwaukee.com/wp-content/uploads/2014/02/Computer_Chip.jpg
END:VEVENT
END:VCALENDAR