BEGIN:VCALENDAR
VERSION:2.0
PRODID:-//Urban Milwaukee - ECPv4.6.9//NONSGML v1.0//EN
CALSCALE:GREGORIAN
METHOD:PUBLISH
X-WR-CALNAME:Urban Milwaukee
X-ORIGINAL-URL:https://urbanmilwaukee.com
X-WR-CALDESC:Events for Urban Milwaukee
BEGIN:VEVENT
DTSTART;TZID=America/Chicago:20180425T180000
DTEND;TZID=America/Chicago:20180425T203000
DTSTAMP:20260420T085546
CREATED:20180403T032804Z
LAST-MODIFIED:20180403T033015Z
UID:399746-1524679200-1524688200@urbanmilwaukee.com
SUMMARY:“Tell your Race and Equity Stories” Workshop
DESCRIPTION:This is a free event however pre-registration is required. \nThe Ex Fabula Fellows are a diverse cohort of Milwaukee adults who have worked together to craft true\, personal stories about race and equity. \nIn this session\, you’ll first be inspired by a few stories from the Fellows. Then\, a storytelling coach will lead you through small group activities to help you start crafting your own stories about race and equity topics. \n
URL:https://urbanmilwaukee.com/event/tell-your-race-and-equity-stories-workshop/
LOCATION:1805 N. Doctor M.L.K. Dr.\, Milwaukee\, WI\, 53212\, United States
CATEGORIES:Arts & Entertainment
ATTACH;FMTTYPE=image/jpeg:https://urbanmilwaukee.com/wp-content/uploads/2018/03/1-4.jpg
END:VEVENT
END:VCALENDAR