BEGIN:VCALENDAR
VERSION:2.0
PRODID:-//Urban Milwaukee - ECPv4.6.9//NONSGML v1.0//EN
CALSCALE:GREGORIAN
METHOD:PUBLISH
X-WR-CALNAME:Urban Milwaukee
X-ORIGINAL-URL:https://urbanmilwaukee.com
X-WR-CALDESC:Events for Urban Milwaukee
BEGIN:VEVENT
DTSTART;TZID=America/Chicago:20180424T180000
DTEND;TZID=America/Chicago:20180424T200000
DTSTAMP:20260420T064727
CREATED:20180312T222024Z
LAST-MODIFIED:20180312T222024Z
UID:394658-1524592800-1524600000@urbanmilwaukee.com
SUMMARY:Film Premier: Anne Morgan’s War / L’autre chemin des Dames
DESCRIPTION:The UWM Libraries invite the public to the premier of the documentary film\, Anne Morgan’s War / L’autre chemin des Dames\, with Elaine Leary and Miles Morgan\, in the fourth floor Conference Center of the Golda Meir Library at 6 p.m. on April 24\, 2018. There will be a reception at 7 p.m. \nThe film is being presented in conjunction with the exhibition\, also on the fourth floor of the Golda Meir Library\, “Anne Morgan’s War: American Women Rebuilding France 1917-1924\,” which runs from February 16 to May 18\, 2018\, and features remarkable photos and film footage depicting France’s devastated Picardy post-WWI and the American women volunteers who helped rebuild the region. \nElaine Leary has over 45 years of experience promoting French language and culture and has received three French government awards. Miles Morgan\, a musician and a conductor\, is a board member of the American Friends of Blérancourt. \nAnne Morgan\, daughter of the financier J.P. Morgan\, was a philanthropist who provided aid in France after WWI and WWII and supported working women in the US and in Europe in the fight for fair labor standards. \nThe exhibit is comprised of 29 photographs and an 18-minute compilation of black-and-white film footage commissioned by Anne Morgan for fundraising purposes and now held in the archives of the Franco-American Museum\, Château de Blérancourt in Picardy. \n“Anne Morgan’s War: American Women Rebuilding France 1917-1924” is sponsored by the American Friends of Blérancourt; Alliance Français de Milwaukee; UWM Dept. of French\, Italian\, and Comparative Literature; UWM Libraries; Florence Gould Foundation; French Ministry of Culture and Communication; RMN l’agence photographique; UWM Dept. of History; and UWM Women’s and Gender Studies. \nFor more information about the exhibition and associated events\, please call 414-229-4345. \nFor information about parking\, visit http://uwm.edu/transportation/visitors/ \n
URL:https://urbanmilwaukee.com/event/film-premier-anne-morgans-war-lautre-chemin-des-dames/
LOCATION:2311 E. Hartford Ave.\, Milwaukee\, WI\, 53211\, United States
CATEGORIES:Arts & Entertainment
ATTACH;FMTTYPE=image/jpeg:https://urbanmilwaukee.com/wp-content/uploads/2018/02/Destruction.jpg
END:VEVENT
BEGIN:VEVENT
DTSTART;TZID=America/Chicago:20180424T190000
DTEND;TZID=America/Chicago:20180424T210000
DTSTAMP:20260420T064727
CREATED:20180320T210924Z
LAST-MODIFIED:20180320T210924Z
UID:398350-1524596400-1524603600@urbanmilwaukee.com
SUMMARY:Glenn Adamson\, "Make or Break: Inside and Outside the Rules"
DESCRIPTION:Glenn Adamson discusses his current research into the work of two artists/designers and what goes into career-shaping breakthroughs. Free admission\, and seating is first-come\, first-served. \nAdamson is a senior scholar at Yale University and an independent curator in the design field. He formerly served as curator at the Chipstone Foundation in Milwaukee\, curator and researcher at the Victoria and Albert Museum in London\, and director of the Museum of Arts and Design in New York City. \nThis program is generously sponsored by the Caxambas Foundation. \n
URL:https://urbanmilwaukee.com/event/glenn-adamson-make-or-break-inside-and-outside-the-rules/
LOCATION:273 E. Erie St.\, Milwaukee\, WI\, 53202\, United States
CATEGORIES:Arts & Entertainment
ATTACH;FMTTYPE=image/jpeg:https://urbanmilwaukee.com/wp-content/uploads/2018/03/chairlogo.jpg
END:VEVENT
END:VCALENDAR