BEGIN:VCALENDAR
VERSION:2.0
PRODID:-//Urban Milwaukee - ECPv4.6.9//NONSGML v1.0//EN
CALSCALE:GREGORIAN
METHOD:PUBLISH
X-WR-CALNAME:Urban Milwaukee
X-ORIGINAL-URL:https://urbanmilwaukee.com
X-WR-CALDESC:Events for Urban Milwaukee
BEGIN:VEVENT
DTSTART;TZID=America/Chicago:20180419T190000
DTEND;TZID=America/Chicago:20180419T200000
DTSTAMP:20260419T222845
CREATED:20180222T040627Z
LAST-MODIFIED:20180222T040627Z
UID:394651-1524164400-1524168000@urbanmilwaukee.com
SUMMARY:An Evening with Author Lisa See
DESCRIPTION:The Friends of the UWM Golda Meir Library\, with co-sponsor Boswell Book Company\, are hosting author Lisa See on Thursday\, April 19\, 2018 at 7 p.m. in the fourth floor Conference Center of the Golda Meir Library\, 2311 E. Hartford Ave. \nSee is the author of Snow Flower and the Secret Fan\, Shanghai Girls\, and The Tea Girl of Hummingbird Lane\, just out in paperback. \nThe Tea Girl is a moving novel about tradition\, tea farming\, and the bonds between mothers and daughters. See’s latest heroine is Li-Yan\, a member of the Akha tribe of Yunnan Province\, one of China’s ethnic minorities. \nThe event is free. \nAfter the talk\, See will sign copies of her novel\, which will be available for purchase. \nParking is available in the UWM Union and Klotsche Pavilion parking garages. For more information or special needs\, call 414-229-6202. \n
URL:https://urbanmilwaukee.com/event/an-evening-with-author-lisa-see/
LOCATION:2311 E. Hartford Ave.\, Milwaukee\, WI\, 53211\, United States
CATEGORIES:Arts & Entertainment
ATTACH;FMTTYPE=image/jpeg:https://urbanmilwaukee.com/wp-content/uploads/2018/02/LisaSee_TeaGirl.jpg
END:VEVENT
END:VCALENDAR