BEGIN:VCALENDAR
VERSION:2.0
PRODID:-//Urban Milwaukee - ECPv4.6.9//NONSGML v1.0//EN
CALSCALE:GREGORIAN
METHOD:PUBLISH
X-WR-CALNAME:Urban Milwaukee
X-ORIGINAL-URL:https://urbanmilwaukee.com
X-WR-CALDESC:Events for Urban Milwaukee
BEGIN:VEVENT
DTSTART;TZID=America/Chicago:20180415T140000
DTEND;TZID=America/Chicago:20180415T160000
DTSTAMP:20260419T154806
CREATED:20171010T093214Z
LAST-MODIFIED:20171010T093214Z
UID:368245-1523800800-1523808000@urbanmilwaukee.com
SUMMARY:Christine and Michelle Naughton
DESCRIPTION:Hailed by the San Francisco Examiner for their “stellar musicianship\, technical mastery\, and awe-inspiring artistry\,” Christina and Michelle Naughton have captivated audiences throughout the globe with the unity created by their mystical musical communication. Steinway Artists who currently reside in New York City\, they were proclaimed “an outstanding piano duo” by Süddeutsche Zeitung following their European debut at Herkulessaal in Munich. They made their Asian debut with the Hong Kong Philharmonic\, where the Sing Tao Daily said of their performance\, “Joining two hearts and four hands at two grand pianos\, the Naughton sisters created an electrifying and moving musical performance.” \nTheir second album\, Visions\, was released in 2016 and named “Editor’s Choice” by Gramophone Magazine. Recent performances include the Milwaukee Symphony Orchestra; the New World Symphony; Los Angeles Philharmonic; Walt Disney Hall\, the Classic Festival; the Bonlieu Scène Nationale in Annecy\, France; the Concertgebouw in Amsterdam; and the Grand Teton Music Festival. \n
URL:https://urbanmilwaukee.com/event/christine-and-michelle-naughton/
CATEGORIES:Arts & Entertainment
ATTACH;FMTTYPE=image/jpeg:https://urbanmilwaukee.com/wp-content/uploads/2017/07/041518ChristinaMichelleNaughton.jpg
END:VEVENT
BEGIN:VEVENT
DTSTART;TZID=America/Chicago:20180415T140000
DTEND;TZID=America/Chicago:20180415T150000
DTSTAMP:20260419T154806
CREATED:20180408T172405Z
LAST-MODIFIED:20180408T172405Z
UID:400949-1523800800-1523804400@urbanmilwaukee.com
SUMMARY:Music Under the Stars
DESCRIPTION:Dance and sing along with us as we explore the Middle Ages and Renaissance period with period instruments such as lutes\, recorders and viols. Music will be by Arcadelt\, Byrd\, Dowland\, Merulo\, and more. \n
URL:https://urbanmilwaukee.com/event/music-under-the-stars-2/
LOCATION:1900 E .Kenwood Blvd.\, Milwaukee\, WI\, 53211\, United States
CATEGORIES:Arts & Entertainment
ATTACH;FMTTYPE=image/png:https://urbanmilwaukee.com/wp-content/uploads/2017/04/temp.png
END:VEVENT
END:VCALENDAR