BEGIN:VCALENDAR
VERSION:2.0
PRODID:-//Urban Milwaukee - ECPv4.6.9//NONSGML v1.0//EN
CALSCALE:GREGORIAN
METHOD:PUBLISH
X-WR-CALNAME:Urban Milwaukee
X-ORIGINAL-URL:https://urbanmilwaukee.com
X-WR-CALDESC:Events for Urban Milwaukee
BEGIN:VEVENT
DTSTART;TZID=America/Chicago:20170618T100000
DTEND;TZID=America/Chicago:20170618T180000
DTSTAMP:20260422T045238
CREATED:20170524T204119Z
LAST-MODIFIED:20170524T204119Z
UID:363523-1497780000-1497808800@urbanmilwaukee.com
SUMMARY:Suomi 100 Centennial & Traveling Sauna
DESCRIPTION:PUBLIC IS WELCOME! Celebrate Finland’s 100 years of Independence and enjoy a beautiful day in Juneau Park\, Milwaukee with your family. Taste our Gouda Girls delicious food…Nordic Beer from Valhalla… Scandinavian Shopping… Music by John Lampi…and visit our REAL WORKING FINNISH SAUNA that has traveled over 10\,000 miles in America this year to tell the story of Finland’s hard fought freedom\, and to celebrate in Nordic communities. Join our FREE event and celebrate with us!! \nFinnish American Society of Milwaukee is on Facebook or our site is… http://finnishmilwaukee.com \nEmail: Lindaspensala@gmail.com for more information \nAnd join our membership today! \n
URL:https://urbanmilwaukee.com/event/suomi-100-centennial-traveling-sauna/
CATEGORIES:Arts & Entertainment
ATTACH;FMTTYPE=image/jpeg:https://urbanmilwaukee.com/wp-content/uploads/2017/05/Reach-2.jpg
END:VEVENT
BEGIN:VEVENT
DTSTART;TZID=America/Chicago:20170618T181500
DTEND;TZID=America/Chicago:20170618T211500
DTSTAMP:20260422T045238
CREATED:20170522T020724Z
LAST-MODIFIED:20170522T020724Z
UID:363044-1497809700-1497820500@urbanmilwaukee.com
SUMMARY:Iron Chef Milwaukee
DESCRIPTION:Guests will enjoy fabulous food from Milwaukee’s top chefs while looking out over awe inspiring Lake Michigan from Discovery World. Treat dad to an unforgettable Father’s Day experience where he can sample signature dishes from the best chefs around town in this one of a kind competition. \nAdvance purchase General Admission tickets for a 7:15 p.m. entry are $50 each\, or $60 the day of the event. A Special VIP early entry ticket and tasting at 6:15 p.m. is $75 per person in advance or $85 the day of. Food is included in ticket price. Cash bar. To purchase tickets\, become a participating Iron Chef or for sponsorship information\, visit www.IronChefMKE.com or call 414-744-3287 (vm). \n
URL:https://urbanmilwaukee.com/event/iron-chef-milwaukee/
CATEGORIES:Food & Drink
ATTACH;FMTTYPE=image/jpeg:https://urbanmilwaukee.com/wp-content/uploads/2017/05/991286763.jpeg
END:VEVENT
END:VCALENDAR