BEGIN:VCALENDAR
VERSION:2.0
PRODID:-//Urban Milwaukee - ECPv4.6.9//NONSGML v1.0//EN
CALSCALE:GREGORIAN
METHOD:PUBLISH
X-WR-CALNAME:Urban Milwaukee
X-ORIGINAL-URL:https://urbanmilwaukee.com
X-WR-CALDESC:Events for Urban Milwaukee
BEGIN:VEVENT
DTSTART;TZID=America/Chicago:20170615T163000
DTEND;TZID=America/Chicago:20170615T193000
DTSTAMP:20260422T092827
CREATED:20170531T220030Z
LAST-MODIFIED:20170531T220050Z
UID:364317-1497544200-1497555000@urbanmilwaukee.com
SUMMARY:A Time to Heal Author Talk with Economics Writer John Schmid
DESCRIPTION:For more than a year\, Milwaukee Journal Sentinel economics reporter John Schmid dug into some of Milwaukee’s most pressing social issues\, including poverty\, crime and unemployment. He did so through the lens of generational trauma. \nThe result of his groundbreaking research is a five-part series\, “A Time to Heal\,” which appeared on JSOnline. The depth and breadth of this story has left many of us wondering how to turn the tide. \nPlease join us for an author talk by John Schmid followed by a panel discussion. Local experts include: \nDr. Dimitri Topitzes\, Institute for Child and Family Well-Being\nJermaine Reed\, Fresh Start Family Services\, WNOV Radio\nMary Triggiano\, Milwaukee County Circuit Court Judge\nTim Grove\, Chief Clinical Officer at SaintA \nThursday\, June 15 (4:30 p.m. Welcome | 5 p.m. Start) Hilton Milwaukee City Center. Hosted by University of Wisconsin Milwaukee School of Continuing Education during their “Trauma in Our Community” conference. \nSpecial Discount Code for UWM Trauma Conference \nUWM School of Continuing Education appreciates your dedication to turning the tide on trauma through education and community building. \nUse Code TRAUMACON17 to register for Trauma in Our Community and get admittance to the two-day conference for $300 (normally $449). \n
URL:https://urbanmilwaukee.com/event/a-time-to-heal-author-talk-with-economics-writer-john-schmid/
CATEGORIES:Politics
ATTACH;FMTTYPE=image/jpeg:https://urbanmilwaukee.com/wp-content/uploads/2017/05/EmailHeader.jpg
END:VEVENT
END:VCALENDAR