BEGIN:VCALENDAR
VERSION:2.0
PRODID:-//Urban Milwaukee - ECPv4.6.9//NONSGML v1.0//EN
CALSCALE:GREGORIAN
METHOD:PUBLISH
X-WR-CALNAME:Urban Milwaukee
X-ORIGINAL-URL:https://urbanmilwaukee.com
X-WR-CALDESC:Events for Urban Milwaukee
BEGIN:VEVENT
DTSTART;TZID=America/Chicago:20170506T130000
DTEND;TZID=America/Chicago:20170506T180000
DTSTAMP:20260422T223428
CREATED:20170423T111356Z
LAST-MODIFIED:20170423T111407Z
UID:207656-1494075600-1494093600@urbanmilwaukee.com
SUMMARY:Maxie's 10th Derby Day Party
DESCRIPTION:We’re celebrating our 10th birthday with our biggest and best Derby Day yet! Join us for the 10th Annual Derby Day Party for Hunger Relief on Saturday\, May 6\, 2017. Doors open at 1 p.m.\, with a $15 admission\, which goes entirely to Hunger Task Force\, Inc. Race time is approximately 5:34 p.m. \nEnjoy a special menu\, drink specials\, a photo booth\, Best Dressed contests\, and live music by the Jackson Park Jazz Orchestra along with pre-race coverage throughout the restaurant and party tent leading up to the 143rd running of the Kentucky Derby. \n
URL:https://urbanmilwaukee.com/event/maxies-10th-derby-day-party/
CATEGORIES:Food & Drink
ATTACH;FMTTYPE=image/jpeg:https://urbanmilwaukee.com/wp-content/uploads/2017/04/Derby2017-03-03-03.jpg
END:VEVENT
BEGIN:VEVENT
DTSTART;TZID=America/Chicago:20170506T140000
DTEND;TZID=America/Chicago:20170506T180000
DTSTAMP:20260422T223428
CREATED:20170723T162223Z
LAST-MODIFIED:20170723T162223Z
UID:209614-1494079200-1494093600@urbanmilwaukee.com
SUMMARY:Kentucky Derby Party at the Monarch Lounge
DESCRIPTION:We’re off to the races! Monarch Lounge at the Hilton Milwaukee City Center\, located in downtown Milwaukee\, will be celebrating the 143rd Kentucky Derby with a party from 2:00 – 6:00 p.m. Saturday\, May 6th. During the Derby event\, the Hilton Milwaukee will offer photo opportunities with horses and Millie\, the Hilton’s seven-month-old canine concierge\, in 6th and Green\, the hotel’s outside courtyard. In addition to watching the races\, partygoers will be able to enjoy specialty derby cocktails\, such as the Triple Crown Collins and mint julep\, as well as a la carte food buffet. \n
URL:https://urbanmilwaukee.com/event/kentucky-derby-party-at-the-monarch-lounge/
CATEGORIES:Arts & Entertainment,Food & Drink
ATTACH;FMTTYPE=image/jpeg:https://urbanmilwaukee.com/wp-content/uploads/2017/05/HorsesDerbyParty.jpg
END:VEVENT
BEGIN:VEVENT
DTSTART;TZID=America/Chicago:20170506T150000
DTEND;TZID=America/Chicago:20170506T170000
DTSTAMP:20260422T223428
CREATED:20170227T233631Z
LAST-MODIFIED:20170501T214839Z
UID:201561-1494082800-1494090000@urbanmilwaukee.com
SUMMARY:Recycled Percussion
DESCRIPTION:Since Justin Spencer formed Recycled Percussion in 1995\, the band has been unstoppable. Their junk rock music became a national phenomenon week after week during their smash hit performances on America’s Got Talent in 2009. Playing over 4\,000 shows and over 400 corporate events in over 15 countries\, the group has also done guest appearances on “Carson Daly”\, “The Today Show”\, “China’s Got Talent” and the Latin Grammy Awards. After being featured on the cover of “USA Today” and being voted National Act of the Year a record-breaking six times\, the band gained world-wide recognition. \n
URL:https://urbanmilwaukee.com/event/recycled-percussion-2/
CATEGORIES:Arts & Entertainment
ATTACH;FMTTYPE=image/jpeg:https://urbanmilwaukee.com/wp-content/uploads/2017/02/recycled-percussion-show-detail.jpg
END:VEVENT
BEGIN:VEVENT
DTSTART;TZID=America/Chicago:20170506T193000
DTEND;TZID=America/Chicago:20170506T210000
DTSTAMP:20260422T223428
CREATED:20170227T233600Z
LAST-MODIFIED:20170501T214848Z
UID:201564-1494099000-1494104400@urbanmilwaukee.com
SUMMARY:Recycled Percussion
DESCRIPTION:Since Justin Spencer formed Recycled Percussion in 1995\, the band has been unstoppable. Their junk rock music became a national phenomenon week after week during their smash hit performances on America’s Got Talent in 2009. Playing over 4\,000 shows and over 400 corporate events in over 15 countries\, the group has also done guest appearances on “Carson Daly”\, “The Today Show”\, “China’s Got Talent” and the Latin Grammy Awards. After being featured on the cover of “USA Today” and being voted National Act of the Year a record-breaking six times\, the band gained world-wide recognition. \n
URL:https://urbanmilwaukee.com/event/recycled-percussion/
CATEGORIES:Arts & Entertainment
ATTACH;FMTTYPE=image/jpeg:https://urbanmilwaukee.com/wp-content/uploads/2017/02/recycled-percussion-show-detail-1.jpg
END:VEVENT
END:VCALENDAR