BEGIN:VCALENDAR
VERSION:2.0
PRODID:-//Urban Milwaukee - ECPv4.6.9//NONSGML v1.0//EN
CALSCALE:GREGORIAN
METHOD:PUBLISH
X-WR-CALNAME:Urban Milwaukee
X-ORIGINAL-URL:https://urbanmilwaukee.com
X-WR-CALDESC:Events for Urban Milwaukee
BEGIN:VEVENT
DTSTART;TZID=America/Chicago:20170423T140000
DTEND;TZID=America/Chicago:20170423T160000
DTSTAMP:20260422T013010
CREATED:20161114T153409Z
LAST-MODIFIED:20161114T153409Z
UID:190029-1492956000-1492963200@urbanmilwaukee.com
SUMMARY:The Violet Hour
DESCRIPTION:In 1919\, the dawn of the Jazz Age\, young John Pace Seavering opens his own publishing company in a cramped Manhattan office with the help of his tightly wound assistant Gidger. \nBut before John can publish his first book\, a strange machine of mysterious origin is delivered to the office. As Gidger suspiciously examines the bizarre contraption\, which has started ticking violently\, two would-be authors arrive. They are Dennis McCleary\, John’s best friend and a gifted novelist\, and Jessie Brewster\, a famed Jazz singer and John’s secret mistress\, who has written a tell-all memoir. \nWith only enough capital to produce one book\, John is caught between the two. But his struggle is cut short when the machine explodes shooting reams of paper all over the room. What’s written on these pages will throw John’s dreams and plans into disarray. THE VIOLET HOUR is a hilarious & heartfelt tale with a touch of magical realism. \n
URL:https://urbanmilwaukee.com/event/the-violet-hour-16/
LOCATION:158 N. Broadway\, Milwaukee\, WI\, 53202\, United States
CATEGORIES:Arts & Entertainment
ATTACH;FMTTYPE=image/jpeg:https://urbanmilwaukee.com/wp-content/uploads/2016/07/Violet-Hour.jpg
END:VEVENT
BEGIN:VEVENT
DTSTART;TZID=America/Chicago:20170423T140000
DTEND;TZID=America/Chicago:20170423T161500
DTSTAMP:20260422T013010
CREATED:20161122T041909Z
LAST-MODIFIED:20161122T041909Z
UID:190973-1492956000-1492964100@urbanmilwaukee.com
SUMMARY:Great Expectations
DESCRIPTION:by Charles Dickens; Adapted by Gale Childs Daly \nRunning Time: 2 hours:15 min \nCabot Theatre \nDirected by Molly Rhode \nFeaturing Andrew Crowe\, Jonathan Gillard Daly\, Karen Estrada\, Chike Johnson\, Josh Krause\, Deborah Staples and Zach Thomas Woods \nIn this literary gem\, Pip\, an orphan boy\, has a life-altering encounter one day on the moors when he helps an escaped convict named Magwitch. From this singular act of kindness\, Pip starts on a mysterious and disturbing journey to manhood that is full of twists and turns\, miraculously allowing him to advance in society while all of his great expectations seem to be coming true. Packed with curious and fascinating characters\, shadow and light\, Gale Childs Daly’s exceptional and bold reinvention of the classic Dickens novel is uncommonly tight and suspenseful – a fast-paced theatrical treat! \n
URL:https://urbanmilwaukee.com/event/great-expectations-12/
CATEGORIES:Arts & Entertainment
ATTACH;FMTTYPE=image/jpeg:https://urbanmilwaukee.com/wp-content/uploads/2016/08/Great-Expectations-Horizontal.jpg
END:VEVENT
BEGIN:VEVENT
DTSTART;TZID=America/Chicago:20170423T140000
DTEND;TZID=America/Chicago:20170423T150000
DTSTAMP:20260422T013010
CREATED:20170413T020451Z
LAST-MODIFIED:20170413T020451Z
UID:207105-1492956000-1492959600@urbanmilwaukee.com
SUMMARY:Music Under the Stars
DESCRIPTION:Dance and sing along with us as we explore the Middle Ages and Renaissance period with period instruments such as lutes\, recorders and viols. Music will be by Arcadelt\, Byrd\, Dowland\, Merulo\, and more. \n
URL:https://urbanmilwaukee.com/event/music-under-the-stars/
LOCATION:1900 E .Kenwood Blvd.\, Milwaukee\, WI\, 53211\, United States
CATEGORIES:Arts & Entertainment
ATTACH;FMTTYPE=image/png:https://urbanmilwaukee.com/wp-content/uploads/2017/04/temp.png
END:VEVENT
BEGIN:VEVENT
DTSTART;TZID=America/Chicago:20170423T150000
DTEND;TZID=America/Chicago:20170423T170000
DTSTAMP:20260422T013010
CREATED:20170104T200021Z
LAST-MODIFIED:20170104T200133Z
UID:195821-1492959600-1492966800@urbanmilwaukee.com
SUMMARY:Archaeology of Anglo-Saxon England: Urbanism and state formation in Anglo-Saxon England
DESCRIPTION:This lecture explores the archaeology of Anglo-Saxon England from the 5th to the 10th centuries CE. It examines the end of Roman Britain and the nature of the 5th and 6th century Early Anglo-Saxon settlements. It then explores the re-birth of urbanism in the late 7th century and the formation of the Anglo-Saxon kingdoms between the 7th and the 10th centuries. The Anglo-Saxon sites of West Stow\, Sutton Hoo\, Brandon\, Ipswich\, Hamwic (Middle Anglo-Saxon Southampton)\, and Winchester will be discussed in detail. \nPam Crabtree is Associate Professor of Anthropology at New York University\, and holds her degrees from the University of Pennsylvania (M.A. and Ph.D.) and Barnard College. Her fields of research are zooarchaeology\, Medieval archaeology (in particular Anglo Saxon archaeology)\, later Prehistoric Europe\, Near Eastern archaeology and prehistory. She has published widely\, and her current projects include Early Medieval Britain–The Rebirth of Towns in the Post-Roman West (Cambridge University Press\, in preparation). \n
URL:https://urbanmilwaukee.com/event/free-public-archaeology-lecture-the-archaeology-of-anglo-saxon-england-urbanism-and-state-formation-in-anglo-saxon-england/
CATEGORIES:Arts & Entertainment
ATTACH;FMTTYPE=image/jpeg:https://urbanmilwaukee.com/wp-content/uploads/2017/01/crabtree1.jpg
END:VEVENT
END:VCALENDAR