BEGIN:VCALENDAR
VERSION:2.0
PRODID:-//Urban Milwaukee - ECPv4.6.9//NONSGML v1.0//EN
CALSCALE:GREGORIAN
METHOD:PUBLISH
X-WR-CALNAME:Urban Milwaukee
X-ORIGINAL-URL:https://urbanmilwaukee.com
X-WR-CALDESC:Events for Urban Milwaukee
BEGIN:VEVENT
DTSTART;TZID=America/Chicago:20170420T180000
DTEND;TZID=America/Chicago:20170420T191500
DTSTAMP:20260421T202617
CREATED:20170420T230425Z
LAST-MODIFIED:20170420T230425Z
UID:208205-1492711200-1492715700@urbanmilwaukee.com
SUMMARY:Osher Distinguished Lecture Series: Rocky Marcoux
DESCRIPTION:Join Rocky Marcoux\, commissioner of the Department of City Development\, as he discusses new development in downtown Milwaukee\, projects in the neighborhoods\, and the symbiotic relationship between them. Hear what is being done\, the challenges\, how to move past them\, and how we help ourselves. \n
URL:https://urbanmilwaukee.com/event/osher-distinguished-lecture-series-rocky-marcoux/
CATEGORIES:Real Estate
ATTACH;FMTTYPE=image/jpeg:https://urbanmilwaukee.com/wp-content/uploads/2017/04/Marcoux-head-shot.jpg
END:VEVENT
BEGIN:VEVENT
DTSTART;TZID=America/Chicago:20170420T190000
DTEND;TZID=America/Chicago:20170420T233000
DTSTAMP:20260421T202617
CREATED:20170317T180624Z
LAST-MODIFIED:20170420T234903Z
UID:204310-1492714800-1492731000@urbanmilwaukee.com
SUMMARY:RAW: Milwaukee = Fashion + Music + Art + Performances
DESCRIPTION:Join us @ RAW: Milwaukee for a local creative explosion of film\, fashion\, music\, art\, performing art\, hair styling\, makeup artistry\, photography\, accessories and more. \nThe coolest thing you could do on a Thursday night! Over 60 artists feat. \nDoors @ 7:00 p.m. | $22 Pre-Sale | $30 Door | 21+ \nFor Tickets: https://www.rawartists.org/milwaukee/verse \n***Fashion Shows\n***Pop Up Art-Gallery\n***Short Film Screening\n***Live Music Performances\n***Installations\nand more … \n
URL:https://urbanmilwaukee.com/event/raw-milwaukee-fashion-music-art-performances/
CATEGORIES:Arts & Entertainment
ATTACH;FMTTYPE=image/png:https://urbanmilwaukee.com/wp-content/uploads/2017/03/art8-1.png
END:VEVENT
BEGIN:VEVENT
DTSTART;TZID=America/Chicago:20170420T190000
DTEND;TZID=America/Chicago:20170420T203000
DTSTAMP:20260421T202617
CREATED:20170324T143923Z
LAST-MODIFIED:20170418T233900Z
UID:203736-1492714800-1492720200@urbanmilwaukee.com
SUMMARY:Spirit and Nature -- A Reading and Conversation with Anishinaabe Poets
DESCRIPTION:Wisconsin Poet Laureate Kim Blaeser‘s work features ekphrastic poetry\, photography and picto-poems that intersect text and images inspired by Native American pictographs and ledger art. Blaeser will perform the poems\, visually present the art images and discuss examples of this creative project. The picto-poems blend her nature photography with poetry to explore ideas of Native place\, nature\, preservation and spiritual sustenance. \n
URL:https://urbanmilwaukee.com/event/spirit-and-nature-a-reading-and-conversation-with-anishinaabe-poets/
CATEGORIES:Arts & Entertainment
ATTACH;FMTTYPE=image/jpeg:https://urbanmilwaukee.com/wp-content/uploads/2017/03/Kimberly-Blaeser.jpg
END:VEVENT
BEGIN:VEVENT
DTSTART;TZID=America/Chicago:20170420T193000
DTEND;TZID=America/Chicago:20170420T213000
DTSTAMP:20260421T202617
CREATED:20161114T153200Z
LAST-MODIFIED:20161114T153200Z
UID:190026-1492716600-1492723800@urbanmilwaukee.com
SUMMARY:The Violet Hour
DESCRIPTION:In 1919\, the dawn of the Jazz Age\, young John Pace Seavering opens his own publishing company in a cramped Manhattan office with the help of his tightly wound assistant Gidger. \nBut before John can publish his first book\, a strange machine of mysterious origin is delivered to the office. As Gidger suspiciously examines the bizarre contraption\, which has started ticking violently\, two would-be authors arrive. They are Dennis McCleary\, John’s best friend and a gifted novelist\, and Jessie Brewster\, a famed Jazz singer and John’s secret mistress\, who has written a tell-all memoir. \nWith only enough capital to produce one book\, John is caught between the two. But his struggle is cut short when the machine explodes shooting reams of paper all over the room. What’s written on these pages will throw John’s dreams and plans into disarray. THE VIOLET HOUR is a hilarious & heartfelt tale with a touch of magical realism. \n
URL:https://urbanmilwaukee.com/event/the-violet-hour-13/
LOCATION:158 N. Broadway\, Milwaukee\, WI\, 53202\, United States
CATEGORIES:Arts & Entertainment
ATTACH;FMTTYPE=image/jpeg:https://urbanmilwaukee.com/wp-content/uploads/2016/07/Violet-Hour.jpg
END:VEVENT
BEGIN:VEVENT
DTSTART;TZID=America/Chicago:20170420T193000
DTEND;TZID=America/Chicago:20170420T214500
DTSTAMP:20260421T202617
CREATED:20161122T041248Z
LAST-MODIFIED:20161122T041248Z
UID:190968-1492716600-1492724700@urbanmilwaukee.com
SUMMARY:Great Expectations
DESCRIPTION:by Charles Dickens; Adapted by Gale Childs Daly \nRunning Time: 2 hours:15 min \nCabot Theatre \nDirected by Molly Rhode \nFeaturing Andrew Crowe\, Jonathan Gillard Daly\, Karen Estrada\, Chike Johnson\, Josh Krause\, Deborah Staples and Zach Thomas Woods \nIn this literary gem\, Pip\, an orphan boy\, has a life-altering encounter one day on the moors when he helps an escaped convict named Magwitch. From this singular act of kindness\, Pip starts on a mysterious and disturbing journey to manhood that is full of twists and turns\, miraculously allowing him to advance in society while all of his great expectations seem to be coming true. Packed with curious and fascinating characters\, shadow and light\, Gale Childs Daly’s exceptional and bold reinvention of the classic Dickens novel is uncommonly tight and suspenseful – a fast-paced theatrical treat! \n
URL:https://urbanmilwaukee.com/event/great-expectations-7/
CATEGORIES:Arts & Entertainment
ATTACH;FMTTYPE=image/jpeg:https://urbanmilwaukee.com/wp-content/uploads/2016/08/Great-Expectations-Horizontal.jpg
END:VEVENT
END:VCALENDAR